BEGIN:VCALENDAR
VERSION:2.0
PRODID:-//Creatively United Community - ECPv6.15.18//NONSGML v1.0//EN
CALSCALE:GREGORIAN
METHOD:PUBLISH
X-WR-CALNAME:Creatively United Community
X-ORIGINAL-URL:https://creativelyunited.org
X-WR-CALDESC:Events for Creatively United Community
REFRESH-INTERVAL;VALUE=DURATION:PT1H
X-Robots-Tag:noindex
X-PUBLISHED-TTL:PT1H
BEGIN:VTIMEZONE
TZID:America/Vancouver
BEGIN:DAYLIGHT
TZOFFSETFROM:-0800
TZOFFSETTO:-0700
TZNAME:PDT
DTSTART:20250309T100000
END:DAYLIGHT
BEGIN:STANDARD
TZOFFSETFROM:-0700
TZOFFSETTO:-0800
TZNAME:PST
DTSTART:20251102T090000
END:STANDARD
BEGIN:DAYLIGHT
TZOFFSETFROM:-0800
TZOFFSETTO:-0700
TZNAME:PDT
DTSTART:20260308T100000
END:DAYLIGHT
BEGIN:STANDARD
TZOFFSETFROM:-0700
TZOFFSETTO:-0800
TZNAME:PST
DTSTART:20261101T090000
END:STANDARD
BEGIN:DAYLIGHT
TZOFFSETFROM:-0800
TZOFFSETTO:-0700
TZNAME:PDT
DTSTART:20270314T100000
END:DAYLIGHT
BEGIN:STANDARD
TZOFFSETFROM:-0700
TZOFFSETTO:-0800
TZNAME:PST
DTSTART:20271107T090000
END:STANDARD
END:VTIMEZONE
BEGIN:VEVENT
DTSTART;TZID=America/Vancouver:20260423T090000
DTEND;TZID=America/Vancouver:20260423T103000
DTSTAMP:20260423T072430
CREATED:20260416T223948Z
LAST-MODIFIED:20260416T223948Z
UID:10010530-1776934800-1776940200@creativelyunited.org
SUMMARY:How to Break the Climate Silence
DESCRIPTION:Join Re.Climate for our latest webinar “How to break the climate silence.” \nCanadians aren’t sharing their concerns or questions about climate change with each other. To talk through how we can change that\, Re.Climate has invited four panellists who are having climate conversations every day. \nThey’ll offer practical advice for how to talk to elected officials\, how to bring up climate solutions throughout your daily life\, and what stories break through the noise on social media. \nAttendees will get early access to the full guide\, “Four Steps to Break the Spiral of Silence: A User’s Guide for Communicating Climate Change and Solutions\,” with case studies\, language tips and tested approaches and narratives you can use right away. \nPlease note that this webinar will be conducted in English. For more information\, please contact ghadah@reclimate.ca
URL:https://creativelyunited.org/event/how-to-break-the-climate-silence/
LOCATION:On Zoom
ATTACH;FMTTYPE=image/jpeg:https://creativelyunited.org/wp-content/uploads/2026/04/Screenshot-2026-04-16-153837.jpg
END:VEVENT
BEGIN:VEVENT
DTSTART;TZID=America/Vancouver:20260423T090000
DTEND;TZID=America/Vancouver:20260423T170000
DTSTAMP:20260423T072430
CREATED:20260316T170355Z
LAST-MODIFIED:20260316T170355Z
UID:10010061-1776934800-1776963600@creativelyunited.org
SUMMARY:Connecting Art\, Land\, and Responsibility: Gathering Medicine Symposium
DESCRIPTION:Gathering Medicine is a three-day immersive symposium that invites arts and culture workers to engage with Knowledge Holders guiding Vines’ work over the past decade. Participants will explore how to move from intention and policy into living practices that honor balance\, intergenerational care\, and accountability. \nThrough panels\, workshops\, and land-based practices\, the symposium addresses questions of relational responsibility\, ethical cultural work\, and sustainability. Sessions include discussions on refusing neutrality in creative practice\, transforming policy into regenerative practice\, and hands-on workshops in cedar weaving\, tea-making\, and traditional song. \nAttendees will learn from Elders\, Knowledge Holders\, and facilitators including Mary Point\, SF Ho\, Star Trickey\, Thelma and Smitty Stogan\, and other Indigenous practitioners\, grounding cultural practice in lived\, ancestral knowledge. \nWhen: April 9–11\, 2026\nWhere: Vines Den\, 825 E Hastings St
URL:https://creativelyunited.org/event/connecting-art-land-and-responsibility-gathering-medicine-symposium/2026-04-23/
LOCATION:BC
ATTACH;FMTTYPE=image/jpeg:https://creativelyunited.org/wp-content/uploads/2026/03/Screenshot-2026-03-16-095914.jpg
END:VEVENT
BEGIN:VEVENT
DTSTART;TZID=America/Vancouver:20260423T110000
DTEND;TZID=America/Vancouver:20260423T140000
DTSTAMP:20260423T072430
CREATED:20250613T003401Z
LAST-MODIFIED:20250613T003401Z
UID:10007036-1776942000-1776952800@creativelyunited.org
SUMMARY:Ross Bay Villa Historic House and Garden Tours
DESCRIPTION:  \n“Journey back in time at Ross Bay Villa Historic House Museum\, a volunteer-led museum and restoration project located in Fairfield. On Thursdays and Fridays at 11AM and 1PM\, or Saturdays at 2PM\, walk down the path past heritage apple trees and beautiful gardens\, and step into one of only a few 1860s houses still standing in Victoria. From the bright and airy drawing room to the charming children’s bedroom\, the house has been restored with extraordinary care to appear as it did when the Roscoe family called it home.  \n  \nAdmission is $7.50 per person. Reservations preferred in advance at https://tinyurl.com/RossBayVillaTours. All funds support the volunteer-based Ross Bay Villa Society\, which owns and operates Ross Bay Villa. \n  \nDrop in a little early for your Saturday tour for our Gift Shop In the Garden\, a unique vintage store with everything from clothing and books to fine china and unexpected treasures. Stop by between 10-2\, and find something special! Please note this outdoor event is weather dependent\, and donations of gently used household items are gratefully accepted.” \n  \nPlease let me know if you have any questions. Thank you for your time.  \n  \n  \n 
URL:https://creativelyunited.org/event/ross-bay-villa-historic-house-and-garden-tours/2026-04-23/
LOCATION:Ross Bay Villa Historic House Museum\, 1490 Fairfield Road\, Victoria\, V8S 1E8
ORGANIZER;CN="Ross Bay Villa Historic House Museum":MAILTO:info@rossbayvilla.org
GEO:48.4119477;-123.3418228
X-APPLE-STRUCTURED-LOCATION;VALUE=URI;X-ADDRESS=Ross Bay Villa Historic House Museum 1490 Fairfield Road Victoria V8S 1E8;X-APPLE-RADIUS=500;X-TITLE=1490 Fairfield Road:geo:-123.3418228,48.4119477
END:VEVENT
END:VCALENDAR