BEGIN:VCALENDAR
VERSION:2.0
PRODID:-//Creatively United Community - ECPv6.15.18//NONSGML v1.0//EN
CALSCALE:GREGORIAN
METHOD:PUBLISH
X-WR-CALNAME:Creatively United Community
X-ORIGINAL-URL:https://creativelyunited.org
X-WR-CALDESC:Events for Creatively United Community
REFRESH-INTERVAL;VALUE=DURATION:PT1H
X-Robots-Tag:noindex
X-PUBLISHED-TTL:PT1H
BEGIN:VTIMEZONE
TZID:America/Vancouver
BEGIN:DAYLIGHT
TZOFFSETFROM:-0800
TZOFFSETTO:-0700
TZNAME:PDT
DTSTART:20250309T100000
END:DAYLIGHT
BEGIN:STANDARD
TZOFFSETFROM:-0700
TZOFFSETTO:-0800
TZNAME:PST
DTSTART:20251102T090000
END:STANDARD
BEGIN:DAYLIGHT
TZOFFSETFROM:-0800
TZOFFSETTO:-0700
TZNAME:PDT
DTSTART:20260308T100000
END:DAYLIGHT
BEGIN:STANDARD
TZOFFSETFROM:-0700
TZOFFSETTO:-0800
TZNAME:PST
DTSTART:20261101T090000
END:STANDARD
BEGIN:DAYLIGHT
TZOFFSETFROM:-0800
TZOFFSETTO:-0700
TZNAME:PDT
DTSTART:20270314T100000
END:DAYLIGHT
BEGIN:STANDARD
TZOFFSETFROM:-0700
TZOFFSETTO:-0800
TZNAME:PST
DTSTART:20271107T090000
END:STANDARD
END:VTIMEZONE
BEGIN:VEVENT
DTSTART;TZID=America/Vancouver:20260509T140000
DTEND;TZID=America/Vancouver:20260509T163000
DTSTAMP:20260424T061311
CREATED:20260210T000402Z
LAST-MODIFIED:20260210T000402Z
UID:10009776-1778335200-1778344200@creativelyunited.org
SUMMARY:The Gondoliers
DESCRIPTION:The Gondoliers\, or The King of Barataria\, is a Savoy Opera\, with music by Arthur Sullivan and libretto by W. S. Gilbert. It premiered at the Savoy Theatre in London on 7 December 1889 and ran for a very successful 554 performances (at that time the fifth longest-running piece of musical theatre in history)\, closing on 30 June 1891. This was the twelfth comic opera collaboration of fourteen between Gilbert and Sullivan. \nThe story of the opera concerns brothers Marco and Giuseppe Palmieri\, a pair of Venetian gondoliers who are told that one of them is heir to the throne of the fictional kingdom of Barataria; until it can be discovered by the Grand Inquisitor which of them is the heir\, they must rule jointly. Unbeknownst to the brothers\, who have just married Venetian girls\, the heir was wed in infancy to the daughter of the Spanish Duke of Plaza-Toro\, who is herself in love with her father’s servant. A subplot concerns the impoverished Duke attempting to improve his finances by turning himself into a limited liability company. \nJoin us for an evening of song\, dance and humour such that only the operas of Gilbert and Sullivan can provide. \nMusical direction by Peter Butterfield and stage direction by Rachel Moss. \nThere are two shows at Dave Dunnet Theatre: https://www.eventbrite.ca/e/the-gondoliers-presented-by-the-victoria-gilbert-sullivan-society-tickets-1840610969959 \nThere are also two shows at the Charlie White Theatre\, Mary Winspear Centre: https://marywinspear.ca/events-and-programs/the-gondaliers/?srsltid=AfmBOoo-nHe8Su7T8ajd73LtNpQ8TSWaxpG19lH-q_yZcZKPVcWp5Q-W \nPhone: 250-656-0275. Email: info@marywinspear.ca. \nBox Office. Mon – Fri 9:30am – 5:00pm. \nGreat gifts for those G&S fans you love!
URL:https://creativelyunited.org/event/the-gondoliers/2026-05-09/1/
LOCATION:Dave Dunnet Community Theatre\, 2121 Cadboro Bay Road\, Victoria\, V8R 5G8
ORGANIZER;CN="Victoria Gilbert and Sullivan Society":MAILTO:lindyloowho@hotmail.com
GEO:48.4328991;-123.3182134
X-APPLE-STRUCTURED-LOCATION;VALUE=URI;X-ADDRESS=Dave Dunnet Community Theatre 2121 Cadboro Bay Road Victoria V8R 5G8;X-APPLE-RADIUS=500;X-TITLE=2121 Cadboro Bay Road:geo:-123.3182134,48.4328991
END:VEVENT
BEGIN:VEVENT
DTSTART;TZID=America/Vancouver:20260509T193000
DTEND;TZID=America/Vancouver:20260509T220000
DTSTAMP:20260424T061311
CREATED:20260210T000402Z
LAST-MODIFIED:20260210T000402Z
UID:10009777-1778355000-1778364000@creativelyunited.org
SUMMARY:The Gondoliers
DESCRIPTION:The Gondoliers\, or The King of Barataria\, is a Savoy Opera\, with music by Arthur Sullivan and libretto by W. S. Gilbert. It premiered at the Savoy Theatre in London on 7 December 1889 and ran for a very successful 554 performances (at that time the fifth longest-running piece of musical theatre in history)\, closing on 30 June 1891. This was the twelfth comic opera collaboration of fourteen between Gilbert and Sullivan. \nThe story of the opera concerns brothers Marco and Giuseppe Palmieri\, a pair of Venetian gondoliers who are told that one of them is heir to the throne of the fictional kingdom of Barataria; until it can be discovered by the Grand Inquisitor which of them is the heir\, they must rule jointly. Unbeknownst to the brothers\, who have just married Venetian girls\, the heir was wed in infancy to the daughter of the Spanish Duke of Plaza-Toro\, who is herself in love with her father’s servant. A subplot concerns the impoverished Duke attempting to improve his finances by turning himself into a limited liability company. \nJoin us for an evening of song\, dance and humour such that only the operas of Gilbert and Sullivan can provide. \nMusical direction by Peter Butterfield and stage direction by Rachel Moss. \nThere are two shows at Dave Dunnet Theatre: https://www.eventbrite.ca/e/the-gondoliers-presented-by-the-victoria-gilbert-sullivan-society-tickets-1840610969959 \nThere are also two shows at the Charlie White Theatre\, Mary Winspear Centre: https://marywinspear.ca/events-and-programs/the-gondaliers/?srsltid=AfmBOoo-nHe8Su7T8ajd73LtNpQ8TSWaxpG19lH-q_yZcZKPVcWp5Q-W \nPhone: 250-656-0275. Email: info@marywinspear.ca. \nBox Office. Mon – Fri 9:30am – 5:00pm. \nGreat gifts for those G&S fans you love!
URL:https://creativelyunited.org/event/the-gondoliers/2026-05-09/2/
LOCATION:Dave Dunnet Community Theatre\, 2121 Cadboro Bay Road\, Victoria\, V8R 5G8
ORGANIZER;CN="Victoria Gilbert and Sullivan Society":MAILTO:lindyloowho@hotmail.com
GEO:48.4328991;-123.3182134
X-APPLE-STRUCTURED-LOCATION;VALUE=URI;X-ADDRESS=Dave Dunnet Community Theatre 2121 Cadboro Bay Road Victoria V8R 5G8;X-APPLE-RADIUS=500;X-TITLE=2121 Cadboro Bay Road:geo:-123.3182134,48.4328991
END:VEVENT
BEGIN:VEVENT
DTSTART;TZID=America/Vancouver:20260510T140000
DTEND;TZID=America/Vancouver:20260510T163000
DTSTAMP:20260424T061311
CREATED:20260210T000402Z
LAST-MODIFIED:20260210T000402Z
UID:10009778-1778421600-1778430600@creativelyunited.org
SUMMARY:The Gondoliers
DESCRIPTION:The Gondoliers\, or The King of Barataria\, is a Savoy Opera\, with music by Arthur Sullivan and libretto by W. S. Gilbert. It premiered at the Savoy Theatre in London on 7 December 1889 and ran for a very successful 554 performances (at that time the fifth longest-running piece of musical theatre in history)\, closing on 30 June 1891. This was the twelfth comic opera collaboration of fourteen between Gilbert and Sullivan. \nThe story of the opera concerns brothers Marco and Giuseppe Palmieri\, a pair of Venetian gondoliers who are told that one of them is heir to the throne of the fictional kingdom of Barataria; until it can be discovered by the Grand Inquisitor which of them is the heir\, they must rule jointly. Unbeknownst to the brothers\, who have just married Venetian girls\, the heir was wed in infancy to the daughter of the Spanish Duke of Plaza-Toro\, who is herself in love with her father’s servant. A subplot concerns the impoverished Duke attempting to improve his finances by turning himself into a limited liability company. \nJoin us for an evening of song\, dance and humour such that only the operas of Gilbert and Sullivan can provide. \nMusical direction by Peter Butterfield and stage direction by Rachel Moss. \nThere are two shows at Dave Dunnet Theatre: https://www.eventbrite.ca/e/the-gondoliers-presented-by-the-victoria-gilbert-sullivan-society-tickets-1840610969959 \nThere are also two shows at the Charlie White Theatre\, Mary Winspear Centre: https://marywinspear.ca/events-and-programs/the-gondaliers/?srsltid=AfmBOoo-nHe8Su7T8ajd73LtNpQ8TSWaxpG19lH-q_yZcZKPVcWp5Q-W \nPhone: 250-656-0275. Email: info@marywinspear.ca. \nBox Office. Mon – Fri 9:30am – 5:00pm. \nGreat gifts for those G&S fans you love!
URL:https://creativelyunited.org/event/the-gondoliers/2026-05-10/
LOCATION:Dave Dunnet Community Theatre\, 2121 Cadboro Bay Road\, Victoria\, V8R 5G8
ORGANIZER;CN="Victoria Gilbert and Sullivan Society":MAILTO:lindyloowho@hotmail.com
GEO:48.4328991;-123.3182134
X-APPLE-STRUCTURED-LOCATION;VALUE=URI;X-ADDRESS=Dave Dunnet Community Theatre 2121 Cadboro Bay Road Victoria V8R 5G8;X-APPLE-RADIUS=500;X-TITLE=2121 Cadboro Bay Road:geo:-123.3182134,48.4328991
END:VEVENT
BEGIN:VEVENT
DTSTART;TZID=America/Vancouver:20260516T140000
DTEND;TZID=America/Vancouver:20260516T163000
DTSTAMP:20260424T061311
CREATED:20260210T000402Z
LAST-MODIFIED:20260210T000402Z
UID:10009779-1778940000-1778949000@creativelyunited.org
SUMMARY:The Gondoliers
DESCRIPTION:The Gondoliers\, or The King of Barataria\, is a Savoy Opera\, with music by Arthur Sullivan and libretto by W. S. Gilbert. It premiered at the Savoy Theatre in London on 7 December 1889 and ran for a very successful 554 performances (at that time the fifth longest-running piece of musical theatre in history)\, closing on 30 June 1891. This was the twelfth comic opera collaboration of fourteen between Gilbert and Sullivan. \nThe story of the opera concerns brothers Marco and Giuseppe Palmieri\, a pair of Venetian gondoliers who are told that one of them is heir to the throne of the fictional kingdom of Barataria; until it can be discovered by the Grand Inquisitor which of them is the heir\, they must rule jointly. Unbeknownst to the brothers\, who have just married Venetian girls\, the heir was wed in infancy to the daughter of the Spanish Duke of Plaza-Toro\, who is herself in love with her father’s servant. A subplot concerns the impoverished Duke attempting to improve his finances by turning himself into a limited liability company. \nJoin us for an evening of song\, dance and humour such that only the operas of Gilbert and Sullivan can provide. \nMusical direction by Peter Butterfield and stage direction by Rachel Moss. \nThere are two shows at Dave Dunnet Theatre: https://www.eventbrite.ca/e/the-gondoliers-presented-by-the-victoria-gilbert-sullivan-society-tickets-1840610969959 \nThere are also two shows at the Charlie White Theatre\, Mary Winspear Centre: https://marywinspear.ca/events-and-programs/the-gondaliers/?srsltid=AfmBOoo-nHe8Su7T8ajd73LtNpQ8TSWaxpG19lH-q_yZcZKPVcWp5Q-W \nPhone: 250-656-0275. Email: info@marywinspear.ca. \nBox Office. Mon – Fri 9:30am – 5:00pm. \nGreat gifts for those G&S fans you love!
URL:https://creativelyunited.org/event/the-gondoliers/2026-05-16/
LOCATION:Dave Dunnet Community Theatre\, 2121 Cadboro Bay Road\, Victoria\, V8R 5G8
ORGANIZER;CN="Victoria Gilbert and Sullivan Society":MAILTO:lindyloowho@hotmail.com
GEO:48.4328991;-123.3182134
X-APPLE-STRUCTURED-LOCATION;VALUE=URI;X-ADDRESS=Dave Dunnet Community Theatre 2121 Cadboro Bay Road Victoria V8R 5G8;X-APPLE-RADIUS=500;X-TITLE=2121 Cadboro Bay Road:geo:-123.3182134,48.4328991
END:VEVENT
END:VCALENDAR