BEGIN:VCALENDAR
VERSION:2.0
PRODID:-//Creatively United Community - ECPv6.15.18//NONSGML v1.0//EN
CALSCALE:GREGORIAN
METHOD:PUBLISH
X-WR-CALNAME:Creatively United Community
X-ORIGINAL-URL:https://creativelyunited.org
X-WR-CALDESC:Events for Creatively United Community
REFRESH-INTERVAL;VALUE=DURATION:PT1H
X-Robots-Tag:noindex
X-PUBLISHED-TTL:PT1H
BEGIN:VTIMEZONE
TZID:America/Vancouver
BEGIN:DAYLIGHT
TZOFFSETFROM:-0800
TZOFFSETTO:-0700
TZNAME:PDT
DTSTART:20250309T100000
END:DAYLIGHT
BEGIN:STANDARD
TZOFFSETFROM:-0700
TZOFFSETTO:-0800
TZNAME:PST
DTSTART:20251102T090000
END:STANDARD
BEGIN:DAYLIGHT
TZOFFSETFROM:-0800
TZOFFSETTO:-0700
TZNAME:PDT
DTSTART:20260308T100000
END:DAYLIGHT
BEGIN:STANDARD
TZOFFSETFROM:-0700
TZOFFSETTO:-0800
TZNAME:PST
DTSTART:20261101T090000
END:STANDARD
BEGIN:DAYLIGHT
TZOFFSETFROM:-0800
TZOFFSETTO:-0700
TZNAME:PDT
DTSTART:20270314T100000
END:DAYLIGHT
BEGIN:STANDARD
TZOFFSETFROM:-0700
TZOFFSETTO:-0800
TZNAME:PST
DTSTART:20271107T090000
END:STANDARD
END:VTIMEZONE
BEGIN:VEVENT
DTSTART;TZID=America/Vancouver:20260620T080000
DTEND;TZID=America/Vancouver:20260620T170000
DTSTAMP:20260423T173346
CREATED:20260403T204027Z
LAST-MODIFIED:20260403T204027Z
UID:10010485-1781942400-1781974800@creativelyunited.org
SUMMARY:Cedar Summer Witches Market
DESCRIPTION:Join us for a magick-filled summer market featuring talented witches\, makers & mystics!\n2026 CEDAR SUMMER WITCHES MARKETSaturday\, June 20 & Sunday\, June 21\, 2026 (10am to 4pm)\nSaturday\, June 27 & Sunday\, June 28\, 2026 (10am to 4pm)Cedar Community Hall\, 2388 Cedar Road\, NanaimoFree Admission! Witchy Swag Bags First 30 Guests!
URL:https://creativelyunited.org/event/cedar-summer-witches-market/2026-06-20/1/
LOCATION:Cedar Community Hall\, 2388 Cedar Rd\, Victoria\, British Columbia\, V9X 1K3\, Canada
ATTACH;FMTTYPE=image/jpeg:https://creativelyunited.org/wp-content/uploads/2026/04/Shaman-Witch-With-Herbs-2.jpg
ORGANIZER;CN="Events by L.A.":MAILTO:eventsbyla@hotmail.com
GEO:49.0870446;-123.8501188
X-APPLE-STRUCTURED-LOCATION;VALUE=URI;X-ADDRESS=Cedar Community Hall 2388 Cedar Rd Victoria British Columbia V9X 1K3 Canada;X-APPLE-RADIUS=500;X-TITLE=2388 Cedar Rd:geo:-123.8501188,49.0870446
END:VEVENT
BEGIN:VEVENT
DTSTART;TZID=America/Vancouver:20260620T100000
DTEND;TZID=America/Vancouver:20260621T160000
DTSTAMP:20260423T173346
CREATED:20260403T204027Z
LAST-MODIFIED:20260403T204027Z
UID:10010486-1781949600-1782057600@creativelyunited.org
SUMMARY:Cedar Summer Witches Market
DESCRIPTION:Join us for a magick-filled summer market featuring talented witches\, makers & mystics!\n2026 CEDAR SUMMER WITCHES MARKETSaturday\, June 20 & Sunday\, June 21\, 2026 (10am to 4pm)\nSaturday\, June 27 & Sunday\, June 28\, 2026 (10am to 4pm)Cedar Community Hall\, 2388 Cedar Road\, NanaimoFree Admission! Witchy Swag Bags First 30 Guests!
URL:https://creativelyunited.org/event/cedar-summer-witches-market/2026-06-20/2/
LOCATION:Cedar Community Hall\, 2388 Cedar Rd\, Victoria\, British Columbia\, V9X 1K3\, Canada
ATTACH;FMTTYPE=image/jpeg:https://creativelyunited.org/wp-content/uploads/2026/04/Shaman-Witch-With-Herbs-2.jpg
ORGANIZER;CN="Events by L.A.":MAILTO:eventsbyla@hotmail.com
GEO:49.0870446;-123.8501188
X-APPLE-STRUCTURED-LOCATION;VALUE=URI;X-ADDRESS=Cedar Community Hall 2388 Cedar Rd Victoria British Columbia V9X 1K3 Canada;X-APPLE-RADIUS=500;X-TITLE=2388 Cedar Rd:geo:-123.8501188,49.0870446
END:VEVENT
END:VCALENDAR