BEGIN:VCALENDAR
VERSION:2.0
PRODID:-//Creatively United Community - ECPv6.15.18//NONSGML v1.0//EN
CALSCALE:GREGORIAN
METHOD:PUBLISH
X-WR-CALNAME:Creatively United Community
X-ORIGINAL-URL:https://creativelyunited.org
X-WR-CALDESC:Events for Creatively United Community
REFRESH-INTERVAL;VALUE=DURATION:PT1H
X-Robots-Tag:noindex
X-PUBLISHED-TTL:PT1H
BEGIN:VTIMEZONE
TZID:America/Vancouver
BEGIN:DAYLIGHT
TZOFFSETFROM:-0800
TZOFFSETTO:-0700
TZNAME:PDT
DTSTART:20250309T100000
END:DAYLIGHT
BEGIN:STANDARD
TZOFFSETFROM:-0700
TZOFFSETTO:-0800
TZNAME:PST
DTSTART:20251102T090000
END:STANDARD
BEGIN:DAYLIGHT
TZOFFSETFROM:-0800
TZOFFSETTO:-0700
TZNAME:PDT
DTSTART:20260308T100000
END:DAYLIGHT
BEGIN:STANDARD
TZOFFSETFROM:-0700
TZOFFSETTO:-0800
TZNAME:PST
DTSTART:20261101T090000
END:STANDARD
BEGIN:DAYLIGHT
TZOFFSETFROM:-0800
TZOFFSETTO:-0700
TZNAME:PDT
DTSTART:20270314T100000
END:DAYLIGHT
BEGIN:STANDARD
TZOFFSETFROM:-0700
TZOFFSETTO:-0800
TZNAME:PST
DTSTART:20271107T090000
END:STANDARD
END:VTIMEZONE
BEGIN:VEVENT
DTSTART;TZID=America/Vancouver:20260502T080000
DTEND;TZID=America/Vancouver:20260502T170000
DTSTAMP:20260423T105406
CREATED:20260409T002615Z
LAST-MODIFIED:20260409T002615Z
UID:10010504-1777708800-1777741200@creativelyunited.org
SUMMARY:The Allegra Singers Spring Concert
DESCRIPTION:The Allegra Singers in Concert \nBeautiful music. Fun songs. Rhythms that stir your soul. Music that brings back memories. Join The Allegra Singers as they perform a wonderful blend of favourites – classic rock (Simon & Garfunkel’s “Bridge Over Troubled Water”\, Joni Mitchell’s “Big Yellow Taxi”)\, show tunes (“Over the Rainbow”)\, gospel\, Canadiana\, and lots more! \nThe Allegra Singers will inspire you\, move you\, soothe you and entertain you. If you’ve never seen the Allegra Singers you’re in for a treat! \nTickets\, more info at https://allegrasingers.ca
URL:https://creativelyunited.org/event/the-allegra-singers-spring-concert/2026-05-02/1/
LOCATION:Unitarian Universalist Community of Victoria\, 5525 West Saanich Rd\, Victoria\, V9E 2G1
ATTACH;FMTTYPE=image/png:https://creativelyunited.org/wp-content/uploads/2026/04/2026-Spring-Poster.png
ORGANIZER;CN="Allegra Singers":MAILTO:outreach@allegrasingers.com
END:VEVENT
BEGIN:VEVENT
DTSTART;TZID=America/Vancouver:20260502T140000
DTEND;TZID=America/Vancouver:20260502T163000
DTSTAMP:20260423T105406
CREATED:20260409T002615Z
LAST-MODIFIED:20260409T002615Z
UID:10010505-1777730400-1777739400@creativelyunited.org
SUMMARY:The Allegra Singers Spring Concert
DESCRIPTION:The Allegra Singers in Concert \nBeautiful music. Fun songs. Rhythms that stir your soul. Music that brings back memories. Join The Allegra Singers as they perform a wonderful blend of favourites – classic rock (Simon & Garfunkel’s “Bridge Over Troubled Water”\, Joni Mitchell’s “Big Yellow Taxi”)\, show tunes (“Over the Rainbow”)\, gospel\, Canadiana\, and lots more! \nThe Allegra Singers will inspire you\, move you\, soothe you and entertain you. If you’ve never seen the Allegra Singers you’re in for a treat! \nTickets\, more info at https://allegrasingers.ca
URL:https://creativelyunited.org/event/the-allegra-singers-spring-concert/2026-05-02/2/
LOCATION:Unitarian Universalist Community of Victoria\, 5525 West Saanich Rd\, Victoria\, V9E 2G1
ATTACH;FMTTYPE=image/png:https://creativelyunited.org/wp-content/uploads/2026/04/2026-Spring-Poster.png
ORGANIZER;CN="Allegra Singers":MAILTO:outreach@allegrasingers.com
END:VEVENT
END:VCALENDAR