BEGIN:VCALENDAR
VERSION:2.0
PRODID:-//Creatively United Community - ECPv6.15.18//NONSGML v1.0//EN
CALSCALE:GREGORIAN
METHOD:PUBLISH
X-WR-CALNAME:Creatively United Community
X-ORIGINAL-URL:https://creativelyunited.org
X-WR-CALDESC:Events for Creatively United Community
REFRESH-INTERVAL;VALUE=DURATION:PT1H
X-Robots-Tag:noindex
X-PUBLISHED-TTL:PT1H
BEGIN:VTIMEZONE
TZID:America/Vancouver
BEGIN:DAYLIGHT
TZOFFSETFROM:-0800
TZOFFSETTO:-0700
TZNAME:PDT
DTSTART:20250309T100000
END:DAYLIGHT
BEGIN:STANDARD
TZOFFSETFROM:-0700
TZOFFSETTO:-0800
TZNAME:PST
DTSTART:20251102T090000
END:STANDARD
BEGIN:DAYLIGHT
TZOFFSETFROM:-0800
TZOFFSETTO:-0700
TZNAME:PDT
DTSTART:20260308T100000
END:DAYLIGHT
BEGIN:STANDARD
TZOFFSETFROM:-0700
TZOFFSETTO:-0800
TZNAME:PST
DTSTART:20261101T090000
END:STANDARD
BEGIN:DAYLIGHT
TZOFFSETFROM:-0800
TZOFFSETTO:-0700
TZNAME:PDT
DTSTART:20270314T100000
END:DAYLIGHT
BEGIN:STANDARD
TZOFFSETFROM:-0700
TZOFFSETTO:-0800
TZNAME:PST
DTSTART:20271107T090000
END:STANDARD
END:VTIMEZONE
BEGIN:VEVENT
DTSTART;TZID=America/Vancouver:20260507T190000
DTEND;TZID=America/Vancouver:20260507T203000
DTSTAMP:20260423T123833
CREATED:20260413T161646Z
LAST-MODIFIED:20260413T161646Z
UID:10010513-1778180400-1778185800@creativelyunited.org
SUMMARY:Drum Therapy
DESCRIPTION:Drum therapy uses the drum as a tool for nervous system regulation and self-discovery. This Foundational Series introduces you to shared\, collective experiences of drumming\, personal inquiry\, interpersonal witnessing\, and healing growth. \nMaximum 5 participants.  Thursday evenings in May in Victoria.  Hand drums are provided. \nThis isn’t a drum lesson or drum jam.  It’s a circle of connection\, exploration\, and support facilitated by a Registered Clinical Counsellor.
URL:https://creativelyunited.org/event/drum-therapy/2026-05-07/
ATTACH;FMTTYPE=image/png:https://creativelyunited.org/wp-content/uploads/2026/04/drum-therapy-SMS.png
END:VEVENT
BEGIN:VEVENT
DTSTART;TZID=America/Vancouver:20260514T190000
DTEND;TZID=America/Vancouver:20260514T203000
DTSTAMP:20260423T123833
CREATED:20260413T161646Z
LAST-MODIFIED:20260413T161646Z
UID:10010514-1778785200-1778790600@creativelyunited.org
SUMMARY:Drum Therapy
DESCRIPTION:Drum therapy uses the drum as a tool for nervous system regulation and self-discovery. This Foundational Series introduces you to shared\, collective experiences of drumming\, personal inquiry\, interpersonal witnessing\, and healing growth. \nMaximum 5 participants.  Thursday evenings in May in Victoria.  Hand drums are provided. \nThis isn’t a drum lesson or drum jam.  It’s a circle of connection\, exploration\, and support facilitated by a Registered Clinical Counsellor.
URL:https://creativelyunited.org/event/drum-therapy/2026-05-14/
ATTACH;FMTTYPE=image/png:https://creativelyunited.org/wp-content/uploads/2026/04/drum-therapy-SMS.png
END:VEVENT
BEGIN:VEVENT
DTSTART;TZID=America/Vancouver:20260521T190000
DTEND;TZID=America/Vancouver:20260521T203000
DTSTAMP:20260423T123833
CREATED:20260413T161646Z
LAST-MODIFIED:20260413T161646Z
UID:10010515-1779390000-1779395400@creativelyunited.org
SUMMARY:Drum Therapy
DESCRIPTION:Drum therapy uses the drum as a tool for nervous system regulation and self-discovery. This Foundational Series introduces you to shared\, collective experiences of drumming\, personal inquiry\, interpersonal witnessing\, and healing growth. \nMaximum 5 participants.  Thursday evenings in May in Victoria.  Hand drums are provided. \nThis isn’t a drum lesson or drum jam.  It’s a circle of connection\, exploration\, and support facilitated by a Registered Clinical Counsellor.
URL:https://creativelyunited.org/event/drum-therapy/2026-05-21/
ATTACH;FMTTYPE=image/png:https://creativelyunited.org/wp-content/uploads/2026/04/drum-therapy-SMS.png
END:VEVENT
BEGIN:VEVENT
DTSTART;TZID=America/Vancouver:20260528T190000
DTEND;TZID=America/Vancouver:20260528T203000
DTSTAMP:20260423T123833
CREATED:20260413T161646Z
LAST-MODIFIED:20260413T161646Z
UID:10010516-1779994800-1780000200@creativelyunited.org
SUMMARY:Drum Therapy
DESCRIPTION:Drum therapy uses the drum as a tool for nervous system regulation and self-discovery. This Foundational Series introduces you to shared\, collective experiences of drumming\, personal inquiry\, interpersonal witnessing\, and healing growth. \nMaximum 5 participants.  Thursday evenings in May in Victoria.  Hand drums are provided. \nThis isn’t a drum lesson or drum jam.  It’s a circle of connection\, exploration\, and support facilitated by a Registered Clinical Counsellor.
URL:https://creativelyunited.org/event/drum-therapy/2026-05-28/
ATTACH;FMTTYPE=image/png:https://creativelyunited.org/wp-content/uploads/2026/04/drum-therapy-SMS.png
END:VEVENT
END:VCALENDAR