BEGIN:VCALENDAR
VERSION:2.0
PRODID:-//Creatively United Community - ECPv6.15.18//NONSGML v1.0//EN
CALSCALE:GREGORIAN
METHOD:PUBLISH
X-WR-CALNAME:Creatively United Community
X-ORIGINAL-URL:https://creativelyunited.org
X-WR-CALDESC:Events for Creatively United Community
REFRESH-INTERVAL;VALUE=DURATION:PT1H
X-Robots-Tag:noindex
X-PUBLISHED-TTL:PT1H
BEGIN:VTIMEZONE
TZID:America/Vancouver
BEGIN:DAYLIGHT
TZOFFSETFROM:-0800
TZOFFSETTO:-0700
TZNAME:PDT
DTSTART:20250309T100000
END:DAYLIGHT
BEGIN:STANDARD
TZOFFSETFROM:-0700
TZOFFSETTO:-0800
TZNAME:PST
DTSTART:20251102T090000
END:STANDARD
BEGIN:DAYLIGHT
TZOFFSETFROM:-0800
TZOFFSETTO:-0700
TZNAME:PDT
DTSTART:20260308T100000
END:DAYLIGHT
BEGIN:STANDARD
TZOFFSETFROM:-0700
TZOFFSETTO:-0800
TZNAME:PST
DTSTART:20261101T090000
END:STANDARD
BEGIN:DAYLIGHT
TZOFFSETFROM:-0800
TZOFFSETTO:-0700
TZNAME:PDT
DTSTART:20270314T100000
END:DAYLIGHT
BEGIN:STANDARD
TZOFFSETFROM:-0700
TZOFFSETTO:-0800
TZNAME:PST
DTSTART:20271107T090000
END:STANDARD
END:VTIMEZONE
BEGIN:VEVENT
DTSTART;TZID=America/Vancouver:20260502T150000
DTEND;TZID=America/Vancouver:20260502T173000
DTSTAMP:20260423T105328
CREATED:20260417T220504Z
LAST-MODIFIED:20260417T220504Z
UID:10010533-1777734000-1777743000@creativelyunited.org
SUMMARY:ILLUMINARE: Wings of Silence
DESCRIPTION:The inaugural event of the 2026 Celebrating Gaia Series\, features the BC Premiere of magnificent choral work by Christopher Tin\, presented by the Capriccio Vocal Ensemble. Wings of Silence offers a moving artistic experience grounded in environmental awareness — a soaring tribute to the beauty of flight and a poignant lament for species lost to time. This immersive performance is enriched by a collaboration of images provided by the Rocky Point Bird Observatory (RPBO). \nA special pre-concert panel discussion at 2 pm Saturday\, May 2 at Christ Church Cathedral\, 930 Burdett Ave.\, will feature Ann Nightingale (RPBO) and Dr. Richard Kool (Royal Roads University)\, exploring the intersection of art\, science\, and environmental stewardship. Audience members are also invited to explore information tables hosted by local nature and conservation groups before and after the performance. Original artwork by Arts Calibre Academy students will also be on display. A raffle will support the Swan Lake Nature Sanctuary. \nA second performance on Sunday\, May 3\, at St. Elizabeth Catholic Church\, 10030 Third St\, Sidney will feature a special 20-minute pre-concert guest presentation (at 7 pm) by Dr. Tracy Underwood\, W̱SÁNEĆ Matriarch and Professor at the University of Victoria\, offering an insightful Indigenous perspective on stewardship\, knowledge\, and connection to the land. Audience members are also invited to explore information tables hosted by local nature and conservation groups before and after the performance. \nSponsored by the Gail O’Riordan Climate and the Arts Legacy Fund.
URL:https://creativelyunited.org/event/illuminare-wings-of-silence/2026-05-02/
ATTACH;FMTTYPE=image/jpeg:https://creativelyunited.org/wp-content/uploads/2026/04/Screenshot-2026-04-14-115617.jpg
END:VEVENT
BEGIN:VEVENT
DTSTART;TZID=America/Vancouver:20260503T193000
DTEND;TZID=America/Vancouver:20260503T210000
DTSTAMP:20260423T105328
CREATED:20260417T220504Z
LAST-MODIFIED:20260417T220504Z
UID:10010534-1777836600-1777842000@creativelyunited.org
SUMMARY:ILLUMINARE: Wings of Silence
DESCRIPTION:The inaugural event of the 2026 Celebrating Gaia Series\, features the BC Premiere of magnificent choral work by Christopher Tin\, presented by the Capriccio Vocal Ensemble. Wings of Silence offers a moving artistic experience grounded in environmental awareness — a soaring tribute to the beauty of flight and a poignant lament for species lost to time. This immersive performance is enriched by a collaboration of images provided by the Rocky Point Bird Observatory (RPBO). \nA special pre-concert panel discussion at 2 pm Saturday\, May 2 at Christ Church Cathedral\, 930 Burdett Ave.\, will feature Ann Nightingale (RPBO) and Dr. Richard Kool (Royal Roads University)\, exploring the intersection of art\, science\, and environmental stewardship. Audience members are also invited to explore information tables hosted by local nature and conservation groups before and after the performance. Original artwork by Arts Calibre Academy students will also be on display. A raffle will support the Swan Lake Nature Sanctuary. \nA second performance on Sunday\, May 3\, at St. Elizabeth Catholic Church\, 10030 Third St\, Sidney will feature a special 20-minute pre-concert guest presentation (at 7 pm) by Dr. Tracy Underwood\, W̱SÁNEĆ Matriarch and Professor at the University of Victoria\, offering an insightful Indigenous perspective on stewardship\, knowledge\, and connection to the land. Audience members are also invited to explore information tables hosted by local nature and conservation groups before and after the performance. \nSponsored by the Gail O’Riordan Climate and the Arts Legacy Fund.
URL:https://creativelyunited.org/event/illuminare-wings-of-silence/2026-05-03/
ATTACH;FMTTYPE=image/jpeg:https://creativelyunited.org/wp-content/uploads/2026/04/Screenshot-2026-04-14-115617.jpg
END:VEVENT
END:VCALENDAR