BEGIN:VCALENDAR
VERSION:2.0
PRODID:-//Creatively United Community - ECPv6.15.18//NONSGML v1.0//EN
CALSCALE:GREGORIAN
METHOD:PUBLISH
X-WR-CALNAME:Creatively United Community
X-ORIGINAL-URL:https://creativelyunited.org
X-WR-CALDESC:Events for Creatively United Community
REFRESH-INTERVAL;VALUE=DURATION:PT1H
X-Robots-Tag:noindex
X-PUBLISHED-TTL:PT1H
BEGIN:VTIMEZONE
TZID:America/Vancouver
BEGIN:DAYLIGHT
TZOFFSETFROM:-0800
TZOFFSETTO:-0700
TZNAME:PDT
DTSTART:20250309T100000
END:DAYLIGHT
BEGIN:STANDARD
TZOFFSETFROM:-0700
TZOFFSETTO:-0800
TZNAME:PST
DTSTART:20251102T090000
END:STANDARD
BEGIN:DAYLIGHT
TZOFFSETFROM:-0800
TZOFFSETTO:-0700
TZNAME:PDT
DTSTART:20260308T100000
END:DAYLIGHT
BEGIN:STANDARD
TZOFFSETFROM:-0700
TZOFFSETTO:-0800
TZNAME:PST
DTSTART:20261101T090000
END:STANDARD
BEGIN:DAYLIGHT
TZOFFSETFROM:-0800
TZOFFSETTO:-0700
TZNAME:PDT
DTSTART:20270314T100000
END:DAYLIGHT
BEGIN:STANDARD
TZOFFSETFROM:-0700
TZOFFSETTO:-0800
TZNAME:PST
DTSTART:20271107T090000
END:STANDARD
END:VTIMEZONE
BEGIN:VEVENT
DTSTART;TZID=America/Vancouver:20260523T130000
DTEND;TZID=America/Vancouver:20260523T150000
DTSTAMP:20260423T154941
CREATED:20260303T050135Z
LAST-MODIFIED:20260303T050135Z
UID:10009955-1779541200-1779548400@creativelyunited.org
SUMMARY:Square Exhibition | Opening Gala
DESCRIPTION:🎨✨ SQUARE | Members’ Show ✨🎨 \nStep into a celebration of bold edges and boundless creativity. SQUARE brings together an exciting collection of non-juried works by our talented members — all exploring the strength\, balance\, and beauty of the square format. From intimate 6×6 pieces to striking 36×36 statements\, this show features diverse styles\, themes\, and mediums — including dimensional works that push the boundaries of form. \n📅 Exhibition Dates: May 21 – June 7🕛 Gallery Hours: Thursday to Sunday | 12–4 PM🎉 Opening Gala: May 23 | 1–3 PM🚗 Free parking | 🎟 Free entry | All welcome \nCome discover fresh perspectives\, support local artists\, and experience a dynamic showcase where creativity meets clean lines. Bring a friend and make an afternoon of it — we can’t wait to see you there!
URL:https://creativelyunited.org/event/square-exhibition-opening-gala/
LOCATION:170 Goldfinch Rd\, 170 Goldfinch Road\, Victoria\, V9C 1Y3
ATTACH;FMTTYPE=image/jpeg:https://creativelyunited.org/wp-content/uploads/2026/03/Square-Exhibition-Poster-2.jpeg
ORGANIZER;CN="@artsandculturecolwood":MAILTO:Socialmedia@artsandculturecolwood.ca
GEO:48.4194293;-123.4746578
X-APPLE-STRUCTURED-LOCATION;VALUE=URI;X-ADDRESS=170 Goldfinch Rd 170 Goldfinch Road Victoria V9C 1Y3;X-APPLE-RADIUS=500;X-TITLE=170 Goldfinch Road:geo:-123.4746578,48.4194293
END:VEVENT
END:VCALENDAR