BEGIN:VCALENDAR
VERSION:2.0
PRODID:-//Creatively United Community - ECPv6.15.18//NONSGML v1.0//EN
CALSCALE:GREGORIAN
METHOD:PUBLISH
X-ORIGINAL-URL:https://creativelyunited.org
X-WR-CALDESC:Events for Creatively United Community
REFRESH-INTERVAL;VALUE=DURATION:PT1H
X-Robots-Tag:noindex
X-PUBLISHED-TTL:PT1H
BEGIN:VTIMEZONE
TZID:America/Vancouver
BEGIN:DAYLIGHT
TZOFFSETFROM:-0800
TZOFFSETTO:-0700
TZNAME:PDT
DTSTART:20250309T100000
END:DAYLIGHT
BEGIN:STANDARD
TZOFFSETFROM:-0700
TZOFFSETTO:-0800
TZNAME:PST
DTSTART:20251102T090000
END:STANDARD
BEGIN:DAYLIGHT
TZOFFSETFROM:-0800
TZOFFSETTO:-0700
TZNAME:PDT
DTSTART:20260308T100000
END:DAYLIGHT
BEGIN:STANDARD
TZOFFSETFROM:-0700
TZOFFSETTO:-0800
TZNAME:PST
DTSTART:20261101T090000
END:STANDARD
BEGIN:DAYLIGHT
TZOFFSETFROM:-0800
TZOFFSETTO:-0700
TZNAME:PDT
DTSTART:20270314T100000
END:DAYLIGHT
BEGIN:STANDARD
TZOFFSETFROM:-0700
TZOFFSETTO:-0800
TZNAME:PST
DTSTART:20271107T090000
END:STANDARD
END:VTIMEZONE
BEGIN:VEVENT
DTSTART;TZID=America/Vancouver:20260404T190000
DTEND;TZID=America/Vancouver:20260404T220000
DTSTAMP:20260423T213628
CREATED:20260318T152538Z
LAST-MODIFIED:20260318T152538Z
UID:10010426-1775329200-1775340000@creativelyunited.org
SUMMARY:Folk and Fiddle Concert and Barn Dance with Q Brooke Bachand and Friends
DESCRIPTION:Award Winning non-binary artist Q performs a short concert followed by a fun family square dance (no experience or partner needed) \nWe hope you’ll join us for a wonderful evening of music and dance! The evening will start with a short concert featuring Q Brooke Bachand who will be presenting repertoire from their upcoming album “Seeds of Discontent”. Non-binary west-coast artist ‘Q’ \, has been celebrated in the Canadian and International Celtic music scene as one half of the award-winning powerhouse duo Qristina and Quinn Bachand. Recognized for their powerful fiddle\, captivating vocals and infectious energy\, their love of Folk and Celtic music has always been at the forefront as they captivate audiences with spirited performances that showcase their fiddle and vocal talents\, along with their passion for folk songs and storytelling. \nFor over 20 years Q has graced stages across Canada\, the United States and Europe\, earning numerous nominations and winning multiple awards including two Irish Music Awards (Top Duo and Top Traditional Group). More recently Q has grown into their (non-binary) gender identity and life’s purpose and are singing rebel ballads and folk songs (acapella and self-accompanied)\, interspersed with rip-roaring fiddle tunes to help heal the soul. Their music will inspire as they will bring you to tears or have you clapping along and stomping your feet! \nThere will be a short intermission between the concert and dance\, the concession (sweets and non-alcoholic beverages) will be open for the rest of the night. All proceeds from concession sales will be going towards SNWWOC (Support Network for Indigenous Women and Women of Colour) as well as to the Victoria Native Friendship Centre. \nAfter the intermission\, we will enjoy a fun all-ages barn dance with “caller” Cohan Lyne teaching and calling the dances! No experience or partner is required! But be sure to wear your comfy shoes\, it’ll be fun! The stellar band includes Q on fiddle\, Tasia MacKay on flute and banjo\, Andrew Morris on bodhran and spoons and Brad Johnson on guitar and concertina. \nQ recently discovered they have Irish and Scottish ancestry – the very traditions they’ve devoted their life’s work to. This special event is a fundraiser about heritage\, healing and transformation\, as Q journies to Ireland later in April. \nSo expect fiery fiddle tunes\, rebel songs\, and tender moments that hold us all! Your support helps fuel independt art\, community care and the next evolution in Q’s journey! And it is greatly appreciated! \nVisit Q’s website: www.qthey.ca \nFor more information/tickets call Marie at 250-812-7978 \nURLs:\nTickets: https://go.evvnt.com/3534229-0?pid=10320\nWebsite: https://go.evvnt.com/3534229-2?pid=10320\nWebsite: https://go.evvnt.com/3534229-3?pid=10320 \nDate and Time: On Sat\, 04 Apr 2026 19:00 – 22:00 \nVenue details: St. Matthias Anglican Church\, 600 Richmond Avenue\, Victoria\, British Columbia\, V8S 3Y7\, Canada \nCategory: Live Music | Folk Music \nPrices:\nGeneral Admission: CAD 25.00\,\nPay What You Can: CAD 20.00\,\nPay What You Can: CAD 15.00 \nArtists: Q Brooke Bachand\, Tasia MacKay\, Andrew Morris\, Brad Johnson
URL:https://creativelyunited.org/event/folk-and-fiddle-concert-and-barn-dance-with-q-brooke-bachand-and-friends/
LOCATION:St. Matthias Anglican Church\, 600 Richmond Avenue\, Victoria\, V8S 3Y7
ATTACH;FMTTYPE=image/jpeg:https://creativelyunited.org/wp-content/uploads/2026/03/3534229_460.jpg
ORGANIZER;CN="Beacon Ridge Productions":MAILTO:marie@abachand.ca
GEO:48.4177183;-123.3321188
X-APPLE-STRUCTURED-LOCATION;VALUE=URI;X-ADDRESS=St. Matthias Anglican Church 600 Richmond Avenue Victoria V8S 3Y7;X-APPLE-RADIUS=500;X-TITLE=600 Richmond Avenue:geo:-123.3321188,48.4177183
END:VEVENT
END:VCALENDAR