BEGIN:VCALENDAR
VERSION:2.0
PRODID:-//Creatively United Community - ECPv6.15.18//NONSGML v1.0//EN
CALSCALE:GREGORIAN
METHOD:PUBLISH
X-ORIGINAL-URL:https://creativelyunited.org
X-WR-CALDESC:Events for Creatively United Community
REFRESH-INTERVAL;VALUE=DURATION:PT1H
X-Robots-Tag:noindex
X-PUBLISHED-TTL:PT1H
BEGIN:VTIMEZONE
TZID:America/Vancouver
BEGIN:DAYLIGHT
TZOFFSETFROM:-0800
TZOFFSETTO:-0700
TZNAME:PDT
DTSTART:20250309T100000
END:DAYLIGHT
BEGIN:STANDARD
TZOFFSETFROM:-0700
TZOFFSETTO:-0800
TZNAME:PST
DTSTART:20251102T090000
END:STANDARD
BEGIN:DAYLIGHT
TZOFFSETFROM:-0800
TZOFFSETTO:-0700
TZNAME:PDT
DTSTART:20260308T100000
END:DAYLIGHT
BEGIN:STANDARD
TZOFFSETFROM:-0700
TZOFFSETTO:-0800
TZNAME:PST
DTSTART:20261101T090000
END:STANDARD
BEGIN:DAYLIGHT
TZOFFSETFROM:-0800
TZOFFSETTO:-0700
TZNAME:PDT
DTSTART:20270314T100000
END:DAYLIGHT
BEGIN:STANDARD
TZOFFSETFROM:-0700
TZOFFSETTO:-0800
TZNAME:PST
DTSTART:20271107T090000
END:STANDARD
END:VTIMEZONE
BEGIN:VEVENT
DTSTART;TZID=America/Vancouver:20260421T193000
DTEND;TZID=America/Vancouver:20260517T213000
DTSTAMP:20260423T092103
CREATED:20260331T154556Z
LAST-MODIFIED:20260331T154556Z
UID:10010467-1776799800-1779053400@creativelyunited.org
SUMMARY:Casey and Diana
DESCRIPTION:“Casey” is Casey House in Toronto-Canada’s first hospice for men dying of AIDS. “Diana” is Princess Diana-who visited Casey House in 1991-and changed the world’s attitude towards the disease. Thomas has spent five months in Casey House waiting to die. Now he’s hoping he’ll live long enough to meet the Princess he idolizes. \nWhy I Chose This Play\nAs a gay man\, I lived through this horrific time-so much fear and so little information. We heard stories of hospital staff too frightened to deliver meals to AIDS patients (which was actually the impetus behind the founding of Casey House). Thomas in this play reminds me of so many men who contracted this disease\, facing death with a mixture of anger and sadness-and a helluva lot of snap and flair-! Michael Shamata \nThis production of Casey and Diana is supported in part by a generous gift from Elaine Montgomery and Robert Maitland \nTicket Prices\nPart of your 2025-26 Season Subscription Package All tickets to this show are offered with Pay-What-You-Can Price Options \nURLs:\nFacebook: https://go.evvnt.com/3555250-2?pid=10320\nInstagram: https://go.evvnt.com/3555250-3?pid=10320\nYouTube: https://go.evvnt.com/3555250-4?pid=10320 \nDate and Time: Tue\, 21 Apr 2026 19:30 – Sun\, 17 May 2026 21:30 \nVenue details: Belfry Theatre\, 1291 Gladstone Avenue\, Victoria\, British Columbia\, V8T 2Y5\, Canada \n  \nCategory: Arts | Performing Arts | Theatre \nPrice:\nAssigned Seating: CAD 60.00
URL:https://creativelyunited.org/event/casey-and-diana/
LOCATION:Belfry Theatre\, 1291 Gladstone Avenue\, Victoria\, V8T 2Y5
ATTACH;FMTTYPE=image/jpeg:https://creativelyunited.org/wp-content/uploads/2026/03/3555250j.jpg
ORGANIZER;CN="Belfry Theatre":MAILTO:boxoffice@belfry.bc.ca
GEO:48.430346;-123.3454221
X-APPLE-STRUCTURED-LOCATION;VALUE=URI;X-ADDRESS=Belfry Theatre 1291 Gladstone Avenue Victoria V8T 2Y5;X-APPLE-RADIUS=500;X-TITLE=1291 Gladstone Avenue:geo:-123.3454221,48.430346
END:VEVENT
END:VCALENDAR