BEGIN:VCALENDAR
VERSION:2.0
PRODID:-//Creatively United Community - ECPv6.15.18//NONSGML v1.0//EN
CALSCALE:GREGORIAN
METHOD:PUBLISH
X-ORIGINAL-URL:https://creativelyunited.org
X-WR-CALDESC:Events for Creatively United Community
REFRESH-INTERVAL;VALUE=DURATION:PT1H
X-Robots-Tag:noindex
X-PUBLISHED-TTL:PT1H
BEGIN:VTIMEZONE
TZID:America/Vancouver
BEGIN:DAYLIGHT
TZOFFSETFROM:-0800
TZOFFSETTO:-0700
TZNAME:PDT
DTSTART:20250309T100000
END:DAYLIGHT
BEGIN:STANDARD
TZOFFSETFROM:-0700
TZOFFSETTO:-0800
TZNAME:PST
DTSTART:20251102T090000
END:STANDARD
BEGIN:DAYLIGHT
TZOFFSETFROM:-0800
TZOFFSETTO:-0700
TZNAME:PDT
DTSTART:20260308T100000
END:DAYLIGHT
BEGIN:STANDARD
TZOFFSETFROM:-0700
TZOFFSETTO:-0800
TZNAME:PST
DTSTART:20261101T090000
END:STANDARD
BEGIN:DAYLIGHT
TZOFFSETFROM:-0800
TZOFFSETTO:-0700
TZNAME:PDT
DTSTART:20270314T100000
END:DAYLIGHT
BEGIN:STANDARD
TZOFFSETFROM:-0700
TZOFFSETTO:-0800
TZNAME:PST
DTSTART:20271107T090000
END:STANDARD
END:VTIMEZONE
BEGIN:VEVENT
DTSTART;TZID=America/Vancouver:20260310T193000
DTEND;TZID=America/Vancouver:20260321T210000
DTSTAMP:20260424T021543
CREATED:20260212T063103Z
LAST-MODIFIED:20260212T063103Z
UID:10009780-1773171000-1774126800@creativelyunited.org
SUMMARY:Big Stuff
DESCRIPTION:Co-Created and Directed by Kat Sandler \nStarring Matt Baram and Naomi Snieckus \nA Baram and Snieckus Production. \nComedy duo-and married couple-Matt Baram and Naomi Snieckus invite you to join them as they explore Big Stuff. With their unique style of humour\, honed at Second City and in comedy clubs around the world\, they debate the emotional power of everyday objects. \nShe wants to keep everything. He wants to throw it all away! Is she a pack rat? Is he a monster? And what about you-? Do you have “things” you just can’t part with-? \nAUDIENCE ADVISORY \nThis production contains one or two uses of strong language and examines mature themes\, including sexual innuendo. And loss… so that’ll be fun! Matt and Naomi gently interact with audience members from time to time. Recommended for ages 14+. \nBig Stuff is part of the Belfry’s 2026 SPARK Festival. \nURLs:\nFacebook: https://go.evvnt.com/3481469-2?pid=10320\nInstagram: https://go.evvnt.com/3481469-3?pid=10320\nYouTube: https://go.evvnt.com/3481469-4?pid=10320 \nPrice: Assigned Seating: CAD 50.00 \nArtists: Matt Baram\, Naomi Snieckus\, Kat Sandler \nCategory: Arts | Performing Arts | Theatre \nDate and Time: Tuesday March 10\, 2026 at 7:30 pm to Saturday March 21\, 2026 at 9:00 pm \nVenue details: Belfry Theatre\, 1291 Gladstone Avenue\, Victoria\, British Columbia\, V8T 2Y5\, Canada
URL:https://creativelyunited.org/event/big-stuff/
LOCATION:Belfry Theatre\, 1291 Gladstone Avenue\, Victoria\, V8T 2Y5
GEO:48.430346;-123.3454221
X-APPLE-STRUCTURED-LOCATION;VALUE=URI;X-ADDRESS=Belfry Theatre 1291 Gladstone Avenue Victoria V8T 2Y5;X-APPLE-RADIUS=500;X-TITLE=1291 Gladstone Avenue:geo:-123.3454221,48.430346
END:VEVENT
BEGIN:VEVENT
DTSTART;TZID=America/Vancouver:20260310T193000
DTEND;TZID=America/Vancouver:20260314T210000
DTSTAMP:20260424T021543
CREATED:20260212T063121Z
LAST-MODIFIED:20260212T063121Z
UID:10009782-1773171000-1773522000@creativelyunited.org
SUMMARY:Benevolence
DESCRIPTION:Like many Canadians\, Kevin has always wondered about his roots. Kevin is Hakka (客家)…he thinks. Hakka (“guest people”) are a branch of Han Chinese who have continuously migrated. \nOut of the blue\, he gets a phone call asking him to write a play about Hakka identity. His fact-finding mission leads him to Victoria and the Tam Kung Temple\, Canada’s oldest Chinese Temple. \nBenevolence is part of the Belfry’s 2026 SPARK Festival. \nTicket Prices\nPart of the 2026 SPARK Festival – not included in your 25/26 Subscription Package.All tickets to this show are offered with Pay-What-You-Can Price Options \nURLs:\nYouTube: https://go.evvnt.com/3481462-2?pid=10320\nFacebook: https://go.evvnt.com/3481462-3?pid=10320\nInstagram: https://go.evvnt.com/3481462-4?pid=10320\nYouTube: https://go.evvnt.com/3481462-5?pid=10320 \nPrice: Assigned Seating: CAD 35.00 \nArtist: Kevin Matthew Wong \nCategory: Arts | Performing Arts | Drama \nDate and Time: Tuesday March 10\, 2026 at 7:30 pm to Saturday March 14\, 2026 at 9:00 pm \nVenue details: Belfry Theatre\, 1291 Gladstone Avenue\, Victoria\, British Columbia\, V8T 2Y5\, Canada
URL:https://creativelyunited.org/event/benevolence/
LOCATION:Belfry Theatre\, 1291 Gladstone Avenue\, Victoria\, V8T 2Y5
GEO:48.430346;-123.3454221
X-APPLE-STRUCTURED-LOCATION;VALUE=URI;X-ADDRESS=Belfry Theatre 1291 Gladstone Avenue Victoria V8T 2Y5;X-APPLE-RADIUS=500;X-TITLE=1291 Gladstone Avenue:geo:-123.3454221,48.430346
END:VEVENT
END:VCALENDAR