BEGIN:VCALENDAR
VERSION:2.0
PRODID:-//Creatively United Community - ECPv6.15.18//NONSGML v1.0//EN
CALSCALE:GREGORIAN
METHOD:PUBLISH
X-WR-CALNAME:Creatively United Community
X-ORIGINAL-URL:https://creativelyunited.org
X-WR-CALDESC:Events for Creatively United Community
REFRESH-INTERVAL;VALUE=DURATION:PT1H
X-Robots-Tag:noindex
X-PUBLISHED-TTL:PT1H
BEGIN:VTIMEZONE
TZID:America/Vancouver
BEGIN:DAYLIGHT
TZOFFSETFROM:-0800
TZOFFSETTO:-0700
TZNAME:PDT
DTSTART:20250309T100000
END:DAYLIGHT
BEGIN:STANDARD
TZOFFSETFROM:-0700
TZOFFSETTO:-0800
TZNAME:PST
DTSTART:20251102T090000
END:STANDARD
BEGIN:DAYLIGHT
TZOFFSETFROM:-0800
TZOFFSETTO:-0700
TZNAME:PDT
DTSTART:20260308T100000
END:DAYLIGHT
BEGIN:STANDARD
TZOFFSETFROM:-0700
TZOFFSETTO:-0800
TZNAME:PST
DTSTART:20261101T090000
END:STANDARD
BEGIN:DAYLIGHT
TZOFFSETFROM:-0800
TZOFFSETTO:-0700
TZNAME:PDT
DTSTART:20270314T100000
END:DAYLIGHT
BEGIN:STANDARD
TZOFFSETFROM:-0700
TZOFFSETTO:-0800
TZNAME:PST
DTSTART:20271107T090000
END:STANDARD
END:VTIMEZONE
BEGIN:VEVENT
DTSTART;TZID=America/Vancouver:20260205T110000
DTEND;TZID=America/Vancouver:20260205T150000
DTSTAMP:20260423T181456
CREATED:20260106T011020Z
LAST-MODIFIED:20260106T011020Z
UID:10009082-1770289200-1770303600@creativelyunited.org
SUMMARY:Greater Victoria Career & Education Expo 2026
DESCRIPTION:Get your FREE tickets and join us on February 5\, 2026\, at the Bay Street Armoury for the Career & Education Expo. \nThe Career & Education Expo brings top employers and career resources together to help you land your dream job. Whether you’re looking for new opportunities or aiming to upgrade your skills\, join us to connect with top employers eager to meet you and post-secondary institutions ready to guide you on your ideal educational path! \nInterested in Exhibiting? Visit our https://careerexpos.blackpress.ca/exhibit/ for more information. Let’s Network! Connect with recruiters and industry professionals. \nEnjoy on-site interviews! Be prepared—you might land a job on the spot. \nEvent Details: \nDate: Thursday\, February 5\, 2026 \nTime: 11:00 AM – 3:00 PM \nLocation: Bay Street Armoury\, Victoria BC \nDon’t miss this chance to connect with top employers and take your career to the next level! For more information\, visit https://careerexpos.blackpress.ca/victoria1-2026/ \nWe thank all our exhibitors and cannot wait to host you all on February 5\, 2026.
URL:https://creativelyunited.org/event/greater-victoria-career-education-expo-2026/
LOCATION:Bay Street Armoury\, 715 Bay Street\, Victoria\, V8T 1R1
ATTACH;FMTTYPE=image/jpeg:https://creativelyunited.org/wp-content/uploads/2026/01/Greater-Victoria-2-October-2025_Eventbrite-Banner-2160x1080-2.jpg
GEO:48.4353979;-123.364039
X-APPLE-STRUCTURED-LOCATION;VALUE=URI;X-ADDRESS=Bay Street Armoury 715 Bay Street Victoria V8T 1R1;X-APPLE-RADIUS=500;X-TITLE=715 Bay Street:geo:-123.364039,48.4353979
END:VEVENT
BEGIN:VEVENT
DTSTART;TZID=America/Vancouver:20260204T110000
DTEND;TZID=America/Vancouver:20260204T150000
DTSTAMP:20260423T181456
CREATED:20260106T011022Z
LAST-MODIFIED:20260106T011022Z
UID:10009083-1770202800-1770217200@creativelyunited.org
SUMMARY:Greater Victoria Young at Heart Seniors Expo 2026
DESCRIPTION:Get your FREE tickets for February 4\, 2026. Tillicum Centre is the place to be from 11 AM to 3 PM for an exciting day dedicated to health\, wellness\, and community connection just for seniors! \nDive into a vibrant atmosphere filled with engaging activities\, where you can explore a variety of vendors showcasing the latest in health products and services. Discover invaluable community resources\, join local clubs\, and connect with others who share your interests! \nGet ready for fun and excitement with games that spark joy and laughter—plus\, don’t miss your chance to win fantastic prizes throughout the day! Whether you’re looking to enhance your well-being\, make new friends\, or simply enjoy a delightful outing\, there’s something for everyone. \nJoin us for a day of empowerment\, discovery\, and connection. We can’t wait to see you there! ✨ \nVisit our website for more information! https://youngatheart.blackpress.ca/greater-victoria-2026/
URL:https://creativelyunited.org/event/greater-victoria-young-at-heart-seniors-expo-2026/
LOCATION:Tillicum Mall\, 3170 Tillicum Rd\, Victoria\, British Columbia\, V9A 7C5\, Canada
ATTACH;FMTTYPE=image/jpeg:https://creativelyunited.org/wp-content/uploads/2026/01/Y@H-Victoria-February-2026_Eventbrite-Banner_2160x1080.jpg
GEO:48.4540906;-123.3960997
X-APPLE-STRUCTURED-LOCATION;VALUE=URI;X-ADDRESS=Tillicum Mall 3170 Tillicum Rd Victoria British Columbia V9A 7C5 Canada;X-APPLE-RADIUS=500;X-TITLE=3170 Tillicum Rd:geo:-123.3960997,48.4540906
END:VEVENT
END:VCALENDAR