BEGIN:VCALENDAR
VERSION:2.0
PRODID:-//Creatively United Community - ECPv6.15.18//NONSGML v1.0//EN
CALSCALE:GREGORIAN
METHOD:PUBLISH
X-WR-CALNAME:Creatively United Community
X-ORIGINAL-URL:https://creativelyunited.org
X-WR-CALDESC:Events for Creatively United Community
REFRESH-INTERVAL;VALUE=DURATION:PT1H
X-Robots-Tag:noindex
X-PUBLISHED-TTL:PT1H
BEGIN:VTIMEZONE
TZID:America/Vancouver
BEGIN:DAYLIGHT
TZOFFSETFROM:-0800
TZOFFSETTO:-0700
TZNAME:PDT
DTSTART:20250309T100000
END:DAYLIGHT
BEGIN:STANDARD
TZOFFSETFROM:-0700
TZOFFSETTO:-0800
TZNAME:PST
DTSTART:20251102T090000
END:STANDARD
BEGIN:DAYLIGHT
TZOFFSETFROM:-0800
TZOFFSETTO:-0700
TZNAME:PDT
DTSTART:20260308T100000
END:DAYLIGHT
BEGIN:STANDARD
TZOFFSETFROM:-0700
TZOFFSETTO:-0800
TZNAME:PST
DTSTART:20261101T090000
END:STANDARD
BEGIN:DAYLIGHT
TZOFFSETFROM:-0800
TZOFFSETTO:-0700
TZNAME:PDT
DTSTART:20270314T100000
END:DAYLIGHT
BEGIN:STANDARD
TZOFFSETFROM:-0700
TZOFFSETTO:-0800
TZNAME:PST
DTSTART:20271107T090000
END:STANDARD
END:VTIMEZONE
BEGIN:VEVENT
DTSTART;TZID=America/Vancouver:20260203T100000
DTEND;TZID=America/Vancouver:20260203T113000
DTSTAMP:20260423T211419
CREATED:20260114T175516Z
LAST-MODIFIED:20260114T175516Z
UID:10009105-1770112800-1770118200@creativelyunited.org
SUMMARY:CRD Harbour Speaker Series: Natural Asset Management
DESCRIPTION:Event Details: Natural Asset Management \n\nDate: Tuesday\, February 3\, 10-11:30 am\nLocation: CRD Headquarters (625 Fisgard Street) or via Zoom\nRegistration details (for both in-person and online options):\n\nHarbour Stewardship Speaker Series: Natural Asset Management | Capital Regional District
URL:https://creativelyunited.org/event/crd-harbour-speaker-series-natural-asset-management/
LOCATION:Commons Room – CRD Headquarters\, 625 Fisgard St\, Victoria\, British Columbia\, Canada
GEO:48.4291031;-123.3659439
X-APPLE-STRUCTURED-LOCATION;VALUE=URI;X-ADDRESS=Commons Room – CRD Headquarters 625 Fisgard St Victoria British Columbia Canada;X-APPLE-RADIUS=500;X-TITLE=625 Fisgard St:geo:-123.3659439,48.4291031
END:VEVENT
END:VCALENDAR