BEGIN:VCALENDAR
VERSION:2.0
PRODID:-//Creatively United Community - ECPv6.15.18//NONSGML v1.0//EN
CALSCALE:GREGORIAN
METHOD:PUBLISH
X-ORIGINAL-URL:https://creativelyunited.org
X-WR-CALDESC:Events for Creatively United Community
REFRESH-INTERVAL;VALUE=DURATION:PT1H
X-Robots-Tag:noindex
X-PUBLISHED-TTL:PT1H
BEGIN:VTIMEZONE
TZID:America/Vancouver
BEGIN:DAYLIGHT
TZOFFSETFROM:-0800
TZOFFSETTO:-0700
TZNAME:PDT
DTSTART:20250309T100000
END:DAYLIGHT
BEGIN:STANDARD
TZOFFSETFROM:-0700
TZOFFSETTO:-0800
TZNAME:PST
DTSTART:20251102T090000
END:STANDARD
BEGIN:DAYLIGHT
TZOFFSETFROM:-0800
TZOFFSETTO:-0700
TZNAME:PDT
DTSTART:20260308T100000
END:DAYLIGHT
BEGIN:STANDARD
TZOFFSETFROM:-0700
TZOFFSETTO:-0800
TZNAME:PST
DTSTART:20261101T090000
END:STANDARD
BEGIN:DAYLIGHT
TZOFFSETFROM:-0800
TZOFFSETTO:-0700
TZNAME:PDT
DTSTART:20270314T100000
END:DAYLIGHT
BEGIN:STANDARD
TZOFFSETFROM:-0700
TZOFFSETTO:-0800
TZNAME:PST
DTSTART:20271107T090000
END:STANDARD
END:VTIMEZONE
BEGIN:VEVENT
DTSTART;TZID=America/Vancouver:20260421T120000
DTEND;TZID=America/Vancouver:20260421T133000
DTSTAMP:20260423T123827
CREATED:20260331T173137Z
LAST-MODIFIED:20260413T194358Z
UID:10010472-1776772800-1776778200@creativelyunited.org
SUMMARY:Protecting Trees\, Dispelling Myths
DESCRIPTION:While many celebrate a succession of sunny days\, the topic turns serious when fish-bearing streams run dry and forests\, trees and gardens wither under the extremes of drought. \nWater restrictions have limited what farmers and industry formerly took for granted and in many parts of BC the situation has already proven deadly. \nAre we putting too much emphasis on targetting trees as a fire threat while we trustingly leave our highly flammable\, plastic-laden vehicles parked in or next to our residences? \nIn celebration of Earth Week and in honour of our urban and established forests\, Creatively United presents a free webinar/conversation and Q&A with some of BC’s leading experts on tree preservation in light of a changing climate and the threat of fire. \nLearn how to discern truth from half-truth (or fiction)\, protect and preserve trees\, your community\, home and loved ones from the growing threat of fire in an era of climate uncertainty. \nHerb Hammond\, forest ecologist\, professional forester\, author; Rachel Holt\, independant ecologist\, professional biologist; and Dave Daust\, forester\, landscape analyst will dispel some of the myths perpetuated by government agencies and social media to reveal how the public can better protect trees and nature in their community and elsewhere. They will also be joined by a conservation biologist and a local FireSmart representative to interpret the FireSmart recommendations for natural landscapes around homes. \nModerated by conservationists Grace Golightly and Creatively United founder Frances Litman. \nCan’t attend the live webinar? Not to worry\, a recording of this event will be sent to all registrants. \nRegister: https://zoom.us/webinar/register/WN_X9mdKbeGQhSvgMRuElYTOA
URL:https://creativelyunited.org/event/protecting-trees-dispelling-myths/
LOCATION:On Zoom
ATTACH;FMTTYPE=image/jpeg:https://creativelyunited.org/wp-content/uploads/2026/03/Balancing-Natures-Needs-Poster-Preview-4.jpg
END:VEVENT
END:VCALENDAR