BEGIN:VCALENDAR
VERSION:2.0
PRODID:-//Creatively United Community - ECPv6.15.18//NONSGML v1.0//EN
CALSCALE:GREGORIAN
METHOD:PUBLISH
X-ORIGINAL-URL:https://creativelyunited.org
X-WR-CALDESC:Events for Creatively United Community
REFRESH-INTERVAL;VALUE=DURATION:PT1H
X-Robots-Tag:noindex
X-PUBLISHED-TTL:PT1H
BEGIN:VTIMEZONE
TZID:America/Vancouver
BEGIN:DAYLIGHT
TZOFFSETFROM:-0800
TZOFFSETTO:-0700
TZNAME:PDT
DTSTART:20250309T100000
END:DAYLIGHT
BEGIN:STANDARD
TZOFFSETFROM:-0700
TZOFFSETTO:-0800
TZNAME:PST
DTSTART:20251102T090000
END:STANDARD
BEGIN:DAYLIGHT
TZOFFSETFROM:-0800
TZOFFSETTO:-0700
TZNAME:PDT
DTSTART:20260308T100000
END:DAYLIGHT
BEGIN:STANDARD
TZOFFSETFROM:-0700
TZOFFSETTO:-0800
TZNAME:PST
DTSTART:20261101T090000
END:STANDARD
BEGIN:DAYLIGHT
TZOFFSETFROM:-0800
TZOFFSETTO:-0700
TZNAME:PDT
DTSTART:20270314T100000
END:DAYLIGHT
BEGIN:STANDARD
TZOFFSETFROM:-0700
TZOFFSETTO:-0800
TZNAME:PST
DTSTART:20271107T090000
END:STANDARD
END:VTIMEZONE
BEGIN:VEVENT
DTSTART;TZID=America/Vancouver:20260530T143000
DTEND;TZID=America/Vancouver:20260530T170000
DTSTAMP:20260423T194003
CREATED:20260312T174228Z
LAST-MODIFIED:20260312T174228Z
UID:10010039-1780151400-1780160400@creativelyunited.org
SUMMARY:ENSEMBLE LAUDE - QUEEN
DESCRIPTION:A concert celebrating greatness of those who sing their truth\, against the odds: \nFemale mathematicians who put Apollo on the moon; maidens who outwit their pirate captors\, beauty that rises above of earthly winds\, cowboys who are secretly fond of each other. \nFeaturing special guest\, drag king Sylvester Stalletto \nURL:\nFacebook: https://go.evvnt.com/3481554-2?pid=10320 \nDate and Time: On Sat\, 30 May 2026 14:30 – Sat\, 30 May 2026 17:00 \nVenue details: United Commons (formerly First Metropolitan)\, 932 Balmoral Road\, Victoria\, British Columbia\, V8T 1A7\, Canada \nCategory: Live Music | Concert \nPrice:\nGeneral Admission: CAD 33.28
URL:https://creativelyunited.org/event/ensemble-laude-queen/
LOCATION:United Commons (formerly First Metropolitan)\, 932 Balmoral Road\, Victoria\, V8T 1A7
ATTACH;FMTTYPE=image/jpeg:https://creativelyunited.org/wp-content/uploads/2026/03/3481554.jpg
ORGANIZER;CN="Ensemble Laude Choral Society":MAILTO:manager@ensemblelaude.org
END:VEVENT
END:VCALENDAR