BEGIN:VCALENDAR
VERSION:2.0
PRODID:-//Creatively United Community - ECPv6.15.18//NONSGML v1.0//EN
CALSCALE:GREGORIAN
METHOD:PUBLISH
X-WR-CALNAME:Creatively United Community
X-ORIGINAL-URL:https://creativelyunited.org
X-WR-CALDESC:Events for Creatively United Community
REFRESH-INTERVAL;VALUE=DURATION:PT1H
X-Robots-Tag:noindex
X-PUBLISHED-TTL:PT1H
BEGIN:VTIMEZONE
TZID:America/Vancouver
BEGIN:DAYLIGHT
TZOFFSETFROM:-0800
TZOFFSETTO:-0700
TZNAME:PDT
DTSTART:20250309T100000
END:DAYLIGHT
BEGIN:STANDARD
TZOFFSETFROM:-0700
TZOFFSETTO:-0800
TZNAME:PST
DTSTART:20251102T090000
END:STANDARD
BEGIN:DAYLIGHT
TZOFFSETFROM:-0800
TZOFFSETTO:-0700
TZNAME:PDT
DTSTART:20260308T100000
END:DAYLIGHT
BEGIN:STANDARD
TZOFFSETFROM:-0700
TZOFFSETTO:-0800
TZNAME:PST
DTSTART:20261101T090000
END:STANDARD
BEGIN:DAYLIGHT
TZOFFSETFROM:-0800
TZOFFSETTO:-0700
TZNAME:PDT
DTSTART:20270314T100000
END:DAYLIGHT
BEGIN:STANDARD
TZOFFSETFROM:-0700
TZOFFSETTO:-0800
TZNAME:PST
DTSTART:20271107T090000
END:STANDARD
END:VTIMEZONE
BEGIN:VEVENT
DTSTART;TZID=America/Vancouver:20260503T120000
DTEND;TZID=America/Vancouver:20260503T150000
DTSTAMP:20260423T124042
CREATED:20260422T235422Z
LAST-MODIFIED:20260422T235422Z
UID:10010581-1777809600-1777820400@creativelyunited.org
SUMMARY:Camas Day Celebration
DESCRIPTION:Friends of Uplands Park will be having its Camas Day Celebration on Sunday May 3\, 2026. \nJoin FOUP for their annual spring celebration with food\, live music\, native plant walks\, prizes\, kids activities and incredible informational displays from their community amazing partners working to protect our local ecosystems. \nFor more information\, please visit Friends of Uplands Park Website.
URL:https://creativelyunited.org/event/camas-day-celebration/
LOCATION:Uplands Park\, 2900 Beach Drive2\, Victoria\, BC\, ca
ATTACH;FMTTYPE=image/jpeg:https://creativelyunited.org/wp-content/uploads/2026/04/Screenshot-2026-04-22-165236.jpg
GEO:48.438853;-123.2972986
X-APPLE-STRUCTURED-LOCATION;VALUE=URI;X-ADDRESS=Uplands Park 2900 Beach Drive2 Victoria BC ca;X-APPLE-RADIUS=500;X-TITLE=2900 Beach Drive2:geo:-123.2972986,48.438853
END:VEVENT
END:VCALENDAR