BEGIN:VCALENDAR
VERSION:2.0
PRODID:-//Creatively United Community - ECPv6.15.18//NONSGML v1.0//EN
CALSCALE:GREGORIAN
METHOD:PUBLISH
X-ORIGINAL-URL:https://creativelyunited.org
X-WR-CALDESC:Events for Creatively United Community
REFRESH-INTERVAL;VALUE=DURATION:PT1H
X-Robots-Tag:noindex
X-PUBLISHED-TTL:PT1H
BEGIN:VTIMEZONE
TZID:America/Vancouver
BEGIN:DAYLIGHT
TZOFFSETFROM:-0800
TZOFFSETTO:-0700
TZNAME:PDT
DTSTART:20250309T100000
END:DAYLIGHT
BEGIN:STANDARD
TZOFFSETFROM:-0700
TZOFFSETTO:-0800
TZNAME:PST
DTSTART:20251102T090000
END:STANDARD
BEGIN:DAYLIGHT
TZOFFSETFROM:-0800
TZOFFSETTO:-0700
TZNAME:PDT
DTSTART:20260308T100000
END:DAYLIGHT
BEGIN:STANDARD
TZOFFSETFROM:-0700
TZOFFSETTO:-0800
TZNAME:PST
DTSTART:20261101T090000
END:STANDARD
BEGIN:DAYLIGHT
TZOFFSETFROM:-0800
TZOFFSETTO:-0700
TZNAME:PDT
DTSTART:20270314T100000
END:DAYLIGHT
BEGIN:STANDARD
TZOFFSETFROM:-0700
TZOFFSETTO:-0800
TZNAME:PST
DTSTART:20271107T090000
END:STANDARD
END:VTIMEZONE
BEGIN:VEVENT
DTSTART;TZID=America/Vancouver:20260417T190000
DTEND;TZID=America/Vancouver:20260417T210000
DTSTAMP:20260423T143811
CREATED:20260402T174823Z
LAST-MODIFIED:20260402T174823Z
UID:10010477-1776452400-1776459600@creativelyunited.org
SUMMARY:Heather Ferguson at Hermann’s Jazz Club
DESCRIPTION:Heather Ferguson brings her smouldering vocals to Hermann’s stage with original songs from her acclaimed album “FOUND\,” and reimagined jazz standards. Joined by some of Victoria’s finest musicians\, she showcases intimate\, story-rich songs that feel both sophisticated and warmly inviting. \nCritics have praised her as “a compelling voice in the jazz scene\,” noting her warm\, commanding tone\, beautiful phrasing\, and performances that are at once confident\, generous\, and passionately emotional. \nNow emerging fully as a singer‑songwriter\, Heather is celebrated for original material that blends deeply personal storytelling and luminous arrangements. Every lyric and every note lands up close and personal. \nWebsite: www.heatherferguson.ca
URL:https://creativelyunited.org/event/heather-ferguson-at-hermanns-jazz-club/
LOCATION:Hermann’s Jazz Club\, 753 View Street\, Victoria\, V8W 1J9
ORGANIZER;CN="Hermann's Jazz Club":MAILTO:info@hermannsjazz.com
GEO:48.4251136;-123.3629143
X-APPLE-STRUCTURED-LOCATION;VALUE=URI;X-ADDRESS=Hermann’s Jazz Club 753 View Street Victoria V8W 1J9;X-APPLE-RADIUS=500;X-TITLE=753 View Street:geo:-123.3629143,48.4251136
END:VEVENT
END:VCALENDAR