BEGIN:VCALENDAR
VERSION:2.0
PRODID:-//Creatively United Community - ECPv6.15.18//NONSGML v1.0//EN
CALSCALE:GREGORIAN
METHOD:PUBLISH
X-WR-CALNAME:Creatively United Community
X-ORIGINAL-URL:https://creativelyunited.org
X-WR-CALDESC:Events for Creatively United Community
REFRESH-INTERVAL;VALUE=DURATION:PT1H
X-Robots-Tag:noindex
X-PUBLISHED-TTL:PT1H
BEGIN:VTIMEZONE
TZID:America/Vancouver
BEGIN:DAYLIGHT
TZOFFSETFROM:-0800
TZOFFSETTO:-0700
TZNAME:PDT
DTSTART:20250309T100000
END:DAYLIGHT
BEGIN:STANDARD
TZOFFSETFROM:-0700
TZOFFSETTO:-0800
TZNAME:PST
DTSTART:20251102T090000
END:STANDARD
BEGIN:DAYLIGHT
TZOFFSETFROM:-0800
TZOFFSETTO:-0700
TZNAME:PDT
DTSTART:20260308T100000
END:DAYLIGHT
BEGIN:STANDARD
TZOFFSETFROM:-0700
TZOFFSETTO:-0800
TZNAME:PST
DTSTART:20261101T090000
END:STANDARD
BEGIN:DAYLIGHT
TZOFFSETFROM:-0800
TZOFFSETTO:-0700
TZNAME:PDT
DTSTART:20270314T100000
END:DAYLIGHT
BEGIN:STANDARD
TZOFFSETFROM:-0700
TZOFFSETTO:-0800
TZNAME:PST
DTSTART:20271107T090000
END:STANDARD
END:VTIMEZONE
BEGIN:VEVENT
DTSTART;TZID=America/Vancouver:20260418T100000
DTEND;TZID=America/Vancouver:20260426T170000
DTSTAMP:20260423T092035
CREATED:20260417T160331Z
LAST-MODIFIED:20260417T160331Z
UID:10010531-1776506400-1777222800@creativelyunited.org
SUMMARY:Tomato Week! Plant Sale and Open House at Mason St Farm - 28 Types of Tomato Starters for your Garden
DESCRIPTION:We’re excited to share here the full selection of Tomato Starts we’ll have as part of our first release. Wow 28 varieties. See if you can spot the latest additions:\nStarting THIS SATURDAY\, April 18th to 26th\n10am-5pm\n1015 Balmoral Rd. \nWant to know what stands out about our Tomato Starts?\n•Farmer Selected Varieties\nMost types we grow for you are varieties we’ve grown for years here on the farm and our selected for local resiliency\, flavour\, diversity and commercial level yields.\n•They’re grown in Certified Organic Compost and Mycelium Inoculated. Mycelium supercharges the root system to boost access and uptake of water and nutrients\n•These starts are extraordinarily vigorous. Once planted they will succeed in your garden.\n•They’ve been hardened off for 10 days and in good relation to the out door elements. Ready for planting in your garden.\n•You won’t find better tomato starts\, but we’re still very competitive with our prices. \nURL:\nWebsite: https://go.evvnt.com/3588138-0?pid=10320 \nDate and Time: On Sat\, 18 Apr 2026 10:00 – Sun\, 26 Apr 2026 17:00 \nVenue details: The Victoria Edible Nursery @ Mason St Farm\, 1015 Balmoral Road\, Victoria\, British Columbia\, V8T 1A3\, Canada \nCategory: Community | Gardening / Horticultural
URL:https://creativelyunited.org/event/tomato-week-plant-sale-and-open-house-at-mason-st-farm-28-types-of-tomato-starters-for-your-garden/
LOCATION:The Victoria Edible Nursery @ Mason St Farm\, 1015 Balmoral Road\, Victoria\, V8T 1A3
ATTACH;FMTTYPE=image/jpeg:https://creativelyunited.org/wp-content/uploads/2026/04/3588138.jpg
ORGANIZER;CN="Jesse Brown":MAILTO:urbanjunglist@hotmail.com
END:VEVENT
END:VCALENDAR