BEGIN:VCALENDAR
VERSION:2.0
PRODID:-//Creatively United Community - ECPv6.15.18//NONSGML v1.0//EN
CALSCALE:GREGORIAN
METHOD:PUBLISH
X-ORIGINAL-URL:https://creativelyunited.org
X-WR-CALDESC:Events for Creatively United Community
REFRESH-INTERVAL;VALUE=DURATION:PT1H
X-Robots-Tag:noindex
X-PUBLISHED-TTL:PT1H
BEGIN:VTIMEZONE
TZID:America/Vancouver
BEGIN:DAYLIGHT
TZOFFSETFROM:-0800
TZOFFSETTO:-0700
TZNAME:PDT
DTSTART:20250309T100000
END:DAYLIGHT
BEGIN:STANDARD
TZOFFSETFROM:-0700
TZOFFSETTO:-0800
TZNAME:PST
DTSTART:20251102T090000
END:STANDARD
BEGIN:DAYLIGHT
TZOFFSETFROM:-0800
TZOFFSETTO:-0700
TZNAME:PDT
DTSTART:20260308T100000
END:DAYLIGHT
BEGIN:STANDARD
TZOFFSETFROM:-0700
TZOFFSETTO:-0800
TZNAME:PST
DTSTART:20261101T090000
END:STANDARD
BEGIN:DAYLIGHT
TZOFFSETFROM:-0800
TZOFFSETTO:-0700
TZNAME:PDT
DTSTART:20270314T100000
END:DAYLIGHT
BEGIN:STANDARD
TZOFFSETFROM:-0700
TZOFFSETTO:-0800
TZNAME:PST
DTSTART:20271107T090000
END:STANDARD
END:VTIMEZONE
BEGIN:VEVENT
DTSTART;TZID=America/Vancouver:20260419T140000
DTEND;TZID=America/Vancouver:20260419T153000
DTSTAMP:20260423T105412
CREATED:20260407T162431Z
LAST-MODIFIED:20260407T162431Z
UID:10010495-1776607200-1776612600@creativelyunited.org
SUMMARY:Spring Orchard Tour
DESCRIPTION:Join us for a fun and and educational 1-hour tour of the beautiful Welland Orchard under a canopy of apple blossoms! \nSpend some time enjoying all the beautiful fruit tree blossoms and learn about some of the many unique varieties of trees and vines we have at Welland including 100+ heritage apple varieties\, plout\, medlar\, pawpaws and more! \n Sunday\, April 19\, 2pm
URL:https://creativelyunited.org/event/spring-orchard-tour/
ATTACH;FMTTYPE=image/jpeg:https://creativelyunited.org/wp-content/uploads/2026/04/Screenshot-2026-04-07-092332.jpg
END:VEVENT
BEGIN:VEVENT
DTSTART;TZID=America/Vancouver:20260411T133000
DTEND;TZID=America/Vancouver:20260411T153000
DTSTAMP:20260423T105412
CREATED:20260407T163121Z
LAST-MODIFIED:20260407T163121Z
UID:10010499-1775914200-1775921400@creativelyunited.org
SUMMARY:Intro to Seed Saving Workshop
DESCRIPTION:Join us to celebrate the upcoming relaunch of the Victoria Seed Library and learn all about the basics of saving your own seeds at home! \nThis workshop will provide an introduction to what you need to know to get started saving a few easy varieties of seed this year; from planning and planting your garden to cleaning and germ testing your seeds. \nThis free\, in-person workshop is made possible thanks to the support of the Greater Victoria Public Library. Space is limited—if you can no longer attend\, please let us know so we can offer your spot to someone else. \n Saturday\, April 11th\n 1:30 – 3:30 PM\n Greater Victoria Public Library (Central Branch\, 735 Broughton St.)
URL:https://creativelyunited.org/event/intro-to-seed-saving-workshop/
LOCATION:Central Branch of Greater Victoria Public Library\, 735 Broughton Street\, Victoria\, British Columbia\, V8W 3H2\, Canada
ATTACH;FMTTYPE=image/jpeg:https://creativelyunited.org/wp-content/uploads/2026/04/Screenshot-2026-04-07-093025.jpg
GEO:48.4234348;-123.3641758
X-APPLE-STRUCTURED-LOCATION;VALUE=URI;X-ADDRESS=Central Branch of Greater Victoria Public Library 735 Broughton Street Victoria British Columbia V8W 3H2 Canada;X-APPLE-RADIUS=500;X-TITLE=735 Broughton Street:geo:-123.3641758,48.4234348
END:VEVENT
END:VCALENDAR