BEGIN:VCALENDAR
VERSION:2.0
PRODID:-//Creatively United Community - ECPv6.15.18//NONSGML v1.0//EN
CALSCALE:GREGORIAN
METHOD:PUBLISH
X-WR-CALNAME:Creatively United Community
X-ORIGINAL-URL:https://creativelyunited.org
X-WR-CALDESC:Events for Creatively United Community
REFRESH-INTERVAL;VALUE=DURATION:PT1H
X-Robots-Tag:noindex
X-PUBLISHED-TTL:PT1H
BEGIN:VTIMEZONE
TZID:America/Vancouver
BEGIN:DAYLIGHT
TZOFFSETFROM:-0800
TZOFFSETTO:-0700
TZNAME:PDT
DTSTART:20250309T100000
END:DAYLIGHT
BEGIN:STANDARD
TZOFFSETFROM:-0700
TZOFFSETTO:-0800
TZNAME:PST
DTSTART:20251102T090000
END:STANDARD
BEGIN:DAYLIGHT
TZOFFSETFROM:-0800
TZOFFSETTO:-0700
TZNAME:PDT
DTSTART:20260308T100000
END:DAYLIGHT
BEGIN:STANDARD
TZOFFSETFROM:-0700
TZOFFSETTO:-0800
TZNAME:PST
DTSTART:20261101T090000
END:STANDARD
BEGIN:DAYLIGHT
TZOFFSETFROM:-0800
TZOFFSETTO:-0700
TZNAME:PDT
DTSTART:20270314T100000
END:DAYLIGHT
BEGIN:STANDARD
TZOFFSETFROM:-0700
TZOFFSETTO:-0800
TZNAME:PST
DTSTART:20271107T090000
END:STANDARD
END:VTIMEZONE
BEGIN:VEVENT
DTSTART;TZID=America/Vancouver:20260426T130000
DTEND;TZID=America/Vancouver:20260426T150000
DTSTAMP:20260423T091323
CREATED:20260407T162538Z
LAST-MODIFIED:20260407T162538Z
UID:10010496-1777208400-1777215600@creativelyunited.org
SUMMARY:A Year in the Life of a Fruit Tree Workshop
DESCRIPTION:Learn the basics of what you need to care for your fruit trees throughout the year!  \nThis workshop will cover an introduction to a range of topics related to fruit tree care throughout the year including pruning\, irrigation\, soil health\, pest and disease management\, crop management and more. \nOur hope is that you will leave this workshop with a basic understanding of how to care for your tree in a holistic way year round\, and be able to identify the areas in which you would like to further develop your fruit tree care knowledge and skills. \n Sunday\, April 26\, 1pm – 3pm
URL:https://creativelyunited.org/event/a-year-in-the-life-of-a-fruit-tree-workshop/
ATTACH;FMTTYPE=image/jpeg:https://creativelyunited.org/wp-content/uploads/2026/04/Screenshot-2026-04-07-092452.jpg
END:VEVENT
BEGIN:VEVENT
DTSTART;TZID=America/Vancouver:20260510T130000
DTEND;TZID=America/Vancouver:20260510T150000
DTSTAMP:20260423T091323
CREATED:20260407T162653Z
LAST-MODIFIED:20260407T162653Z
UID:10010497-1778418000-1778425200@creativelyunited.org
SUMMARY:Soil Science for Gardeners Workshop
DESCRIPTION:Dig deeper into what’s happening in your soil! \nThis workshop will cover the fundamentals of soil science\, helping you better understand what’s happening beneath the surface of your garden. You’ll learn about both at-home and lab-based soil testing options\, how to take accurate samples\, and how to interpret your results. \nWe’ll also explore the difference between soil structure and texture\, how nutrients move between soil and plants\, and practical strategies for managing and improving your soil health at home. \n Sunday\, May 10. 1pm – 3pm
URL:https://creativelyunited.org/event/soil-science-for-gardeners-workshop/
ATTACH;FMTTYPE=image/jpeg:https://creativelyunited.org/wp-content/uploads/2026/04/Screenshot-2026-04-07-092609.jpg
END:VEVENT
BEGIN:VEVENT
DTSTART;TZID=America/Vancouver:20260524T100000
DTEND;TZID=America/Vancouver:20260524T120000
DTSTAMP:20260423T091323
CREATED:20260407T163014Z
LAST-MODIFIED:20260407T163014Z
UID:10010498-1779616800-1779624000@creativelyunited.org
SUMMARY:Drip Line Irrigation Workshop
DESCRIPTION:Did you know that drip line irrigation systems can help you save time\, water and improve your plant health?  \nThis workshop will cover the basics of what you need to know in order to design\, build\, maintain and repair a simple above ground drip line irrigation system. Using the system at Welland Orchard as an example\, we will go through design considerations\, required components and annual maintenance. Then we will get some hands-on experience repairing common damage to irrigation systems and learn about what tools and supplies you need to make your own irrigation repair kit. \n Sunday\, May 24\, 10am-12pm
URL:https://creativelyunited.org/event/drip-line-irrigation-workshop/
ATTACH;FMTTYPE=image/jpeg:https://creativelyunited.org/wp-content/uploads/2026/04/Screenshot-2026-04-07-092941.jpg
END:VEVENT
END:VCALENDAR