BEGIN:VCALENDAR
VERSION:2.0
PRODID:-//Creatively United Community - ECPv6.15.18//NONSGML v1.0//EN
CALSCALE:GREGORIAN
METHOD:PUBLISH
X-WR-CALNAME:Creatively United Community
X-ORIGINAL-URL:https://creativelyunited.org
X-WR-CALDESC:Events for Creatively United Community
REFRESH-INTERVAL;VALUE=DURATION:PT1H
X-Robots-Tag:noindex
X-PUBLISHED-TTL:PT1H
BEGIN:VTIMEZONE
TZID:America/Vancouver
BEGIN:DAYLIGHT
TZOFFSETFROM:-0800
TZOFFSETTO:-0700
TZNAME:PDT
DTSTART:20250309T100000
END:DAYLIGHT
BEGIN:STANDARD
TZOFFSETFROM:-0700
TZOFFSETTO:-0800
TZNAME:PST
DTSTART:20251102T090000
END:STANDARD
BEGIN:DAYLIGHT
TZOFFSETFROM:-0800
TZOFFSETTO:-0700
TZNAME:PDT
DTSTART:20260308T100000
END:DAYLIGHT
BEGIN:STANDARD
TZOFFSETFROM:-0700
TZOFFSETTO:-0800
TZNAME:PST
DTSTART:20261101T090000
END:STANDARD
BEGIN:DAYLIGHT
TZOFFSETFROM:-0800
TZOFFSETTO:-0700
TZNAME:PDT
DTSTART:20270314T100000
END:DAYLIGHT
BEGIN:STANDARD
TZOFFSETFROM:-0700
TZOFFSETTO:-0800
TZNAME:PST
DTSTART:20271107T090000
END:STANDARD
END:VTIMEZONE
BEGIN:VEVENT
DTSTART;TZID=America/Vancouver:20260419T190000
DTEND;TZID=America/Vancouver:20260419T210000
DTSTAMP:20260423T135538
CREATED:20260319T014138Z
LAST-MODIFIED:20260319T014138Z
UID:10010429-1776625200-1776632400@creativelyunited.org
SUMMARY:Songwriter Sessions
DESCRIPTION:Introducing — 🌟 Songwriter Sessions 🌟 \nA new series of intimate acoustic shows—hosted by songwriters\, for songwriters. We’re creating a space right here in Victoria for artists to share not just their music\, but the stories and meaning behind every lyric. \nDebut Show: April 19\, 2026 | 7PM | The Mint\, Victoria\nFeaturing: Blair Coyle · Mikayla Menzies · Diana Rose · Long Cool Cowgirl \n$15 in advance (AdmitOne) | $20 at the door \nJoin us as we build community\, share stories\, and celebrate the heart behind every song.
URL:https://creativelyunited.org/event/songwriter-sessions/
LOCATION:The Mint Restaurant\, 1414 Douglas Street\, Victoria\, V8W 2G2
ATTACH;FMTTYPE=image/png:https://creativelyunited.org/wp-content/uploads/2026/03/Poster-QR-Code-For-Print.png
ORGANIZER;CN="@mikaylamenzies":MAILTO:menzies.mikayla@gmail.com
GEO:48.4275599;-123.364849
X-APPLE-STRUCTURED-LOCATION;VALUE=URI;X-ADDRESS=The Mint Restaurant 1414 Douglas Street Victoria V8W 2G2;X-APPLE-RADIUS=500;X-TITLE=1414 Douglas Street:geo:-123.364849,48.4275599
END:VEVENT
END:VCALENDAR