BEGIN:VCALENDAR
VERSION:2.0
PRODID:-//Creatively United Community - ECPv6.15.18//NONSGML v1.0//EN
CALSCALE:GREGORIAN
METHOD:PUBLISH
X-WR-CALNAME:Creatively United Community
X-ORIGINAL-URL:https://creativelyunited.org
X-WR-CALDESC:Events for Creatively United Community
REFRESH-INTERVAL;VALUE=DURATION:PT1H
X-Robots-Tag:noindex
X-PUBLISHED-TTL:PT1H
BEGIN:VTIMEZONE
TZID:America/Vancouver
BEGIN:DAYLIGHT
TZOFFSETFROM:-0800
TZOFFSETTO:-0700
TZNAME:PDT
DTSTART:20250309T100000
END:DAYLIGHT
BEGIN:STANDARD
TZOFFSETFROM:-0700
TZOFFSETTO:-0800
TZNAME:PST
DTSTART:20251102T090000
END:STANDARD
BEGIN:DAYLIGHT
TZOFFSETFROM:-0800
TZOFFSETTO:-0700
TZNAME:PDT
DTSTART:20260308T100000
END:DAYLIGHT
BEGIN:STANDARD
TZOFFSETFROM:-0700
TZOFFSETTO:-0800
TZNAME:PST
DTSTART:20261101T090000
END:STANDARD
BEGIN:DAYLIGHT
TZOFFSETFROM:-0800
TZOFFSETTO:-0700
TZNAME:PDT
DTSTART:20270314T100000
END:DAYLIGHT
BEGIN:STANDARD
TZOFFSETFROM:-0700
TZOFFSETTO:-0800
TZNAME:PST
DTSTART:20271107T090000
END:STANDARD
END:VTIMEZONE
BEGIN:VEVENT
DTSTART;TZID=America/Vancouver:20260124T103000
DTEND;TZID=America/Vancouver:20260124T123000
DTSTAMP:20260424T074541
CREATED:20260106T011026Z
LAST-MODIFIED:20260106T011026Z
UID:10009084-1769250600-1769257800@creativelyunited.org
SUMMARY:Introduction to Bijou Bugs Workshop
DESCRIPTION:Get ready to dive into the fascinating world of Bijou Bugs at this interactive workshop – it’s going to be a bug-tastic adventure! \n\n\n\nJoin a hands-on Bijou Bugs beading workshop with Nafiseh Rashidianfar. \nIn this 2-hour session\, Nafiseh will provide an overview of the process of making a butterfly charm\, defining and processing the edges\, and how to sew different kinds of beads\, sequins\, crystals\, and rhinestones. You will go home with your very own butterfly charm to finish and use. All materials will be provided and are included in the fee. \nWorkshop Fee: $39 \nPre-registration is required for this workshop through this link. The organizer will contact you for fees and confirmation of the registration.
URL:https://creativelyunited.org/event/introduction-to-bijou-bugs-workshop/
LOCATION:TheDock – Centre for Social Impact\, 722 Cormorant St\, Victoria\, BC\, V8W1P8
ATTACH;FMTTYPE=image/jpeg:https://creativelyunited.org/wp-content/uploads/2026/01/Poster-3-scaled.jpg
ORGANIZER;CN="NafisehRashidianfar":MAILTO:BijouBugsContact@gmail.com
END:VEVENT
END:VCALENDAR