BEGIN:VCALENDAR
VERSION:2.0
PRODID:-//Creatively United Community - ECPv6.15.18//NONSGML v1.0//EN
CALSCALE:GREGORIAN
METHOD:PUBLISH
X-WR-CALNAME:Creatively United Community
X-ORIGINAL-URL:https://creativelyunited.org
X-WR-CALDESC:Events for Creatively United Community
REFRESH-INTERVAL;VALUE=DURATION:PT1H
X-Robots-Tag:noindex
X-PUBLISHED-TTL:PT1H
BEGIN:VTIMEZONE
TZID:America/Vancouver
BEGIN:DAYLIGHT
TZOFFSETFROM:-0800
TZOFFSETTO:-0700
TZNAME:PDT
DTSTART:20250309T100000
END:DAYLIGHT
BEGIN:STANDARD
TZOFFSETFROM:-0700
TZOFFSETTO:-0800
TZNAME:PST
DTSTART:20251102T090000
END:STANDARD
BEGIN:DAYLIGHT
TZOFFSETFROM:-0800
TZOFFSETTO:-0700
TZNAME:PDT
DTSTART:20260308T100000
END:DAYLIGHT
BEGIN:STANDARD
TZOFFSETFROM:-0700
TZOFFSETTO:-0800
TZNAME:PST
DTSTART:20261101T090000
END:STANDARD
BEGIN:DAYLIGHT
TZOFFSETFROM:-0800
TZOFFSETTO:-0700
TZNAME:PDT
DTSTART:20270314T100000
END:DAYLIGHT
BEGIN:STANDARD
TZOFFSETFROM:-0700
TZOFFSETTO:-0800
TZNAME:PST
DTSTART:20271107T090000
END:STANDARD
END:VTIMEZONE
BEGIN:VEVENT
DTSTART;TZID=America/Vancouver:20260415T120000
DTEND;TZID=America/Vancouver:20260415T130000
DTSTAMP:20260423T154909
CREATED:20260407T161853Z
LAST-MODIFIED:20260407T161853Z
UID:10010493-1776254400-1776258000@creativelyunited.org
SUMMARY:Becoming a Good Relative with Hilary Giovale
DESCRIPTION:Join the next Resilience and Possibility in These Times for a conversation with Hilary Giovale\, author of Becoming a Good Relative: Calling White Settlers toward Truth\, Healing\, and Repair. Hilary brings rare clarity and humility to the spiritual and strategic journey of repair and reckoning with the harmful legacies of colonialism. With skill and grace\, she models how we can choose truth-telling over denial\, accountability over paralysis\, and generative grief over shame. \nShe speaks to the grief many feel in the journey to truly understand and heal the legacies and erasures that have shaped us. Facing ancestral history can open pathways toward healing and collective liberation—supporting Indigenous leadership\, repairing harm\, and reclaiming an embodied sense of belonging within one’s own lineage\, without appropriation. \n\n\n\n\n\n\n\n\n\n\n\n\n\n\n JOIN THE CALL \n\n\n\n  \n\n\n\n\n\n\n\n\n\n\n\nAt a time when social fractures run deep\, she reminds us that a sustainable\, just\, and thriving future will be created in deep relationship with our own lineages\, with the land\, and with one another. Most importantly\, it will be forged in the responsibility that comes from being alive and awake in these times. \nThis conversation will invite us to examine colonial history with depth\, honesty and equanimity so we can transform these harmful legacies into a sacred responsibility for the flourishing of Life and a future that works for all. \nWe hope you’ll join us for this important and exciting conversation.
URL:https://creativelyunited.org/event/becoming-a-good-relative-with-hilary-giovale/
LOCATION:Webinar\, Webinar\, Webinar\, Canada
ATTACH;FMTTYPE=image/jpeg:https://creativelyunited.org/wp-content/uploads/2026/04/Screenshot-2026-04-07-091745.jpg
END:VEVENT
END:VCALENDAR