BEGIN:VCALENDAR
VERSION:2.0
PRODID:-//Creatively United Community - ECPv6.15.18//NONSGML v1.0//EN
CALSCALE:GREGORIAN
METHOD:PUBLISH
X-ORIGINAL-URL:https://creativelyunited.org
X-WR-CALDESC:Events for Creatively United Community
REFRESH-INTERVAL;VALUE=DURATION:PT1H
X-Robots-Tag:noindex
X-PUBLISHED-TTL:PT1H
BEGIN:VTIMEZONE
TZID:America/Vancouver
BEGIN:DAYLIGHT
TZOFFSETFROM:-0800
TZOFFSETTO:-0700
TZNAME:PDT
DTSTART:20250309T100000
END:DAYLIGHT
BEGIN:STANDARD
TZOFFSETFROM:-0700
TZOFFSETTO:-0800
TZNAME:PST
DTSTART:20251102T090000
END:STANDARD
BEGIN:DAYLIGHT
TZOFFSETFROM:-0800
TZOFFSETTO:-0700
TZNAME:PDT
DTSTART:20260308T100000
END:DAYLIGHT
BEGIN:STANDARD
TZOFFSETFROM:-0700
TZOFFSETTO:-0800
TZNAME:PST
DTSTART:20261101T090000
END:STANDARD
BEGIN:DAYLIGHT
TZOFFSETFROM:-0800
TZOFFSETTO:-0700
TZNAME:PDT
DTSTART:20270314T100000
END:DAYLIGHT
BEGIN:STANDARD
TZOFFSETFROM:-0700
TZOFFSETTO:-0800
TZNAME:PST
DTSTART:20271107T090000
END:STANDARD
END:VTIMEZONE
BEGIN:VEVENT
DTSTART;TZID=America/Vancouver:20260502T110000
DTEND;TZID=America/Vancouver:20260502T150000
DTSTAMP:20260423T124042
CREATED:20260324T161857Z
LAST-MODIFIED:20260324T161857Z
UID:10010440-1777719600-1777734000@creativelyunited.org
SUMMARY:Family Sport & Recreation Festival Presented by TD Bank
DESCRIPTION:This FREE interactive sport and recreation festival is your pre-summer destination for introducing kids to new opportunities at the club and community level\, and for parents to learn more about keeping their kids engaged in healthy activities. \nHosted by the Greater Victoria Sports Hall of Fames and PISE\, the festival features a broad variety of fun experiences for the whole family with more than 30 activities for kids and families to try out including rugby\, tennis\, karate\, para sports\, golf\, a Kids Dash around the track and more. \nPISE’s primary purpose is to transform lives through healthy activity and sport\, inspiring families to be more active and encouraging them to play their way to confidence.
URL:https://creativelyunited.org/event/family-sport-recreation-festival-presented-by-td-bank/
LOCATION:Pacific Institute for Sport Education\, 4371 Interurban Road\, Victoria\, V9E2C5\, Canada
ATTACH;FMTTYPE=image/jpeg:https://creativelyunited.org/wp-content/uploads/2026/03/FSRF-2026-poster-no-sponsor-3-scaled.jpg
ORGANIZER;CN="PacificInstitute for Sport Education":MAILTO:mswann@pise,ca
END:VEVENT
END:VCALENDAR