BEGIN:VCALENDAR
VERSION:2.0
PRODID:-//Creatively United Community - ECPv6.15.18//NONSGML v1.0//EN
CALSCALE:GREGORIAN
METHOD:PUBLISH
X-ORIGINAL-URL:https://creativelyunited.org
X-WR-CALDESC:Events for Creatively United Community
REFRESH-INTERVAL;VALUE=DURATION:PT1H
X-Robots-Tag:noindex
X-PUBLISHED-TTL:PT1H
BEGIN:VTIMEZONE
TZID:America/Vancouver
BEGIN:DAYLIGHT
TZOFFSETFROM:-0800
TZOFFSETTO:-0700
TZNAME:PDT
DTSTART:20250309T100000
END:DAYLIGHT
BEGIN:STANDARD
TZOFFSETFROM:-0700
TZOFFSETTO:-0800
TZNAME:PST
DTSTART:20251102T090000
END:STANDARD
BEGIN:DAYLIGHT
TZOFFSETFROM:-0800
TZOFFSETTO:-0700
TZNAME:PDT
DTSTART:20260308T100000
END:DAYLIGHT
BEGIN:STANDARD
TZOFFSETFROM:-0700
TZOFFSETTO:-0800
TZNAME:PST
DTSTART:20261101T090000
END:STANDARD
BEGIN:DAYLIGHT
TZOFFSETFROM:-0800
TZOFFSETTO:-0700
TZNAME:PDT
DTSTART:20270314T100000
END:DAYLIGHT
BEGIN:STANDARD
TZOFFSETFROM:-0700
TZOFFSETTO:-0800
TZNAME:PST
DTSTART:20271107T090000
END:STANDARD
END:VTIMEZONE
BEGIN:VEVENT
DTSTART;TZID=America/Vancouver:20260403T210000
DTEND;TZID=America/Vancouver:20260403T230000
DTSTAMP:20260424T003910
CREATED:20260403T165314Z
LAST-MODIFIED:20260403T165314Z
UID:10010480-1775250000-1775257200@creativelyunited.org
SUMMARY:Free vocal jazz Friday night at Pag's set to open the Gershwin Songbook
DESCRIPTION:Pagliacci’s (4.4 stars Google Maps from over 5000 reviews) presents a relaxed evening of romantic vocal jazz quartet\, classic 50s style\, while you wine and dine on Pag’s signature pasta\, Italian staples\, varied menu and homemade bread. Cocktails\, wine and beers on offer! Globe-trotting Vancouver Island jazz vocalist Angela Verbrugge will be joined by soulful jazz:pianist Dr Tony Genge (PhD Music)\, bassist Ross Macdonald. Angela was recognized by JazzTimes Magazine as Best Female Vocalist in the readers’ poll in 2020. You can find Angela Verbrugge’s Earshot #1 / JazzWeek ranked recordings on all streaming platforms and YouTube. \nThe group will romp through delightful swing\, passionate Latin grooves\, heartfelt blues and sweet jazz focused on Gershwin this evening. \nURLs: \nFacebook: https://go.evvnt.com/3565339-0?pid=10320\nInstagram: https://go.evvnt.com/3565339-2?pid=10320\nTwitter: https://go.evvnt.com/3565339-3?pid=10320\nYouTube: https://go.evvnt.com/3565339-5?pid=10320\nYouTube: https://go.evvnt.com/3565339-6?pid=10320 \nArtists / Speakers: Angela Verbrugge\, Tony Genge \nCategory: Community | Local / Community \nTime: 9:00 PM – 11:00 PM \nVenue Details: Pagliacci’s\, 1011 Broad Street\, Victoria\, British Columbia\, V8W 2A1\, Canada
URL:https://creativelyunited.org/event/free-vocal-jazz-friday-night-at-pags-set-to-open-the-gershwin-songbook/
LOCATION:Pagliacci’s\, 1011 Broad Street\, Victoria\, V8W 2A1
ATTACH;FMTTYPE=image/jpeg:https://creativelyunited.org/wp-content/uploads/2026/04/400.jpg
ORGANIZER;CN="Pagliacci's":MAILTO:music@pagliaccis.ca
GEO:48.4244394;-123.3663821
X-APPLE-STRUCTURED-LOCATION;VALUE=URI;X-ADDRESS=Pagliacci’s 1011 Broad Street Victoria V8W 2A1;X-APPLE-RADIUS=500;X-TITLE=1011 Broad Street:geo:-123.3663821,48.4244394
END:VEVENT
END:VCALENDAR