BEGIN:VCALENDAR
VERSION:2.0
PRODID:-//Creatively United Community - ECPv6.15.18//NONSGML v1.0//EN
CALSCALE:GREGORIAN
METHOD:PUBLISH
X-WR-CALNAME:Creatively United Community
X-ORIGINAL-URL:https://creativelyunited.org
X-WR-CALDESC:Events for Creatively United Community
REFRESH-INTERVAL;VALUE=DURATION:PT1H
X-Robots-Tag:noindex
X-PUBLISHED-TTL:PT1H
BEGIN:VTIMEZONE
TZID:America/Vancouver
BEGIN:DAYLIGHT
TZOFFSETFROM:-0800
TZOFFSETTO:-0700
TZNAME:PDT
DTSTART:20250309T100000
END:DAYLIGHT
BEGIN:STANDARD
TZOFFSETFROM:-0700
TZOFFSETTO:-0800
TZNAME:PST
DTSTART:20251102T090000
END:STANDARD
BEGIN:DAYLIGHT
TZOFFSETFROM:-0800
TZOFFSETTO:-0700
TZNAME:PDT
DTSTART:20260308T100000
END:DAYLIGHT
BEGIN:STANDARD
TZOFFSETFROM:-0700
TZOFFSETTO:-0800
TZNAME:PST
DTSTART:20261101T090000
END:STANDARD
BEGIN:DAYLIGHT
TZOFFSETFROM:-0800
TZOFFSETTO:-0700
TZNAME:PDT
DTSTART:20270314T100000
END:DAYLIGHT
BEGIN:STANDARD
TZOFFSETFROM:-0700
TZOFFSETTO:-0800
TZNAME:PST
DTSTART:20271107T090000
END:STANDARD
END:VTIMEZONE
BEGIN:VEVENT
DTSTART;TZID=America/Vancouver:20260425T110000
DTEND;TZID=America/Vancouver:20260425T150000
DTSTAMP:20260423T123827
CREATED:20260410T155142Z
LAST-MODIFIED:20260410T155142Z
UID:10010509-1777114800-1777129200@creativelyunited.org
SUMMARY:DIY DAY at Church of the Advent
DESCRIPTION:Then we’ve got the FREE Saturday happening for YOU!!! \nJoin us for DIY DAY\, where you can get tips and info about …\nRepairing Stuff (our Pop-up Repair Café will be offering free repairs for stand mixers\, toasters\, lamps and bikes)\nRecycling Beyond the Blue Box\nSaving Energy at Home\nGrowing Your Own Food\nComposting\nCooking and Preserving Food\nProtecting Green Spaces\nSewing and Mending\nUpcycling \nYou can also pick-up a FREE Metchosin Farm sunflower seedling and join in the West Shore Sunflower Challenge! \nA community collaboration with the South Island Climate Action Network (SICAN). \nWebsite: https://go.evvnt.com/3444509-0?pid=10320 \nDate and Time: On Sat\, 25 Apr 2026 11:00 – Sat\, 25 Apr 2026 15:00 \nVenue Details: Church of the Advent\, 510 Mount View Avenue\, Victoria\, British Columbia\, V9B 2B1\, Canada \nCategory: Community
URL:https://creativelyunited.org/event/diy-day-at-church-of-the-advent/
LOCATION:Church of the Advent\, 510 Mount View Avenue\, Victoria\, BC\, V9B 2B1
ATTACH;FMTTYPE=image/jpeg:https://creativelyunited.org/wp-content/uploads/2026/04/3444509.jpg
ORGANIZER;CN="ReImagine West Shore":MAILTO:connect@reimagineus.ca
GEO:48.4374992;-123.4877024
X-APPLE-STRUCTURED-LOCATION;VALUE=URI;X-ADDRESS=Church of the Advent 510 Mount View Avenue Victoria BC V9B 2B1;X-APPLE-RADIUS=500;X-TITLE=510 Mount View Avenue:geo:-123.4877024,48.4374992
END:VEVENT
END:VCALENDAR