BEGIN:VCALENDAR
VERSION:2.0
PRODID:-//Creatively United Community - ECPv6.15.18//NONSGML v1.0//EN
CALSCALE:GREGORIAN
METHOD:PUBLISH
X-ORIGINAL-URL:https://creativelyunited.org
X-WR-CALDESC:Events for Creatively United Community
REFRESH-INTERVAL;VALUE=DURATION:PT1H
X-Robots-Tag:noindex
X-PUBLISHED-TTL:PT1H
BEGIN:VTIMEZONE
TZID:America/Vancouver
BEGIN:DAYLIGHT
TZOFFSETFROM:-0800
TZOFFSETTO:-0700
TZNAME:PDT
DTSTART:20250309T100000
END:DAYLIGHT
BEGIN:STANDARD
TZOFFSETFROM:-0700
TZOFFSETTO:-0800
TZNAME:PST
DTSTART:20251102T090000
END:STANDARD
BEGIN:DAYLIGHT
TZOFFSETFROM:-0800
TZOFFSETTO:-0700
TZNAME:PDT
DTSTART:20260308T100000
END:DAYLIGHT
BEGIN:STANDARD
TZOFFSETFROM:-0700
TZOFFSETTO:-0800
TZNAME:PST
DTSTART:20261101T090000
END:STANDARD
BEGIN:DAYLIGHT
TZOFFSETFROM:-0800
TZOFFSETTO:-0700
TZNAME:PDT
DTSTART:20270314T100000
END:DAYLIGHT
BEGIN:STANDARD
TZOFFSETFROM:-0700
TZOFFSETTO:-0800
TZNAME:PST
DTSTART:20271107T090000
END:STANDARD
END:VTIMEZONE
BEGIN:VEVENT
DTSTART;TZID=America/Vancouver:20260404T100000
DTEND;TZID=America/Vancouver:20260404T123000
DTSTAMP:20260423T232826
CREATED:20260316T165203Z
LAST-MODIFIED:20260316T165203Z
UID:10010046-1775296800-1775305800@creativelyunited.org
SUMMARY:The Neal Estate Group's 27th Annual Easter Egg Hunt
DESCRIPTION:Victoria\, BC – The Neal Estate Group is delighted to invite families to the 27th Annual Easter Egg Hunt\, a cherished community event benefiting the BC Children’s Hospital. This community gathering is scheduled for Saturday\, April 4th\, 2026\, at Elk/Beaver Lake Regional Park at the filter beds. \nFestivities will commence at 10:00 AM. Please allow time for parking and registration. The event will feature face painting\, cupcake decorating\, bubble blowing\, a colouring contest\, and refreshments! The highlight of the event\, the Easter Egg Hunt\, will begin promptly at 11:00 AM and be over in a FLASH\, so don’t be late. \nThere will be more than 20\,000 chocolates\, other great prizes\, the Easter Bunny\, and more! \nParticipation is by donation\, with all proceeds directly supporting the BC Children’s Hospital. Over the past 20 years\, The Neal Estate Team has contributed more than $600\,000 to the hospital. \nFor more information about the event\, to make a donation\, or to access the colouring contest materials\, please visit RonNeal.com/easter \nAbout The Neal Estate Team: \nThe Neal Estate Group\, led by Ron Neal\, is a prominent real estate group in Victoria\, BC. Beyond their professional services\, they are deeply committed to community involvement\, supporting over 60 charitable organizations and community initiatives over the past two decades. \nURL:\nWebsite: https://go.evvnt.com/3525248-0?pid=10320 \nDate and Time: On Saturday April 04\, 2026 at 10:00 – 12:30 \nVenue details: Elk / Beaver Lake Regional Park – Filter Beds Parking Lot\, Beaver Lake Road\, Victoria\, British Columbia\, V8Z 6K2\, Canada \nCategory: Community | Local / Community
URL:https://creativelyunited.org/event/the-neal-estate-groups-27th-annual-easter-egg-hunt/
LOCATION:Elk / Beaver Lake Regional Park – Filter Beds Parking Lot\, Beaver Lake Road\, Victoria\, V8Z 6K2
ATTACH;FMTTYPE=image/jpeg:https://creativelyunited.org/wp-content/uploads/2026/03/3525248.jpg
ORGANIZER;CN="Ron Neal and The Neal Estate Group":MAILTO:admin@ronneal.com
GEO:48.5074238;-123.3944672
X-APPLE-STRUCTURED-LOCATION;VALUE=URI;X-ADDRESS=Elk / Beaver Lake Regional Park – Filter Beds Parking Lot Beaver Lake Road Victoria V8Z 6K2;X-APPLE-RADIUS=500;X-TITLE=Beaver Lake Road:geo:-123.3944672,48.5074238
END:VEVENT
END:VCALENDAR