BEGIN:VCALENDAR
VERSION:2.0
PRODID:-//Creatively United Community - ECPv6.15.18//NONSGML v1.0//EN
CALSCALE:GREGORIAN
METHOD:PUBLISH
X-ORIGINAL-URL:https://creativelyunited.org
X-WR-CALDESC:Events for Creatively United Community
REFRESH-INTERVAL;VALUE=DURATION:PT1H
X-Robots-Tag:noindex
X-PUBLISHED-TTL:PT1H
BEGIN:VTIMEZONE
TZID:America/Vancouver
BEGIN:DAYLIGHT
TZOFFSETFROM:-0800
TZOFFSETTO:-0700
TZNAME:PDT
DTSTART:20250309T100000
END:DAYLIGHT
BEGIN:STANDARD
TZOFFSETFROM:-0700
TZOFFSETTO:-0800
TZNAME:PST
DTSTART:20251102T090000
END:STANDARD
BEGIN:DAYLIGHT
TZOFFSETFROM:-0800
TZOFFSETTO:-0700
TZNAME:PDT
DTSTART:20260308T100000
END:DAYLIGHT
BEGIN:STANDARD
TZOFFSETFROM:-0700
TZOFFSETTO:-0800
TZNAME:PST
DTSTART:20261101T090000
END:STANDARD
BEGIN:DAYLIGHT
TZOFFSETFROM:-0800
TZOFFSETTO:-0700
TZNAME:PDT
DTSTART:20270314T100000
END:DAYLIGHT
BEGIN:STANDARD
TZOFFSETFROM:-0700
TZOFFSETTO:-0800
TZNAME:PST
DTSTART:20271107T090000
END:STANDARD
END:VTIMEZONE
BEGIN:VEVENT
DTSTART;TZID=America/Vancouver:20260418T140000
DTEND;TZID=America/Vancouver:20260418T160000
DTSTAMP:20260423T141809
CREATED:20260407T152400Z
LAST-MODIFIED:20260407T152400Z
UID:10010492-1776520800-1776528000@creativelyunited.org
SUMMARY:An Afternoon at the Movies for Friends of Bowker Creek
DESCRIPTION:Presented by the Oak Bay High Interact Club and the Rotary Club of Oak Bay\, this is a unique and exciting opportunity to help raise money for a good cause and watch award-winning films\, “Water is Love” and “A Plastic Wave.” All proceeds go to support the Friends of Bowker Creek 1000 Rain Gardens Project! \nEntertainment will also include draws\, door prizes\, and a silent auction. Before the show and during intermission\, you’ll have an opportunity to visit our information table to learn more about rain gardens as well as grab a tasty treat from our eco-friendly concession. \nTICKETS are by donation: $10 – $20 suggested\, or whatever you think is right! Get them at door or purchase them online in advance. \nHope to see you at the movies! \nURL:\nTickets: https://go.evvnt.com/3562336-0?pid=10320 \nPrices:\nGeneral Admission: CAD 10.00\,\nGeneral Admission: CAD 20.00 \nCategory: Community | Local / Community \nDate and Time: 18th April 2026 at 2:00 pm to 4:00 pm \nVenue details: Dave Dunnet Community Theatre\, 2121 Cadboro Bay Road\, Victoria\, British Columbia\, V8R 5G4\, Canada
URL:https://creativelyunited.org/event/an-afternoon-at-the-movies-for-friends-of-bowker-creek/
LOCATION:Dave Dunnet Community Theatre\, 2121 Cadboro Bay Road\, Victoria\, V8R 5G4
ATTACH;FMTTYPE=image/jpeg:https://creativelyunited.org/wp-content/uploads/2026/04/Bowker_Creek.jpg
ORGANIZER;CN="Rotary Club of Oak Bay":MAILTO:lyreforce@gmail.com
GEO:48.4328991;-123.3182134
X-APPLE-STRUCTURED-LOCATION;VALUE=URI;X-ADDRESS=Dave Dunnet Community Theatre 2121 Cadboro Bay Road Victoria V8R 5G4;X-APPLE-RADIUS=500;X-TITLE=2121 Cadboro Bay Road:geo:-123.3182134,48.4328991
END:VEVENT
END:VCALENDAR