BEGIN:VCALENDAR
VERSION:2.0
PRODID:-//Creatively United Community - ECPv6.15.18//NONSGML v1.0//EN
CALSCALE:GREGORIAN
METHOD:PUBLISH
X-ORIGINAL-URL:https://creativelyunited.org
X-WR-CALDESC:Events for Creatively United Community
REFRESH-INTERVAL;VALUE=DURATION:PT1H
X-Robots-Tag:noindex
X-PUBLISHED-TTL:PT1H
BEGIN:VTIMEZONE
TZID:America/Vancouver
BEGIN:DAYLIGHT
TZOFFSETFROM:-0800
TZOFFSETTO:-0700
TZNAME:PDT
DTSTART:20250309T100000
END:DAYLIGHT
BEGIN:STANDARD
TZOFFSETFROM:-0700
TZOFFSETTO:-0800
TZNAME:PST
DTSTART:20251102T090000
END:STANDARD
BEGIN:DAYLIGHT
TZOFFSETFROM:-0800
TZOFFSETTO:-0700
TZNAME:PDT
DTSTART:20260308T100000
END:DAYLIGHT
BEGIN:STANDARD
TZOFFSETFROM:-0700
TZOFFSETTO:-0800
TZNAME:PST
DTSTART:20261101T090000
END:STANDARD
BEGIN:DAYLIGHT
TZOFFSETFROM:-0800
TZOFFSETTO:-0700
TZNAME:PDT
DTSTART:20270314T100000
END:DAYLIGHT
BEGIN:STANDARD
TZOFFSETFROM:-0700
TZOFFSETTO:-0800
TZNAME:PST
DTSTART:20271107T090000
END:STANDARD
END:VTIMEZONE
BEGIN:VEVENT
DTSTART;TZID=America/Vancouver:20260408T153000
DTEND;TZID=America/Vancouver:20260408T163000
DTSTAMP:20260423T192526
CREATED:20260331T155357Z
LAST-MODIFIED:20260331T155357Z
UID:10010468-1775662200-1775665800@creativelyunited.org
SUMMARY:Here Comes the Sun: Driving a Renewable Energy Revolution
DESCRIPTION:Seniors for Climate is proud to host a timely discussion with climate author and activist Bill McKibben. This webinar will highlight the urgent need to raise our voices\, and build a stronger\, more effective climate movement together. McKibben will answer important questions\, and speak about his latest book\, Here Comes the Sun\, exploring why renewable energy is now poised to transform the world. The webinar will feature a keynote presentation followed by a live Q&A\, and will open with an update on Seniors for Climate’s 2026 campaign\, ‘Break Through the Climate Silence.’ Register today—you won’t want to miss this inspiring and important event. \nRegister here: https://us02web.zoom.us/webinar/register/WN_CaaTWVrqSlaVfw5L44pMJg#/registration
URL:https://creativelyunited.org/event/here-comes-the-sun-driving-a-renewable-energy-revolution/
LOCATION:Hosted on Zoom
ATTACH;FMTTYPE=image/jpeg:https://creativelyunited.org/wp-content/uploads/2026/03/Screenshot-2026-03-31-085052.jpg
ORGANIZER;CN="Seniors for Climate Victoria":MAILTO:sforcvictoria@gmail.com
END:VEVENT
END:VCALENDAR