BEGIN:VCALENDAR
VERSION:2.0
PRODID:-//Creatively United Community - ECPv6.15.18//NONSGML v1.0//EN
CALSCALE:GREGORIAN
METHOD:PUBLISH
X-ORIGINAL-URL:https://creativelyunited.org
X-WR-CALDESC:Events for Creatively United Community
REFRESH-INTERVAL;VALUE=DURATION:PT1H
X-Robots-Tag:noindex
X-PUBLISHED-TTL:PT1H
BEGIN:VTIMEZONE
TZID:America/Vancouver
BEGIN:DAYLIGHT
TZOFFSETFROM:-0800
TZOFFSETTO:-0700
TZNAME:PDT
DTSTART:20250309T100000
END:DAYLIGHT
BEGIN:STANDARD
TZOFFSETFROM:-0700
TZOFFSETTO:-0800
TZNAME:PST
DTSTART:20251102T090000
END:STANDARD
BEGIN:DAYLIGHT
TZOFFSETFROM:-0800
TZOFFSETTO:-0700
TZNAME:PDT
DTSTART:20260308T100000
END:DAYLIGHT
BEGIN:STANDARD
TZOFFSETFROM:-0700
TZOFFSETTO:-0800
TZNAME:PST
DTSTART:20261101T090000
END:STANDARD
BEGIN:DAYLIGHT
TZOFFSETFROM:-0800
TZOFFSETTO:-0700
TZNAME:PDT
DTSTART:20270314T100000
END:DAYLIGHT
BEGIN:STANDARD
TZOFFSETFROM:-0700
TZOFFSETTO:-0800
TZNAME:PST
DTSTART:20271107T090000
END:STANDARD
END:VTIMEZONE
BEGIN:VEVENT
DTSTART;TZID=America/Vancouver:20260128T190000
DTEND;TZID=America/Vancouver:20260128T210000
DTSTAMP:20260423T231122
CREATED:20260120T204157Z
LAST-MODIFIED:20260120T204157Z
UID:10009440-1769626800-1769634000@creativelyunited.org
SUMMARY:Queer and Trans Choir Vol 4.
DESCRIPTION:What: 2-hour choir hang where we warm-up our voices and hearts\, build community\, and learn and sing a brand new song (Silk Chiffon by Muna). Because this is a shorter time period for singing\, we will be sending out the music for each night a week before for you to listen to and get familiar with the song. \nWhere: Broadview United\, 3703 St. Aidan’s St\, Victoria \nWhen: Jan 28th – 7-9PM \nSnacks: Yes we will be providing snacks during our 15-20 min break \nPrice: $20-40 sliding scale per session\, please email us at gay4choir@gmail.com if money is a barrier\, no one turned away for lack of funds. \nTickets here: https://sweetflagvoicestudio.tickit.ca/events/32975-queer-trans-choir-vol-4
URL:https://creativelyunited.org/event/queer-and-trans-choir-vol-4/
LOCATION:Broad View United\, 3703 Saint Aidans Street\, Victoria\, V8P 2V7
GEO:48.4611667;-123.3296424
X-APPLE-STRUCTURED-LOCATION;VALUE=URI;X-ADDRESS=Broad View United 3703 Saint Aidans Street Victoria V8P 2V7;X-APPLE-RADIUS=500;X-TITLE=3703 Saint Aidans Street:geo:-123.3296424,48.4611667
END:VEVENT
END:VCALENDAR