BEGIN:VCALENDAR
VERSION:2.0
PRODID:-//Creatively United Community - ECPv6.15.18//NONSGML v1.0//EN
CALSCALE:GREGORIAN
METHOD:PUBLISH
X-ORIGINAL-URL:https://creativelyunited.org
X-WR-CALDESC:Events for Creatively United Community
REFRESH-INTERVAL;VALUE=DURATION:PT1H
X-Robots-Tag:noindex
X-PUBLISHED-TTL:PT1H
BEGIN:VTIMEZONE
TZID:America/Vancouver
BEGIN:DAYLIGHT
TZOFFSETFROM:-0800
TZOFFSETTO:-0700
TZNAME:PDT
DTSTART:20250309T100000
END:DAYLIGHT
BEGIN:STANDARD
TZOFFSETFROM:-0700
TZOFFSETTO:-0800
TZNAME:PST
DTSTART:20251102T090000
END:STANDARD
BEGIN:DAYLIGHT
TZOFFSETFROM:-0800
TZOFFSETTO:-0700
TZNAME:PDT
DTSTART:20260308T100000
END:DAYLIGHT
BEGIN:STANDARD
TZOFFSETFROM:-0700
TZOFFSETTO:-0800
TZNAME:PST
DTSTART:20261101T090000
END:STANDARD
BEGIN:DAYLIGHT
TZOFFSETFROM:-0800
TZOFFSETTO:-0700
TZNAME:PDT
DTSTART:20270314T100000
END:DAYLIGHT
BEGIN:STANDARD
TZOFFSETFROM:-0700
TZOFFSETTO:-0800
TZNAME:PST
DTSTART:20271107T090000
END:STANDARD
END:VTIMEZONE
BEGIN:VEVENT
DTSTART;TZID=America/Vancouver:20260613T120000
DTEND;TZID=America/Vancouver:20260613T190000
DTSTAMP:20260423T173724
CREATED:20260326T033220Z
LAST-MODIFIED:20260326T033220Z
UID:10010450-1781352000-1781377200@creativelyunited.org
SUMMARY:FERNWOOD FUN DAY!!
DESCRIPTION:We are doing a thing and continuing a Fernwood tradition*•+ \nSteph @owldesignerfair + Marcy @thefernwoodmakersparty are teaming up to host the STREET MARKET on Gladstone Ave. between the end of Gladstone Ave. by Fernwood square to the Fernwood Community Centre in Vic. \nRespectfully keeping with the vision Mila has created over the past 15 years______ \nA neighbourhood celebration of 90+ local artisans\, delicious food\, kids activities and community fun! Free admission\, everyone welcome. We hope you can join us for this family-friendly gathering to help support our friends at the Fernwood NRG. \nFERNWOOD FUN DAY!\nSATURDAY JUNE 13th\nNOON – 7pm \nFAMILY FRIENDLY AND FREE! \nWALK • BIKE • RIDE \nThere are several community events happening at FERNWOOD F U N D A Y on JUNE 13th with friends @lamppostvictoria @creamlifeandstyle @the_fcaa_ and @fernwoodnh \n#yyjevents #yyjarts #yyjmarkets #tourismvictoriabc #vanisle \nURL:\nFacebook: https://go.evvnt.com/3545513-0?pid=10320 \nDate and Time: On Saturday June 13\, 2026 at 12:00 – 19:00 \nVenue details: Fernwood Community Centre\, 1240 Gladstone Avenue\, Victoria\, British Columbia\, V8T 1G6\, Canada \nCategory: Community | Markets
URL:https://creativelyunited.org/event/fernwood-fun-day/
LOCATION:Fernwood Community Centre\, 1240 Gladstone Avenue\, Victoria\, V8T 1G6
ATTACH;FMTTYPE=image/jpeg:https://creativelyunited.org/wp-content/uploads/2026/03/3545513.jpg
ORGANIZER;CN="The Fernwood Makers Party + The OWL Design Fair":MAILTO:winter.bazaar.folx@gmail.com
GEO:48.4307463;-123.3480187
X-APPLE-STRUCTURED-LOCATION;VALUE=URI;X-ADDRESS=Fernwood Community Centre 1240 Gladstone Avenue Victoria V8T 1G6;X-APPLE-RADIUS=500;X-TITLE=1240 Gladstone Avenue:geo:-123.3480187,48.4307463
END:VEVENT
END:VCALENDAR