BEGIN:VCALENDAR
VERSION:2.0
PRODID:-//Creatively United Community - ECPv6.15.18//NONSGML v1.0//EN
CALSCALE:GREGORIAN
METHOD:PUBLISH
X-WR-CALNAME:Creatively United Community
X-ORIGINAL-URL:https://creativelyunited.org
X-WR-CALDESC:Events for Creatively United Community
REFRESH-INTERVAL;VALUE=DURATION:PT1H
X-Robots-Tag:noindex
X-PUBLISHED-TTL:PT1H
BEGIN:VTIMEZONE
TZID:America/Vancouver
BEGIN:DAYLIGHT
TZOFFSETFROM:-0800
TZOFFSETTO:-0700
TZNAME:PDT
DTSTART:20250309T100000
END:DAYLIGHT
BEGIN:STANDARD
TZOFFSETFROM:-0700
TZOFFSETTO:-0800
TZNAME:PST
DTSTART:20251102T090000
END:STANDARD
BEGIN:DAYLIGHT
TZOFFSETFROM:-0800
TZOFFSETTO:-0700
TZNAME:PDT
DTSTART:20260308T100000
END:DAYLIGHT
BEGIN:STANDARD
TZOFFSETFROM:-0700
TZOFFSETTO:-0800
TZNAME:PST
DTSTART:20261101T090000
END:STANDARD
BEGIN:DAYLIGHT
TZOFFSETFROM:-0800
TZOFFSETTO:-0700
TZNAME:PDT
DTSTART:20270314T100000
END:DAYLIGHT
BEGIN:STANDARD
TZOFFSETFROM:-0700
TZOFFSETTO:-0800
TZNAME:PST
DTSTART:20271107T090000
END:STANDARD
END:VTIMEZONE
BEGIN:VEVENT
DTSTART;TZID=America/Vancouver:20260418T110000
DTEND;TZID=America/Vancouver:20260418T140000
DTSTAMP:20260423T105412
CREATED:20250613T003401Z
LAST-MODIFIED:20250613T003401Z
UID:10007035-1776510000-1776520800@creativelyunited.org
SUMMARY:Ross Bay Villa Historic House and Garden Tours
DESCRIPTION:  \n“Journey back in time at Ross Bay Villa Historic House Museum\, a volunteer-led museum and restoration project located in Fairfield. On Thursdays and Fridays at 11AM and 1PM\, or Saturdays at 2PM\, walk down the path past heritage apple trees and beautiful gardens\, and step into one of only a few 1860s houses still standing in Victoria. From the bright and airy drawing room to the charming children’s bedroom\, the house has been restored with extraordinary care to appear as it did when the Roscoe family called it home.  \n  \nAdmission is $7.50 per person. Reservations preferred in advance at https://tinyurl.com/RossBayVillaTours. All funds support the volunteer-based Ross Bay Villa Society\, which owns and operates Ross Bay Villa. \n  \nDrop in a little early for your Saturday tour for our Gift Shop In the Garden\, a unique vintage store with everything from clothing and books to fine china and unexpected treasures. Stop by between 10-2\, and find something special! Please note this outdoor event is weather dependent\, and donations of gently used household items are gratefully accepted.” \n  \nPlease let me know if you have any questions. Thank you for your time.  \n  \n  \n 
URL:https://creativelyunited.org/event/ross-bay-villa-historic-house-and-garden-tours/2026-04-18/
LOCATION:Ross Bay Villa Historic House Museum\, 1490 Fairfield Road\, Victoria\, V8S 1E8
ORGANIZER;CN="Ross Bay Villa Historic House Museum":MAILTO:info@rossbayvilla.org
GEO:48.4119477;-123.3418228
X-APPLE-STRUCTURED-LOCATION;VALUE=URI;X-ADDRESS=Ross Bay Villa Historic House Museum 1490 Fairfield Road Victoria V8S 1E8;X-APPLE-RADIUS=500;X-TITLE=1490 Fairfield Road:geo:-123.3418228,48.4119477
END:VEVENT
END:VCALENDAR