BEGIN:VCALENDAR
VERSION:2.0
PRODID:-//Creatively United Community - ECPv6.15.18//NONSGML v1.0//EN
CALSCALE:GREGORIAN
METHOD:PUBLISH
X-WR-CALNAME:Creatively United Community
X-ORIGINAL-URL:https://creativelyunited.org
X-WR-CALDESC:Events for Creatively United Community
REFRESH-INTERVAL;VALUE=DURATION:PT1H
X-Robots-Tag:noindex
X-PUBLISHED-TTL:PT1H
BEGIN:VTIMEZONE
TZID:America/Vancouver
BEGIN:DAYLIGHT
TZOFFSETFROM:-0800
TZOFFSETTO:-0700
TZNAME:PDT
DTSTART:20250309T100000
END:DAYLIGHT
BEGIN:STANDARD
TZOFFSETFROM:-0700
TZOFFSETTO:-0800
TZNAME:PST
DTSTART:20251102T090000
END:STANDARD
BEGIN:DAYLIGHT
TZOFFSETFROM:-0800
TZOFFSETTO:-0700
TZNAME:PDT
DTSTART:20260308T100000
END:DAYLIGHT
BEGIN:STANDARD
TZOFFSETFROM:-0700
TZOFFSETTO:-0800
TZNAME:PST
DTSTART:20261101T090000
END:STANDARD
BEGIN:DAYLIGHT
TZOFFSETFROM:-0800
TZOFFSETTO:-0700
TZNAME:PDT
DTSTART:20270314T100000
END:DAYLIGHT
BEGIN:STANDARD
TZOFFSETFROM:-0700
TZOFFSETTO:-0800
TZNAME:PST
DTSTART:20271107T090000
END:STANDARD
END:VTIMEZONE
BEGIN:VEVENT
DTSTART;TZID=America/Vancouver:20260226T190000
DTEND;TZID=America/Vancouver:20260226T200000
DTSTAMP:20260423T182341
CREATED:20260108T173621Z
LAST-MODIFIED:20260108T173621Z
UID:10009091-1772132400-1772136000@creativelyunited.org
SUMMARY:Restoration of Our Past and Future: Towards a Way of Life (Free talk)
DESCRIPTION:Join Dr. Richard Heba to learn how we can all participate in the respectful rebalancing of global systems and human communities though big and small actions. \nThirty years ago\, Continuing Studies at UVic identified a training gap in the developing field of Restoration. Well ahead of others\, a unique program of holistic restoration blending science\, social sciences\, and the humanities emerged. From politics to plant ecology\, we invited all to participate whatever their background. We included practical experience in the field and in the human community. \nToday\, global systems of water (hydrosphere)\, air (atmosphere)\, life (biosphere) and land (geosphere) are widely out of balance as a fifth system humanity (sociosphere) robs energy and resources. Pushing aside the laws of nature\, our present system alters global climates and leads to the catastrophic depletion of the diversity of life. \nHolistic Restoration presents a way of life\, to bring humanity into equilibrium with the earth!
URL:https://creativelyunited.org/event/restoration-of-our-past-and-future-towards-a-way-of-life-free-talk/
LOCATION:Division of Continuing Studies\, the University of Victoria\, 3800 Finnerty Road\, Victoria\, V8P 5C2
GEO:48.4652238;-123.3084236
X-APPLE-STRUCTURED-LOCATION;VALUE=URI;X-ADDRESS=Division of Continuing Studies the University of Victoria 3800 Finnerty Road Victoria V8P 5C2;X-APPLE-RADIUS=500;X-TITLE=3800 Finnerty Road:geo:-123.3084236,48.4652238
END:VEVENT
END:VCALENDAR