BEGIN:VCALENDAR
VERSION:2.0
PRODID:-//Creatively United Community - ECPv6.15.18//NONSGML v1.0//EN
CALSCALE:GREGORIAN
METHOD:PUBLISH
X-WR-CALNAME:Creatively United Community
X-ORIGINAL-URL:https://creativelyunited.org
X-WR-CALDESC:Events for Creatively United Community
REFRESH-INTERVAL;VALUE=DURATION:PT1H
X-Robots-Tag:noindex
X-PUBLISHED-TTL:PT1H
BEGIN:VTIMEZONE
TZID:America/Vancouver
BEGIN:DAYLIGHT
TZOFFSETFROM:-0800
TZOFFSETTO:-0700
TZNAME:PDT
DTSTART:20250309T100000
END:DAYLIGHT
BEGIN:STANDARD
TZOFFSETFROM:-0700
TZOFFSETTO:-0800
TZNAME:PST
DTSTART:20251102T090000
END:STANDARD
BEGIN:DAYLIGHT
TZOFFSETFROM:-0800
TZOFFSETTO:-0700
TZNAME:PDT
DTSTART:20260308T100000
END:DAYLIGHT
BEGIN:STANDARD
TZOFFSETFROM:-0700
TZOFFSETTO:-0800
TZNAME:PST
DTSTART:20261101T090000
END:STANDARD
BEGIN:DAYLIGHT
TZOFFSETFROM:-0800
TZOFFSETTO:-0700
TZNAME:PDT
DTSTART:20270314T100000
END:DAYLIGHT
BEGIN:STANDARD
TZOFFSETFROM:-0700
TZOFFSETTO:-0800
TZNAME:PST
DTSTART:20271107T090000
END:STANDARD
END:VTIMEZONE
BEGIN:VEVENT
DTSTART;TZID=America/Vancouver:20260512T193000
DTEND;TZID=America/Vancouver:20260512T213000
DTSTAMP:20260423T105554
CREATED:20260421T183554Z
LAST-MODIFIED:20260421T183554Z
UID:10010542-1778614200-1778621400@creativelyunited.org
SUMMARY:Container Bog Gardening with Justin Dunning
DESCRIPTION:Bogs are bright open wetlands full of fascinating and colourful plants\, most of which make great garden plants near ponds or rivers\, and in containers for any landscape. Learn the basics of bog gardens and the diversity of plants that can be grown in them from a passionate grower and naturalist. \nThis will be a hybrid meeting with an in-person talk and on Zoom. For more about the Vancouver Island Rock and Alpine Garden Society\, visit https://www.virags.com. In-person and Zoom meetings (monthly other than July and August) are free for members. To join VIRAGS\, visit https://www.virags.com/join.html: $20/year for individuals\, $30/year for households. $6 cash drop-in fee for non-members. For the link to the Zoom meeting\, e-transfer $6 to virags.news@gmail.com\, noting your email address in the transfer.
URL:https://creativelyunited.org/event/container-bog-gardening-with-justin-dunning/
ATTACH;FMTTYPE=image/jpeg:https://creativelyunited.org/wp-content/uploads/2026/04/VIRAGS-Justin-Dunning-May2026.jpg
ORGANIZER;CN="@VancouverIslandRockandAlpineGardenSociety":MAILTO:contact@virags.com
END:VEVENT
END:VCALENDAR