BEGIN:VCALENDAR
VERSION:2.0
PRODID:-//Creatively United Community - ECPv6.15.18//NONSGML v1.0//EN
CALSCALE:GREGORIAN
METHOD:PUBLISH
X-ORIGINAL-URL:https://creativelyunited.org
X-WR-CALDESC:Events for Creatively United Community
REFRESH-INTERVAL;VALUE=DURATION:PT1H
X-Robots-Tag:noindex
X-PUBLISHED-TTL:PT1H
BEGIN:VTIMEZONE
TZID:America/Vancouver
BEGIN:DAYLIGHT
TZOFFSETFROM:-0800
TZOFFSETTO:-0700
TZNAME:PDT
DTSTART:20250309T100000
END:DAYLIGHT
BEGIN:STANDARD
TZOFFSETFROM:-0700
TZOFFSETTO:-0800
TZNAME:PST
DTSTART:20251102T090000
END:STANDARD
BEGIN:DAYLIGHT
TZOFFSETFROM:-0800
TZOFFSETTO:-0700
TZNAME:PDT
DTSTART:20260308T100000
END:DAYLIGHT
BEGIN:STANDARD
TZOFFSETFROM:-0700
TZOFFSETTO:-0800
TZNAME:PST
DTSTART:20261101T090000
END:STANDARD
BEGIN:DAYLIGHT
TZOFFSETFROM:-0800
TZOFFSETTO:-0700
TZNAME:PDT
DTSTART:20270314T100000
END:DAYLIGHT
BEGIN:STANDARD
TZOFFSETFROM:-0700
TZOFFSETTO:-0800
TZNAME:PST
DTSTART:20271107T090000
END:STANDARD
END:VTIMEZONE
BEGIN:VEVENT
DTSTART;TZID=America/Vancouver:20260427T190000
DTEND;TZID=America/Vancouver:20260427T210000
DTSTAMP:20260423T124042
CREATED:20251210T225127Z
LAST-MODIFIED:20251210T225127Z
UID:10008950-1777316400-1777323600@creativelyunited.org
SUMMARY:Love to Sing!!!!!! The Victoria Arion Male Choir Invitation to January 2026 Open Houses
DESCRIPTION:The Victoria Arion Male Choir: Tradition and Community \nAbout the Choir\nThe Victoria Arion Male Choir represents one of the newest additions to the vibrant choral scene in Victoria\, BC. Formed in the summer of 2018\, the choir is the result of the union between two long-standing ensembles: the Arion Male Voice Choir\, established in 1892\, and the Victoria Male Voice Choir\, founded in 1907. Both groups recognized the opportunity to better pursue their vision of creating “a community of men singing for health and joy” by coming together as one. This merger has proven to be a dynamic and successful venture\, yielding positive results both musically and organizationally. \nOur Mission\nThe choir is dedicated to sustaining the rich tradition of male-voice choral music. Each year\, members share their passion for music through a minimum of two public concerts\, as well as performances at seniors’ residences\, the Victoria Remembrance Day ceremony\, and other community events. In support of music education\, the Victoria Arion Male Choir offers a choral scholarship program\, inviting up to four student musicians annually to join and perform with the group. New members are always welcome to experience the camaraderie and joy of choral singing. \nLeadership\nUnder the direction of Musical Director Sean Lampard-Quicke\, who joined the choir in 2020\, and the accompaniment of collaborative pianist Jennifer Mitchell\, a member since 2019\, the choir continues to thrive and evolve. \nMembership and Rehearsals\nThe Victoria Arion Male Choir is actively seeking new singers for its non-audition choir\, beginning in January 2026. Open houses will be held on Mondays\, January 5th\, 12th\, and 19th; rehearsals start at 7:00 p.m. each Monday.  at Cordova Bay United Church\, located at 813 Claremont Ave. The choir performs four-part harmony\, with a diverse repertoire that includes classical\, spiritual\, folk\, and contemporary selections. Additionally\, the choir welcomes applications for its choral scholar program. \nFor those interested in joining as a new member or learning more about the choral scholar program\, please contact Jim Johnson at jimmysj@shaw.ca or visit the choir’s website at www.vamc.ca. \n 
URL:https://creativelyunited.org/event/love-to-sing-the-victoria-arion-male-choir-invitation-to-january-2026-open-houses/2026-04-27/
LOCATION:Cordova Bay United Church\, Claremont Avenue\, Victoria\, Capital Regional District\, V8Y 1J9\, Canada
GEO:48.5174235;-123.3773852
X-APPLE-STRUCTURED-LOCATION;VALUE=URI;X-ADDRESS=Cordova Bay United Church Claremont Avenue Victoria Capital Regional District V8Y 1J9 Canada;X-APPLE-RADIUS=500;X-TITLE=Claremont Avenue:geo:-123.3773852,48.5174235
END:VEVENT
END:VCALENDAR