BEGIN:VCALENDAR
VERSION:2.0
PRODID:-//Creatively United Community - ECPv6.15.18//NONSGML v1.0//EN
CALSCALE:GREGORIAN
METHOD:PUBLISH
X-WR-CALNAME:Creatively United Community
X-ORIGINAL-URL:https://creativelyunited.org
X-WR-CALDESC:Events for Creatively United Community
REFRESH-INTERVAL;VALUE=DURATION:PT1H
X-Robots-Tag:noindex
X-PUBLISHED-TTL:PT1H
BEGIN:VTIMEZONE
TZID:America/Vancouver
BEGIN:DAYLIGHT
TZOFFSETFROM:-0800
TZOFFSETTO:-0700
TZNAME:PDT
DTSTART:20250309T100000
END:DAYLIGHT
BEGIN:STANDARD
TZOFFSETFROM:-0700
TZOFFSETTO:-0800
TZNAME:PST
DTSTART:20251102T090000
END:STANDARD
BEGIN:DAYLIGHT
TZOFFSETFROM:-0800
TZOFFSETTO:-0700
TZNAME:PDT
DTSTART:20260308T100000
END:DAYLIGHT
BEGIN:STANDARD
TZOFFSETFROM:-0700
TZOFFSETTO:-0800
TZNAME:PST
DTSTART:20261101T090000
END:STANDARD
BEGIN:DAYLIGHT
TZOFFSETFROM:-0800
TZOFFSETTO:-0700
TZNAME:PDT
DTSTART:20270314T100000
END:DAYLIGHT
BEGIN:STANDARD
TZOFFSETFROM:-0700
TZOFFSETTO:-0800
TZNAME:PST
DTSTART:20271107T090000
END:STANDARD
END:VTIMEZONE
BEGIN:VEVENT
DTSTART;TZID=America/Vancouver:20260329T143000
DTEND;TZID=America/Vancouver:20260329T173000
DTSTAMP:20260424T020210
CREATED:20260327T002752Z
LAST-MODIFIED:20260327T002752Z
UID:10010452-1774794600-1774805400@creativelyunited.org
SUMMARY:Victoria Baroque Presents: St John Passion
DESCRIPTION:One of Bach’s two surviving Passions\, the St. John Passion translates the story of Jesus’ trial\, betrayal\, crucifixion\, and death on the cross into magnificent music. While the performance is in the lead up to Easter\, this concert experience is an opportunity to hear one of the season’s greatest works performed by the city’s finest musicians. \nBenjamin Butterfield\, Evangelist\nSuzie Leblanc\, soprano\nEmma Parkinson\, alto\nIsaiah Bell\, tenor\nNeil Craighead\, bass\nKyron Basu\, Jesus\nNathan MacDonald\, Pilate \nURLs:\nTickets: https://go.evvnt.com/3546001-0?pid=10320\nFacebook: https://go.evvnt.com/3546001-2?pid=10320\nInstagram: https://go.evvnt.com/3546001-3?pid=10320 \nDate and Time: On Sun\, 29 Mar 2026 14:30 – Sun\, 29 Mar 2026 17:30 \nVenue details: Christ Church Cathedral\, 930 Burdett Avenue\, Victoria\, British Columbia\, V8V 3G8\, Canada \nCategory: Live Music | Classical \nPrices:\nPremium (includes $50 tax receipt): CAD 100.00\,\nGeneral Admission: CAD 45.00\,\nStudent: CAD 15.00\,\nChild 7 – 12 with Adult: CAD 0.00 \nArtists: Benjamin Butterfield\, Suzie Leblanc\, Emma Parkinson\, Isaiah Bell\, Neil Craighead\, Kyron Basu\, Nathan MacDonald
URL:https://creativelyunited.org/event/victoria-baroque-presents-st-john-passion/
LOCATION:Christ Church Cathedral\, 930 Burdett Avenue\, Victoria\, V8V 3G8
ATTACH;FMTTYPE=image/jpeg:https://creativelyunited.org/wp-content/uploads/2026/03/3546001.jpg
ORGANIZER;CN="Victoria Baroque":MAILTO:info@victoria-baroque.com
GEO:48.4218118;-123.3602868
X-APPLE-STRUCTURED-LOCATION;VALUE=URI;X-ADDRESS=Christ Church Cathedral 930 Burdett Avenue Victoria V8V 3G8;X-APPLE-RADIUS=500;X-TITLE=930 Burdett Avenue:geo:-123.3602868,48.4218118
END:VEVENT
END:VCALENDAR