BEGIN:VCALENDAR
VERSION:2.0
PRODID:-//Creatively United Community - ECPv6.15.18//NONSGML v1.0//EN
CALSCALE:GREGORIAN
METHOD:PUBLISH
X-ORIGINAL-URL:https://creativelyunited.org
X-WR-CALDESC:Events for Creatively United Community
REFRESH-INTERVAL;VALUE=DURATION:PT1H
X-Robots-Tag:noindex
X-PUBLISHED-TTL:PT1H
BEGIN:VTIMEZONE
TZID:America/Vancouver
BEGIN:DAYLIGHT
TZOFFSETFROM:-0800
TZOFFSETTO:-0700
TZNAME:PDT
DTSTART:20250309T100000
END:DAYLIGHT
BEGIN:STANDARD
TZOFFSETFROM:-0700
TZOFFSETTO:-0800
TZNAME:PST
DTSTART:20251102T090000
END:STANDARD
BEGIN:DAYLIGHT
TZOFFSETFROM:-0800
TZOFFSETTO:-0700
TZNAME:PDT
DTSTART:20260308T100000
END:DAYLIGHT
BEGIN:STANDARD
TZOFFSETFROM:-0700
TZOFFSETTO:-0800
TZNAME:PST
DTSTART:20261101T090000
END:STANDARD
BEGIN:DAYLIGHT
TZOFFSETFROM:-0800
TZOFFSETTO:-0700
TZNAME:PDT
DTSTART:20270314T100000
END:DAYLIGHT
BEGIN:STANDARD
TZOFFSETFROM:-0700
TZOFFSETTO:-0800
TZNAME:PST
DTSTART:20271107T090000
END:STANDARD
END:VTIMEZONE
BEGIN:VEVENT
DTSTART;TZID=America/Vancouver:20260415T140000
DTEND;TZID=America/Vancouver:20260415T150000
DTSTAMP:20260423T180609
CREATED:20260331T161931Z
LAST-MODIFIED:20260331T161931Z
UID:10010469-1776261600-1776265200@creativelyunited.org
SUMMARY:The Changing Climate of Work: Green Jobs\, Skills\, and Sector Transitions
DESCRIPTION:From CASC: Scott Lundy\, Jim Stanford and Ben Simoni will discuss emerging green jobs\, evolving skill demands\, and the roles of unions\, employers\, and educational institutions in supporting workers through rapid sector transitions. Register here
URL:https://creativelyunited.org/event/the-changing-climate-of-work-green-jobs-skills-and-sector-transitions/
LOCATION:On Zoom
END:VEVENT
BEGIN:VEVENT
DTSTART;TZID=America/Vancouver:20260327T190000
DTEND;TZID=America/Vancouver:20260327T200000
DTSTAMP:20260423T180609
CREATED:20260324T164141Z
LAST-MODIFIED:20260325T204646Z
UID:10010446-1774638000-1774641600@creativelyunited.org
SUMMARY:‘Laxwesa Wa – Strength of the River’ Movie Night
DESCRIPTION:Laxwesa Wa – Strength of the River – directed by Barb Cranmer (1995\, 54 min)\, Indigenous filmmaker\nAs distinct fishing societies of great spiritual\, cultural and economic wealth\, Indigenous people have always respected the resources of their rivers and oceans. But within their own lifetime\, they have watched governments “manage” the fishery into a state of crisis. Now it’s time for people to listen to what Indigenous people have to say. Filmmaker Barb Cranmer\, a member of the ’Namgis First Nation\, explores the rich fishing traditions of the Sto:lo\, Heiltsuk and ‘Namgis peoples of Canada’s West Coast in Laxwesa Wa – Strength of the River. With over fifteen years’ experience fishing Johnstone Strait with her father\, Cranmer presents rarely heard stories of traditional fishing practices and documents Indigenous peoples’ efforts to build a sustainable fishery for the future. \nRegister here: https://westcoastclimateaction.ca/register-laxwesa-wa-strength-of-the-river/
URL:https://creativelyunited.org/event/laxwesa-wa-strength-of-the-river-movie-night/
LOCATION:Hosted on Zoom
ATTACH;FMTTYPE=image/jpeg:https://creativelyunited.org/wp-content/uploads/2026/03/Screenshot-2026-03-24-094013.jpg
END:VEVENT
BEGIN:VEVENT
DTSTART;TZID=America/Vancouver:20260327T120000
DTEND;TZID=America/Vancouver:20260327T130000
DTSTAMP:20260423T180609
CREATED:20260324T163903Z
LAST-MODIFIED:20260324T163903Z
UID:10010445-1774612800-1774616400@creativelyunited.org
SUMMARY:Lunch and Learn: First Nations Call for Safe\, Affordable Transportation
DESCRIPTION:Our guests Kristin Denby and Charlotte Bull from the BC Assembly of First Nations will share important messages from their Low Carbon Transportation Project\, which is working to accelerate opportunities for BC’s First Nations to access safe\, affordable\, and reliable low-carbon and active transportation\, including in rural and remote communities. \nOnline webinar meeting. \nRegister here: https://westcoastclimateaction.ca/lunch-and-learn-first-nations-safe-affordable-transportation/
URL:https://creativelyunited.org/event/lunch-and-learn-first-nations-call-for-safe-affordable-transportation/
LOCATION:Hosted on Zoom
ATTACH;FMTTYPE=image/jpeg:https://creativelyunited.org/wp-content/uploads/2026/03/Screenshot-2026-03-24-093718.jpg
END:VEVENT
END:VCALENDAR