BEGIN:VCALENDAR
VERSION:2.0
PRODID:-//Creatively United Community - ECPv6.15.18//NONSGML v1.0//EN
CALSCALE:GREGORIAN
METHOD:PUBLISH
X-ORIGINAL-URL:https://creativelyunited.org
X-WR-CALDESC:Events for Creatively United Community
REFRESH-INTERVAL;VALUE=DURATION:PT1H
X-Robots-Tag:noindex
X-PUBLISHED-TTL:PT1H
BEGIN:VTIMEZONE
TZID:America/Vancouver
BEGIN:DAYLIGHT
TZOFFSETFROM:-0800
TZOFFSETTO:-0700
TZNAME:PDT
DTSTART:20250309T100000
END:DAYLIGHT
BEGIN:STANDARD
TZOFFSETFROM:-0700
TZOFFSETTO:-0800
TZNAME:PST
DTSTART:20251102T090000
END:STANDARD
BEGIN:DAYLIGHT
TZOFFSETFROM:-0800
TZOFFSETTO:-0700
TZNAME:PDT
DTSTART:20260308T100000
END:DAYLIGHT
BEGIN:STANDARD
TZOFFSETFROM:-0700
TZOFFSETTO:-0800
TZNAME:PST
DTSTART:20261101T090000
END:STANDARD
BEGIN:DAYLIGHT
TZOFFSETFROM:-0800
TZOFFSETTO:-0700
TZNAME:PDT
DTSTART:20270314T100000
END:DAYLIGHT
BEGIN:STANDARD
TZOFFSETFROM:-0700
TZOFFSETTO:-0800
TZNAME:PST
DTSTART:20271107T090000
END:STANDARD
END:VTIMEZONE
BEGIN:VEVENT
DTSTART;TZID=America/Vancouver:20260314T110000
DTEND;TZID=America/Vancouver:20260314T160000
DTSTAMP:20260424T084751
CREATED:20251231T233645Z
LAST-MODIFIED:20251231T233645Z
UID:10009072-1773486000-1773504000@creativelyunited.org
SUMMARY:Hanami : Blossom Market
DESCRIPTION:Hanami is a fun filled day with traditional foods\, brilliant artists\, games and workshops. Explore an array of unique designers inspired by the first bursts of pink cherry blossoms of spring. Dress up and take photos with J-Fashion spirits\, while singing to Kpop Karaoke with local stars. This is a one day extravaganza to explore subcultures we adore in this art community. \nKids 12 and under are FREE\nAdults $4 TAP or CASH \nThe Fernwood Community Centre is accessible with a ramp inside (no elevator) and 3 accessible washrooms \nThe Fernwood Community Centre is wheel chair accessible at the main entrance off the street at 1240 Gladstone Ave. Through the main doorways there is a bit of a bump with the door frame 1′ high\, there are 3′ – 6′ wide doorways to each room with a 4′ wide ramp leading down to the gym. The centre is 70% fluorescent lighting and 30% natural light. There are 3 accessible washrooms\, 2 upper level and 1 ground level. It can be busy at these markets\, there is an Accessible Entrance 15 minutes before the doors open at 10:45am at the main entrance. \nFollow along on Instagram @withlocal.co and @thefernwoodmakersparty \n  \nDate and Time: On Sat\, 14 Mar 2026 11:00 – Sat\, 14 Mar 2026 16:00 \nVenue details: 1240 Gladstone Avenue\, Victoria\, British Columbia\, V8T 1G6\, Canada \nCategory: Community | Fairs | Craft Fairs \nPrice:\nGeneral Admission: CAD 4.00
URL:https://creativelyunited.org/event/hanami-blossom-market/
LOCATION:1240 Gladstone Avenue\, 1240 Gladstone Avenue\, Victoria\, V8T 1G6
ORGANIZER;CN="The Fernwood Makers Party and With Local Co.":MAILTO:shopcrybabyworkroom@gmail.com
END:VEVENT
END:VCALENDAR