BEGIN:VCALENDAR
VERSION:2.0
PRODID:-//Creatively United Community - ECPv6.15.18//NONSGML v1.0//EN
CALSCALE:GREGORIAN
METHOD:PUBLISH
X-WR-CALNAME:Creatively United Community
X-ORIGINAL-URL:https://creativelyunited.org
X-WR-CALDESC:Events for Creatively United Community
REFRESH-INTERVAL;VALUE=DURATION:PT1H
X-Robots-Tag:noindex
X-PUBLISHED-TTL:PT1H
BEGIN:VTIMEZONE
TZID:America/Vancouver
BEGIN:DAYLIGHT
TZOFFSETFROM:-0800
TZOFFSETTO:-0700
TZNAME:PDT
DTSTART:20250309T100000
END:DAYLIGHT
BEGIN:STANDARD
TZOFFSETFROM:-0700
TZOFFSETTO:-0800
TZNAME:PST
DTSTART:20251102T090000
END:STANDARD
BEGIN:DAYLIGHT
TZOFFSETFROM:-0800
TZOFFSETTO:-0700
TZNAME:PDT
DTSTART:20260308T100000
END:DAYLIGHT
BEGIN:STANDARD
TZOFFSETFROM:-0700
TZOFFSETTO:-0800
TZNAME:PST
DTSTART:20261101T090000
END:STANDARD
BEGIN:DAYLIGHT
TZOFFSETFROM:-0800
TZOFFSETTO:-0700
TZNAME:PDT
DTSTART:20270314T100000
END:DAYLIGHT
BEGIN:STANDARD
TZOFFSETFROM:-0700
TZOFFSETTO:-0800
TZNAME:PST
DTSTART:20271107T090000
END:STANDARD
END:VTIMEZONE
BEGIN:VEVENT
DTSTART;TZID=America/Vancouver:20260419T150000
DTEND;TZID=America/Vancouver:20260419T163000
DTSTAMP:20260424T074552
CREATED:20260204T182732Z
LAST-MODIFIED:20260205T164522Z
UID:10009755-1776610800-1776616200@creativelyunited.org
SUMMARY:Spiritual Teachings on Environmental Stewardship and Responsibility ✨🕊️
DESCRIPTION:About \nLeaders from diverse faith communities are gathering to share perspectives on environmental stewardship and sustainability\, drawing on their faith’s spiritual responsibilities to care for the Mother Earth. Participants aim to inspire collaborative action among faith groups\, political leaders and community members to advance Actionable Spirituality\, Environmental Care and Unity ultimately leading to World Peace. \nPurpose \nHeld in recognition of Earth Day which occurs annually on April 22 to promote Action on Spirituality\, Environmental Awareness and Unity leading to World Peace. \n \nNote:  \nIn 2026\, events will typically ramp up from April 18 through the 22nd\, including clean-ups\, tree planting and teach-ins.
URL:https://creativelyunited.org/event/spiritual-teachings-on-environmental-stewardship-and-responsibility/
LOCATION:2990 Quadra St.\, 2990 Quadra Street\, Victoria\, British Columbia\, V8T 4G1
END:VEVENT
END:VCALENDAR