BEGIN:VCALENDAR
VERSION:2.0
PRODID:-//Creatively United Community - ECPv6.15.18//NONSGML v1.0//EN
CALSCALE:GREGORIAN
METHOD:PUBLISH
X-WR-CALNAME:Creatively United Community
X-ORIGINAL-URL:https://creativelyunited.org
X-WR-CALDESC:Events for Creatively United Community
REFRESH-INTERVAL;VALUE=DURATION:PT1H
X-Robots-Tag:noindex
X-PUBLISHED-TTL:PT1H
BEGIN:VTIMEZONE
TZID:America/Vancouver
BEGIN:DAYLIGHT
TZOFFSETFROM:-0800
TZOFFSETTO:-0700
TZNAME:PDT
DTSTART:20250309T100000
END:DAYLIGHT
BEGIN:STANDARD
TZOFFSETFROM:-0700
TZOFFSETTO:-0800
TZNAME:PST
DTSTART:20251102T090000
END:STANDARD
BEGIN:DAYLIGHT
TZOFFSETFROM:-0800
TZOFFSETTO:-0700
TZNAME:PDT
DTSTART:20260308T100000
END:DAYLIGHT
BEGIN:STANDARD
TZOFFSETFROM:-0700
TZOFFSETTO:-0800
TZNAME:PST
DTSTART:20261101T090000
END:STANDARD
BEGIN:DAYLIGHT
TZOFFSETFROM:-0800
TZOFFSETTO:-0700
TZNAME:PDT
DTSTART:20270314T100000
END:DAYLIGHT
BEGIN:STANDARD
TZOFFSETFROM:-0700
TZOFFSETTO:-0800
TZNAME:PST
DTSTART:20271107T090000
END:STANDARD
END:VTIMEZONE
BEGIN:VEVENT
DTSTART;TZID=America/Vancouver:20260502T090000
DTEND;TZID=America/Vancouver:20260502T150000
DTSTAMP:20260423T124027
CREATED:20260415T222711Z
LAST-MODIFIED:20260415T222711Z
UID:10010524-1777712400-1777734000@creativelyunited.org
SUMMARY:Swan Lake Native Plant Sale
DESCRIPTION:We’re excited to announce our 31st annual Native Plant Sale will be on May 2nd and 3rd! Don’t miss out on your chance to shop a diverse variety of native plants. \n100% of the proceeds from the Native Plant Sale directly supports Swan Lake Nature Sanctuary’s conservation and stewardship work. \nThis event offers a unique chance to do hands-on reconciliation\, and promotes ecosystem restoration\, and biodiversity by adding native plants to your garden. You can help support native pollinators and provide important habitats for many living things from your own garden\, balconies\, and windowsills! \nWhere: Swan Lake Nature Sanctuary\, 3873 Swan Lake Road\nWhen: Saturday May 2nd 9:00 am – 3:00 pm & Sunday May 3rd\, 9:00 am – 12:00 pm\nWho: Everyone welcome!\nCost: Free admission and parking
URL:https://creativelyunited.org/event/swan-lake-native-plant-sale/2026-05-02/
LOCATION:3873 Swan Lake Road\, Victoria\, B.C. Canada\, V8X 3W1\, 3873 Swan Lake Road\, Victoria\, BC\, V8X 3W1
ATTACH;FMTTYPE=image/png:https://creativelyunited.org/wp-content/uploads/2026/04/NPS-Header-2026.png
ORGANIZER;CN="Swan Lake Nature Sanctuary":MAILTO:info@swanlake.bc.ca
END:VEVENT
END:VCALENDAR