BEGIN:VCALENDAR
VERSION:2.0
PRODID:-//Creatively United Community - ECPv6.15.18//NONSGML v1.0//EN
CALSCALE:GREGORIAN
METHOD:PUBLISH
X-WR-CALNAME:Creatively United Community
X-ORIGINAL-URL:https://creativelyunited.org
X-WR-CALDESC:Events for Creatively United Community
REFRESH-INTERVAL;VALUE=DURATION:PT1H
X-Robots-Tag:noindex
X-PUBLISHED-TTL:PT1H
BEGIN:VTIMEZONE
TZID:America/Vancouver
BEGIN:DAYLIGHT
TZOFFSETFROM:-0800
TZOFFSETTO:-0700
TZNAME:PDT
DTSTART:20250309T100000
END:DAYLIGHT
BEGIN:STANDARD
TZOFFSETFROM:-0700
TZOFFSETTO:-0800
TZNAME:PST
DTSTART:20251102T090000
END:STANDARD
BEGIN:DAYLIGHT
TZOFFSETFROM:-0800
TZOFFSETTO:-0700
TZNAME:PDT
DTSTART:20260308T100000
END:DAYLIGHT
BEGIN:STANDARD
TZOFFSETFROM:-0700
TZOFFSETTO:-0800
TZNAME:PST
DTSTART:20261101T090000
END:STANDARD
BEGIN:DAYLIGHT
TZOFFSETFROM:-0800
TZOFFSETTO:-0700
TZNAME:PDT
DTSTART:20270314T100000
END:DAYLIGHT
BEGIN:STANDARD
TZOFFSETFROM:-0700
TZOFFSETTO:-0800
TZNAME:PST
DTSTART:20271107T090000
END:STANDARD
END:VTIMEZONE
BEGIN:VEVENT
DTSTART;TZID=America/Vancouver:20260325T170000
DTEND;TZID=America/Vancouver:20260325T180000
DTSTAMP:20260424T150732
CREATED:20260119T061708Z
LAST-MODIFIED:20260121T163954Z
UID:10009125-1774458000-1774461600@creativelyunited.org
SUMMARY:PUT YOUR LIFE ON A NEW TRACK
DESCRIPTION:AUTHOR ANTHONY HAMILTON IS HOSTING A LIVE\, DROP-IN SESSION EACH WEDNESDAY FROM 5PM TO 6PM AT A KINDER CUP COFFEE\, 101-1503 ADMIRALS ROAD. FOR THE PRICE OF A CUP OF COFFEE\, YOU’LL MEET SOME NEW FRIENDS AND LEARN MANIFESTATION PRINCIPLES.
URL:https://creativelyunited.org/event/put-your-life-on-a-new-track-2/2026-03-25/
LOCATION:A Kinder Cup\, 1503 Admirals Rd\, Victoria\, BC\, V9A 2P8\, Canada
END:VEVENT
END:VCALENDAR