BEGIN:VCALENDAR
VERSION:2.0
PRODID:-//Creatively United Community - ECPv6.15.18//NONSGML v1.0//EN
CALSCALE:GREGORIAN
METHOD:PUBLISH
X-ORIGINAL-URL:https://creativelyunited.org
X-WR-CALDESC:Events for Creatively United Community
REFRESH-INTERVAL;VALUE=DURATION:PT1H
X-Robots-Tag:noindex
X-PUBLISHED-TTL:PT1H
BEGIN:VTIMEZONE
TZID:America/Vancouver
BEGIN:DAYLIGHT
TZOFFSETFROM:-0800
TZOFFSETTO:-0700
TZNAME:PDT
DTSTART:20250309T100000
END:DAYLIGHT
BEGIN:STANDARD
TZOFFSETFROM:-0700
TZOFFSETTO:-0800
TZNAME:PST
DTSTART:20251102T090000
END:STANDARD
BEGIN:DAYLIGHT
TZOFFSETFROM:-0800
TZOFFSETTO:-0700
TZNAME:PDT
DTSTART:20260308T100000
END:DAYLIGHT
BEGIN:STANDARD
TZOFFSETFROM:-0700
TZOFFSETTO:-0800
TZNAME:PST
DTSTART:20261101T090000
END:STANDARD
BEGIN:DAYLIGHT
TZOFFSETFROM:-0800
TZOFFSETTO:-0700
TZNAME:PDT
DTSTART:20270314T100000
END:DAYLIGHT
BEGIN:STANDARD
TZOFFSETFROM:-0700
TZOFFSETTO:-0800
TZNAME:PST
DTSTART:20271107T090000
END:STANDARD
END:VTIMEZONE
BEGIN:VEVENT
DTSTART;TZID=America/Vancouver:20260228T100000
DTEND;TZID=America/Vancouver:20260228T150000
DTSTAMP:20260424T031536
CREATED:20251212T215623Z
LAST-MODIFIED:20251212T215623Z
UID:10008993-1772272800-1772290800@creativelyunited.org
SUMMARY:Sooke Seedy Saturday
DESCRIPTION:Presented by Sooke Region Food CHI\, this annual family-friendly local food event is the gardening festival of the year in Sooke. Seed\, plant and gardening vendors as well as wild harvesters and food artisans fill the 88-year-old Sooke Community Hall with energy and excitement about growing\, making and gathering food in the Sooke Region. There’s also a seed exchange\, workshops and educational displays\, kids activities and  great raffle prizes.
URL:https://creativelyunited.org/event/sooke-seedy-saturday/
LOCATION:Sooke Community Hall\, 2037 Sheilds Road\, Sooke\, British Columbia\, V9Z0L6\, Canada
ORGANIZER;CN="Sooke Region Food CHI":MAILTO:seedysaturday@sookefoodchi.ca
GEO:48.377211;-123.7253973
X-APPLE-STRUCTURED-LOCATION;VALUE=URI;X-ADDRESS=Sooke Community Hall 2037 Sheilds Road Sooke British Columbia V9Z0L6 Canada;X-APPLE-RADIUS=500;X-TITLE=2037 Sheilds Road:geo:-123.7253973,48.377211
END:VEVENT
END:VCALENDAR