BEGIN:VCALENDAR
VERSION:2.0
PRODID:-//Creatively United Community - ECPv6.15.18//NONSGML v1.0//EN
CALSCALE:GREGORIAN
METHOD:PUBLISH
X-WR-CALNAME:Creatively United Community
X-ORIGINAL-URL:https://creativelyunited.org
X-WR-CALDESC:Events for Creatively United Community
REFRESH-INTERVAL;VALUE=DURATION:PT1H
X-Robots-Tag:noindex
X-PUBLISHED-TTL:PT1H
BEGIN:VTIMEZONE
TZID:America/Vancouver
BEGIN:DAYLIGHT
TZOFFSETFROM:-0800
TZOFFSETTO:-0700
TZNAME:PDT
DTSTART:20250309T100000
END:DAYLIGHT
BEGIN:STANDARD
TZOFFSETFROM:-0700
TZOFFSETTO:-0800
TZNAME:PST
DTSTART:20251102T090000
END:STANDARD
BEGIN:DAYLIGHT
TZOFFSETFROM:-0800
TZOFFSETTO:-0700
TZNAME:PDT
DTSTART:20260308T100000
END:DAYLIGHT
BEGIN:STANDARD
TZOFFSETFROM:-0700
TZOFFSETTO:-0800
TZNAME:PST
DTSTART:20261101T090000
END:STANDARD
BEGIN:DAYLIGHT
TZOFFSETFROM:-0800
TZOFFSETTO:-0700
TZNAME:PDT
DTSTART:20270314T100000
END:DAYLIGHT
BEGIN:STANDARD
TZOFFSETFROM:-0700
TZOFFSETTO:-0800
TZNAME:PST
DTSTART:20271107T090000
END:STANDARD
END:VTIMEZONE
BEGIN:VEVENT
DTSTART;TZID=America/Vancouver:20260314T193000
DTEND;TZID=America/Vancouver:20260314T213000
DTSTAMP:20260424T100613
CREATED:20260212T195701Z
LAST-MODIFIED:20260212T195701Z
UID:10009785-1773516600-1773523800@creativelyunited.org
SUMMARY:OSTARA PROJECT: Roots & Wings Concert
DESCRIPTION:IMMERSIVE EXPERIENCE: A WEEKLONG RESIDENCY INCLUDING A FILM SCREENING AND CONCERT  \nOnly five percent of jazz instrumentalists are women. The Ostara Project is changing that.  \nIn celebration of International Women’s Day\, this genre-bending jazz collective amplifies the voices of women in music. Events include films\, workshops\, jam sessions\, high school outreach\, and interdisciplinary performances blending visual art and sound. \nFounded by award-winning musicians Jodi Proznick (bass) and Amanda Tosoff (piano)\, The Ostara Project brings together some of Canada’s most exceptional female jazz artists—each a bandleader\, composer\, and visionary in her own right. What began with a debut album in 2022 has grown into a bold movement of creativity and cultural expression. \nFRI MAR 13: The residency features a Documentary Film Night\, offering behind-the-scenes insight into the making of Roots and Wings and the lived experiences of women in jazz. Featuring a new short film and a 30-minute documentary\, the screening shares stories of identity\, equity\, and resilience in a traditionally male-dominated field. \nBUY FILM TICKETS ($15) \nSAT MAR 14: ArtSpring is proud to present Roots & Wings\, Ostara’s new double album and performance experience. This deeply personal work celebrates ancestral heritage\, creative risk-taking\, and the power of musical collaboration. The ensemble includes Proznick\, Tosoff\, Allison Au (sax)\, Rachel Therrien (trumpet)\, Valérie Lacombe (drums)\, and guest vocalist Kim Zombik. \nBUY CONCERT TICKETS ($10 youth\, $42 adult) \nJoin us for this multi-night celebration of music\, voice\, and transformation—where roots ground us and wings set us free. \nThank you to John Moore for sponsoring this performance.
URL:https://creativelyunited.org/event/ostara-project-roots-wings-concert/
LOCATION:ArtSpring\, 100 Jackson Ave\, Salt Spring Island\, British Columbia\, V8K 2V8\, Canada
GEO:48.8516419;-123.5022609
X-APPLE-STRUCTURED-LOCATION;VALUE=URI;X-ADDRESS=ArtSpring 100 Jackson Ave Salt Spring Island British Columbia V8K 2V8 Canada;X-APPLE-RADIUS=500;X-TITLE=100 Jackson Ave:geo:-123.5022609,48.8516419
END:VEVENT
BEGIN:VEVENT
DTSTART;TZID=America/Vancouver:20260213T193000
DTEND;TZID=America/Vancouver:20260213T213000
DTSTAMP:20260424T100613
CREATED:20260212T195613Z
LAST-MODIFIED:20260212T195613Z
UID:10009784-1771011000-1771018200@creativelyunited.org
SUMMARY:OSTARA PROJECT: Roots & Wings Documentary Film Night
DESCRIPTION:IMMERSIVE EXPERIENCE: A WEEKLONG RESIDENCY INCLUDING A FILM SCREENING AND CONCERT  \nOnly five percent of jazz instrumentalists are women. The Ostara Project is changing that.  \nIn celebration of International Women’s Day\, this genre-bending jazz collective amplifies the voices of women in music. Events include films\, workshops\, jam sessions\, high school outreach\, and interdisciplinary performances blending visual art and sound. \nFounded by award-winning musicians Jodi Proznick (bass) and Amanda Tosoff (piano)\, The Ostara Project brings together some of Canada’s most exceptional female jazz artists—each a bandleader\, composer\, and visionary in her own right. What began with a debut album in 2022 has grown into a bold movement of creativity and cultural expression. \nFRI MAR 13: The residency features a Documentary Film Night\, offering behind-the-scenes insight into the making of Roots and Wings and the lived experiences of women in jazz. Featuring a new short film and a 30-minute documentary\, the screening shares stories of identity\, equity\, and resilience in a traditionally male-dominated field. \nBUY FILM TICKETS ($10 youth\, $15 adults) \nSAT MAR 14: ArtSpring is proud to present Roots & Wings\, Ostara’s new double album and performance experience. This deeply personal work celebrates ancestral heritage\, creative risk-taking\, and the power of musical collaboration. The ensemble includes Proznick\, Tosoff\, Allison Au (sax)\, Rachel Therrien (trumpet)\, Valérie Lacombe (drums)\, and guest vocalist Kim Zombik. \nBUY CONCERT TICKETS ($10 youth\, $42 adults) \nJoin us for this multi-night celebration of music\, voice\, and transformation—where roots ground us and wings set us free. \nThank you to John Moore for sponsoring this performance.
URL:https://creativelyunited.org/event/ostara-project-roots-wings-documentary-film-night/
LOCATION:ArtSpring\, 100 Jackson Ave\, Salt Spring Island\, British Columbia\, V8K 2V8\, Canada
GEO:48.8516419;-123.5022609
X-APPLE-STRUCTURED-LOCATION;VALUE=URI;X-ADDRESS=ArtSpring 100 Jackson Ave Salt Spring Island British Columbia V8K 2V8 Canada;X-APPLE-RADIUS=500;X-TITLE=100 Jackson Ave:geo:-123.5022609,48.8516419
END:VEVENT
END:VCALENDAR