BEGIN:VCALENDAR
VERSION:2.0
PRODID:-//Creatively United Community - ECPv6.15.18//NONSGML v1.0//EN
CALSCALE:GREGORIAN
METHOD:PUBLISH
X-ORIGINAL-URL:https://creativelyunited.org
X-WR-CALDESC:Events for Creatively United Community
REFRESH-INTERVAL;VALUE=DURATION:PT1H
X-Robots-Tag:noindex
X-PUBLISHED-TTL:PT1H
BEGIN:VTIMEZONE
TZID:America/Vancouver
BEGIN:DAYLIGHT
TZOFFSETFROM:-0800
TZOFFSETTO:-0700
TZNAME:PDT
DTSTART:20250309T100000
END:DAYLIGHT
BEGIN:STANDARD
TZOFFSETFROM:-0700
TZOFFSETTO:-0800
TZNAME:PST
DTSTART:20251102T090000
END:STANDARD
BEGIN:DAYLIGHT
TZOFFSETFROM:-0800
TZOFFSETTO:-0700
TZNAME:PDT
DTSTART:20260308T100000
END:DAYLIGHT
BEGIN:STANDARD
TZOFFSETFROM:-0700
TZOFFSETTO:-0800
TZNAME:PST
DTSTART:20261101T090000
END:STANDARD
BEGIN:DAYLIGHT
TZOFFSETFROM:-0800
TZOFFSETTO:-0700
TZNAME:PDT
DTSTART:20270314T100000
END:DAYLIGHT
BEGIN:STANDARD
TZOFFSETFROM:-0700
TZOFFSETTO:-0800
TZNAME:PST
DTSTART:20271107T090000
END:STANDARD
END:VTIMEZONE
BEGIN:VEVENT
DTSTART;TZID=America/Vancouver:20260201T163000
DTEND;TZID=America/Vancouver:20260201T190000
DTSTAMP:20260424T063659
CREATED:20260107T030732Z
LAST-MODIFIED:20260107T030732Z
UID:10009090-1769963400-1769972400@creativelyunited.org
SUMMARY:World Religions Conference
DESCRIPTION:Especially now\, where religiously and politically motivated terrorism is happening increasingly worldwide\, “Building Bridges”\, which is the theme of this conference\, will help and encourage us through knowledge and goodwill\, to live together with respect and friendship. \nIt’s going to be on Saturday\, February 1st\, starting at 4:30 pm PST (Vancouver time). Details are in the attachment. Please reserve this afternoon in your calendar. \nAs always\, the panel presentations are followed by a complementary East Indian dinner hosted by the Islamic Community. \nCome and join us\, spread the word\, and contribute to World Peace this way. \n 
URL:https://creativelyunited.org/event/world-religions-conference/
LOCATION:Cedar Room\, Saanich Commonwealth Place\, 4636 Elk Lake Drive\, Saanich\, Canada
END:VEVENT
END:VCALENDAR