BEGIN:VCALENDAR
VERSION:2.0
PRODID:-//Creatively United Community - ECPv6.15.18//NONSGML v1.0//EN
CALSCALE:GREGORIAN
METHOD:PUBLISH
X-ORIGINAL-URL:https://creativelyunited.org
X-WR-CALDESC:Events for Creatively United Community
REFRESH-INTERVAL;VALUE=DURATION:PT1H
X-Robots-Tag:noindex
X-PUBLISHED-TTL:PT1H
BEGIN:VTIMEZONE
TZID:America/Vancouver
BEGIN:DAYLIGHT
TZOFFSETFROM:-0800
TZOFFSETTO:-0700
TZNAME:PDT
DTSTART:20250309T100000
END:DAYLIGHT
BEGIN:STANDARD
TZOFFSETFROM:-0700
TZOFFSETTO:-0800
TZNAME:PST
DTSTART:20251102T090000
END:STANDARD
BEGIN:DAYLIGHT
TZOFFSETFROM:-0800
TZOFFSETTO:-0700
TZNAME:PDT
DTSTART:20260308T100000
END:DAYLIGHT
BEGIN:STANDARD
TZOFFSETFROM:-0700
TZOFFSETTO:-0800
TZNAME:PST
DTSTART:20261101T090000
END:STANDARD
BEGIN:DAYLIGHT
TZOFFSETFROM:-0800
TZOFFSETTO:-0700
TZNAME:PDT
DTSTART:20270314T100000
END:DAYLIGHT
BEGIN:STANDARD
TZOFFSETFROM:-0700
TZOFFSETTO:-0800
TZNAME:PST
DTSTART:20271107T090000
END:STANDARD
END:VTIMEZONE
BEGIN:VEVENT
DTSTART;TZID=America/Vancouver:20260421T080000
DTEND;TZID=America/Vancouver:20260421T170000
DTSTAMP:20260423T105543
CREATED:20260327T002755Z
LAST-MODIFIED:20260327T002755Z
UID:10010458-1776758400-1776790800@creativelyunited.org
SUMMARY:Colwood Connect Fest: Celebrate Spring with Colwood Community Groups
DESCRIPTION:Join CENiC and other community groups at the Colwood Connect Fest: Celebrate Spring with Colwood Community Groups event. This will include the annual Mayor’s message\, and the CENiC Awards! \n\n6:00 – 7:00 pm: Meet the groups\n7:00 – 7:30 pm: Presentations and awards
URL:https://creativelyunited.org/event/colwood-connect-fest-celebrate-spring-with-colwood-community-groups/2026-04-21/
LOCATION:Colwood City Hall\, 3300 Wishart Road\, Colwood
ATTACH;FMTTYPE=image/jpeg:https://creativelyunited.org/wp-content/uploads/2026/03/CENiC-2.jpg
END:VEVENT
BEGIN:VEVENT
DTSTART;TZID=America/Vancouver:20260331T183000
DTEND;TZID=America/Vancouver:20260331T200000
DTSTAMP:20260423T105544
CREATED:20260327T002754Z
LAST-MODIFIED:20260327T002754Z
UID:10010455-1774981800-1774987200@creativelyunited.org
SUMMARY:CENiC and The Lorax - We can all "speak for the trees"
DESCRIPTION:Meet the Citizens’ Environment Ndewtork in Colwood (CENiC) at City Hall for a free\, family-friendly evening celebrating nature and community! Learn about fun\, hands-on ways to support nature\, watch the original 1972 The Lorax\, and enter to win prizes. Bring the whole family and come to be inspired to care for our planet together.\nRegister via Eventbrite
URL:https://creativelyunited.org/event/cenic-and-the-lorax-we-can-all-speak-for-the-trees/
LOCATION:Colwood City Hall\, 3300 Wishart Road\, Colwood
ATTACH;FMTTYPE=image/jpeg:https://creativelyunited.org/wp-content/uploads/2026/03/lorax.jpeg
END:VEVENT
END:VCALENDAR