BEGIN:VCALENDAR
VERSION:2.0
PRODID:-//Creatively United Community - ECPv6.15.18//NONSGML v1.0//EN
CALSCALE:GREGORIAN
METHOD:PUBLISH
X-ORIGINAL-URL:https://creativelyunited.org
X-WR-CALDESC:Events for Creatively United Community
REFRESH-INTERVAL;VALUE=DURATION:PT1H
X-Robots-Tag:noindex
X-PUBLISHED-TTL:PT1H
BEGIN:VTIMEZONE
TZID:America/Vancouver
BEGIN:DAYLIGHT
TZOFFSETFROM:-0800
TZOFFSETTO:-0700
TZNAME:PDT
DTSTART:20250309T100000
END:DAYLIGHT
BEGIN:STANDARD
TZOFFSETFROM:-0700
TZOFFSETTO:-0800
TZNAME:PST
DTSTART:20251102T090000
END:STANDARD
BEGIN:DAYLIGHT
TZOFFSETFROM:-0800
TZOFFSETTO:-0700
TZNAME:PDT
DTSTART:20260308T100000
END:DAYLIGHT
BEGIN:STANDARD
TZOFFSETFROM:-0700
TZOFFSETTO:-0800
TZNAME:PST
DTSTART:20261101T090000
END:STANDARD
BEGIN:DAYLIGHT
TZOFFSETFROM:-0800
TZOFFSETTO:-0700
TZNAME:PDT
DTSTART:20270314T100000
END:DAYLIGHT
BEGIN:STANDARD
TZOFFSETFROM:-0700
TZOFFSETTO:-0800
TZNAME:PST
DTSTART:20271107T090000
END:STANDARD
END:VTIMEZONE
BEGIN:VEVENT
DTSTART;TZID=America/Vancouver:20260418T193000
DTEND;TZID=America/Vancouver:20260418T220000
DTSTAMP:20260423T160028
CREATED:20260409T165501Z
LAST-MODIFIED:20260409T165501Z
UID:10010506-1776540600-1776549600@creativelyunited.org
SUMMARY:Earth Day Do-Si-Do: A Contradance Fundraiser
DESCRIPTION:100% of money from ticket sales goes to the PEPAKEṈ HÁUTW̱ Foundation\, a W̱SÁNEĆ-based non-profit focused on ecosystem restoration and land-based education. \n7:30pm intro lesson (no experience or partner required!) \n8 pm – 10 pm dance \nLive Band: Tzela \nCaller: Ben Cracknell \n$15-$50 suggested donation \n  \n 
URL:https://creativelyunited.org/event/earth-day-do-si-do-a-contradance-fundraiser/
LOCATION:Fernwood Community Centre\, 1240 Gladstone Avenue\, Victoria\, V8T 1G6
ORGANIZER;CN="VIDEA":MAILTO:bmeikle@videa.ca
GEO:48.4307463;-123.3480187
X-APPLE-STRUCTURED-LOCATION;VALUE=URI;X-ADDRESS=Fernwood Community Centre 1240 Gladstone Avenue Victoria V8T 1G6;X-APPLE-RADIUS=500;X-TITLE=1240 Gladstone Avenue:geo:-123.3480187,48.4307463
END:VEVENT
BEGIN:VEVENT
DTSTART;TZID=America/Vancouver:20260418T110000
DTEND;TZID=America/Vancouver:20260418T160000
DTSTAMP:20260423T160028
CREATED:20260327T002753Z
LAST-MODIFIED:20260327T002753Z
UID:10010454-1776510000-1776528000@creativelyunited.org
SUMMARY:HAND CUT FASHION Market
DESCRIPTION:Hand-cut • Printed • Dyed \nA convergence of clothing designer and fashion\, in one room! Find one of a kind pieces to add to your collection\, with over 30 Artist and Designers from across the island and Vancouver. \nExplore a vast variety of shapes and textures to express your own unique style. \nOne day only • APRIL 18th \n11-4pm at 1240 Gladstone Ave at the Fernwood Community Centre \nAmple change rooms\, Nail Art nook\, jewelry\, bags and a tasters and food outside. \n$4 TAP or CASH at the door \nFollow @thefernwoodmakersparty on IG\n@the fernwood makers PARTY on FB \nDate and Time: On Sat\, 18 Apr 2026 11:00 – 16:00 \nVenue details: Fernwood Community Centre\, 1240 Gladstone Avenue\, Victoria\, British Columbia\, V8T 1G6\, Canada \nCategory: Community | Markets
URL:https://creativelyunited.org/event/hand-cut-fashion-market/
LOCATION:Fernwood Community Centre\, 1240 Gladstone Avenue\, Victoria\, V8T 1G6
ATTACH;FMTTYPE=image/jpeg:https://creativelyunited.org/wp-content/uploads/2026/03/3545502_jp_460.jpg
ORGANIZER;CN="The Fernwood Makers Party":MAILTO:winter.bazaar.folx@gmail.com
GEO:48.4307463;-123.3480187
X-APPLE-STRUCTURED-LOCATION;VALUE=URI;X-ADDRESS=Fernwood Community Centre 1240 Gladstone Avenue Victoria V8T 1G6;X-APPLE-RADIUS=500;X-TITLE=1240 Gladstone Avenue:geo:-123.3480187,48.4307463
END:VEVENT
END:VCALENDAR