BEGIN:VCALENDAR
VERSION:2.0
PRODID:-//Creatively United Community - ECPv6.15.18//NONSGML v1.0//EN
CALSCALE:GREGORIAN
METHOD:PUBLISH
X-ORIGINAL-URL:https://creativelyunited.org
X-WR-CALDESC:Events for Creatively United Community
REFRESH-INTERVAL;VALUE=DURATION:PT1H
X-Robots-Tag:noindex
X-PUBLISHED-TTL:PT1H
BEGIN:VTIMEZONE
TZID:America/Vancouver
BEGIN:DAYLIGHT
TZOFFSETFROM:-0800
TZOFFSETTO:-0700
TZNAME:PDT
DTSTART:20250309T100000
END:DAYLIGHT
BEGIN:STANDARD
TZOFFSETFROM:-0700
TZOFFSETTO:-0800
TZNAME:PST
DTSTART:20251102T090000
END:STANDARD
BEGIN:DAYLIGHT
TZOFFSETFROM:-0800
TZOFFSETTO:-0700
TZNAME:PDT
DTSTART:20260308T100000
END:DAYLIGHT
BEGIN:STANDARD
TZOFFSETFROM:-0700
TZOFFSETTO:-0800
TZNAME:PST
DTSTART:20261101T090000
END:STANDARD
BEGIN:DAYLIGHT
TZOFFSETFROM:-0800
TZOFFSETTO:-0700
TZNAME:PDT
DTSTART:20270314T100000
END:DAYLIGHT
BEGIN:STANDARD
TZOFFSETFROM:-0700
TZOFFSETTO:-0800
TZNAME:PST
DTSTART:20271107T090000
END:STANDARD
END:VTIMEZONE
BEGIN:VEVENT
DTSTART;TZID=America/Vancouver:20260202T190000
DTEND;TZID=America/Vancouver:20260202T210000
DTSTAMP:20260424T002742
CREATED:20260112T172424Z
LAST-MODIFIED:20260112T172424Z
UID:10009098-1770058800-1770066000@creativelyunited.org
SUMMARY:Ukulele Strumalong
DESCRIPTION:Fee: $10\nStrumalong from 7pm – 9pm\nSong books available for purchase at the stage for $30 per book\nFirst come\, first served as seats cannot be reserved.\nCome early for food and drink at 5:30 – support your neighbourhood pub \nURL:\nWebsite: https://evvnt.com/events/?_ev_id=3422586 \nDate and Time:\nMonday February 02\, 2026\n( 7:00 PM – 9:00 PM) \nVenue Details: Fernwood Inn\, 1302 Gladstone Avenue\, Victoria\, British Columbia\, V8R 1S1\, Canada \nCategory: Community | Local / Community
URL:https://creativelyunited.org/event/ukulele-strumalong-4/
LOCATION:Fernwood Inn\, 1302 Gladstone Avenue\, Victoria\, V8R 1S1
END:VEVENT
END:VCALENDAR