BEGIN:VCALENDAR
VERSION:2.0
PRODID:-//Creatively United Community - ECPv6.15.18//NONSGML v1.0//EN
CALSCALE:GREGORIAN
METHOD:PUBLISH
X-WR-CALNAME:Creatively United Community
X-ORIGINAL-URL:https://creativelyunited.org
X-WR-CALDESC:Events for Creatively United Community
REFRESH-INTERVAL;VALUE=DURATION:PT1H
X-Robots-Tag:noindex
X-PUBLISHED-TTL:PT1H
BEGIN:VTIMEZONE
TZID:America/Vancouver
BEGIN:DAYLIGHT
TZOFFSETFROM:-0800
TZOFFSETTO:-0700
TZNAME:PDT
DTSTART:20250309T100000
END:DAYLIGHT
BEGIN:STANDARD
TZOFFSETFROM:-0700
TZOFFSETTO:-0800
TZNAME:PST
DTSTART:20251102T090000
END:STANDARD
BEGIN:DAYLIGHT
TZOFFSETFROM:-0800
TZOFFSETTO:-0700
TZNAME:PDT
DTSTART:20260308T100000
END:DAYLIGHT
BEGIN:STANDARD
TZOFFSETFROM:-0700
TZOFFSETTO:-0800
TZNAME:PST
DTSTART:20261101T090000
END:STANDARD
BEGIN:DAYLIGHT
TZOFFSETFROM:-0800
TZOFFSETTO:-0700
TZNAME:PDT
DTSTART:20270314T100000
END:DAYLIGHT
BEGIN:STANDARD
TZOFFSETFROM:-0700
TZOFFSETTO:-0800
TZNAME:PST
DTSTART:20271107T090000
END:STANDARD
END:VTIMEZONE
BEGIN:VEVENT
DTSTART;TZID=America/Vancouver:20260523T110000
DTEND;TZID=America/Vancouver:20260524T160000
DTSTAMP:20260423T173241
CREATED:20260422T231709Z
LAST-MODIFIED:20260422T231709Z
UID:10010580-1779534000-1779638400@creativelyunited.org
SUMMARY:CREAM Bazaar Vol. 4
DESCRIPTION:Meet us in the Fernwood Square – right in the heart of Fernwood – for TWO days of markets\, music\, and a little bit of magic and a little bit of magic. \nThink live tunes drifting through the air\, artists doing their thing and DIFFERENT vendors each day so there’s always something new to discover.  Plus a little cosmic guidance and spontaneous creativity along the way…. \nTarot & Astrology Readings \nPop Up Poetry Moments \nDifferent Vendors & Artists each day \nLive Music & Entertainment \ndress up encouraged! (Seriously\, go all in) \nPull up\, hang out\, make a day of it \nFernwood Square (Fernwood & Gladstone) \nSaturday May 23 & Sunday May 24 \n11-4PM \nBring your crew\, meet someone new\, and be a part of a weekend that’s buzzing with creativity\, music\, and community magic!
URL:https://creativelyunited.org/event/cream-bazaar-vol-4/
LOCATION:Fernwood Square\, Fernwood Road\, Victoria\, BC\, V8T 1G6
ATTACH;FMTTYPE=image/jpeg:https://creativelyunited.org/wp-content/uploads/2026/04/DBB5D43A-2832-40D3-9C7F-9E81AAE95315.jpeg
ORGANIZER;CN="@creamlifeandstyle":MAILTO:stacey@creamlifeandstyle.ca
GEO:48.4304713;-123.3451863
X-APPLE-STRUCTURED-LOCATION;VALUE=URI;X-ADDRESS=Fernwood Square Fernwood Road Victoria BC V8T 1G6;X-APPLE-RADIUS=500;X-TITLE=Fernwood Road:geo:-123.3451863,48.4304713
END:VEVENT
END:VCALENDAR