BEGIN:VCALENDAR
VERSION:2.0
PRODID:-//Creatively United Community - ECPv6.15.18//NONSGML v1.0//EN
CALSCALE:GREGORIAN
METHOD:PUBLISH
X-ORIGINAL-URL:https://creativelyunited.org
X-WR-CALDESC:Events for Creatively United Community
REFRESH-INTERVAL;VALUE=DURATION:PT1H
X-Robots-Tag:noindex
X-PUBLISHED-TTL:PT1H
BEGIN:VTIMEZONE
TZID:America/Vancouver
BEGIN:DAYLIGHT
TZOFFSETFROM:-0800
TZOFFSETTO:-0700
TZNAME:PDT
DTSTART:20250309T100000
END:DAYLIGHT
BEGIN:STANDARD
TZOFFSETFROM:-0700
TZOFFSETTO:-0800
TZNAME:PST
DTSTART:20251102T090000
END:STANDARD
BEGIN:DAYLIGHT
TZOFFSETFROM:-0800
TZOFFSETTO:-0700
TZNAME:PDT
DTSTART:20260308T100000
END:DAYLIGHT
BEGIN:STANDARD
TZOFFSETFROM:-0700
TZOFFSETTO:-0800
TZNAME:PST
DTSTART:20261101T090000
END:STANDARD
BEGIN:DAYLIGHT
TZOFFSETFROM:-0800
TZOFFSETTO:-0700
TZNAME:PDT
DTSTART:20270314T100000
END:DAYLIGHT
BEGIN:STANDARD
TZOFFSETFROM:-0700
TZOFFSETTO:-0800
TZNAME:PST
DTSTART:20271107T090000
END:STANDARD
END:VTIMEZONE
BEGIN:VEVENT
DTSTART;TZID=America/Vancouver:20260314T193000
DTEND;TZID=America/Vancouver:20260314T210000
DTSTAMP:20260424T011025
CREATED:20250918T163738Z
LAST-MODIFIED:20250918T163738Z
UID:10007975-1773516600-1773522000@creativelyunited.org
SUMMARY:Ensemble Caprice (CANADA)
DESCRIPTION:Back by popular demand\, Ensemble Caprice\, under the direction of dynamic Artistic Director Matthias Maute\, returns to Victoria. \nA whirlwind of fiery passion and dazzling virtuosity\, Vivaldi on Fire sets the stage ablaze with music by Antonio Vivaldi and vibrant\, anonymous works from the Eastern European Uhrovska zbierka collection (1730). \nEnsemble Caprice’s signature energy brings to life Vivaldi’s double recorder concerto RV 535 and the dramatic motet In furore iustissimae irae\, showcasing both instrumental brilliance and vocal intensity. The beloved La Follia sonata radiates wild invention\, while rarely heard cantatas offer moments of intimacy and elegance. Interwoven throughout the program\, spirited dances and preludes from the Uhrovska zbierka evoke a nomadic soundscape-raw\, rhythmic\, and irresistible. This unique dialogue between Baroque Italy and the folk traditions of Eastern Europe invites listeners into a musical journey of contrasts and connections\, where refinement meets rustic fire. \nURLs:\nTickets: https://go.evvnt.com/3258599-0?pid=10320\nWebsite: https://go.evvnt.com/3258599-3?pid=10320 \nDate and Time: Sat\, 14 Mar 2026 19:30 – Sat\, 14 Mar 2026 21:00 \nVenue details: First Church of Christ\, Scientist Victoria\, 1205 Pandora Avenue\, Victoria\, British Columbia\, V8V 3R3\, Canada \nCategory: Arts | Performing Arts | Music \nPrices:\nGeneral Admission: CAD 35.00\,\nUnder 30: CAD 20.00\,\nYouth/Student: CAD 5.00 \nArtist: Ensemble Caprice
URL:https://creativelyunited.org/event/ensemble-caprice-canada/
LOCATION:First Church of Christ\, Scientist Victoria\, 1205 Pandora Avenue\, Victoria\, V8V 3R3
GEO:48.4268461;-123.3500655
X-APPLE-STRUCTURED-LOCATION;VALUE=URI;X-ADDRESS=First Church of Christ Scientist Victoria 1205 Pandora Avenue Victoria V8V 3R3;X-APPLE-RADIUS=500;X-TITLE=1205 Pandora Avenue:geo:-123.3500655,48.4268461
END:VEVENT
BEGIN:VEVENT
DTSTART;TZID=America/Vancouver:20260228T193000
DTEND;TZID=America/Vancouver:20260228T210000
DTSTAMP:20260424T011025
CREATED:20250918T163734Z
LAST-MODIFIED:20250918T163734Z
UID:10007974-1772307000-1772312400@creativelyunited.org
SUMMARY:Strawberry Fields - Ruckus (USA)
DESCRIPTION:This dynamic Baroque ensemble is indeed creating a ruckus\, with their visceral and playful approach to early music. \nFeaturing two brilliant soloists\, flutist Emi Ferguson and violinist Rachell Ellen Wong\, Ruckus will bring us a rousing concert featuring instrumental music of Handel and his contemporary\, the English former slave Ignatius Sancho\, a remarkable figure in late 18th Century London and prolific composer of dance music. \n“. . . achingly delicate one moment\, incisive and punchy the next . . . a fizzing\, daring display of personality and imagination.” – New York Times \n“. . . not simply a new level\, but a revelatory new dimension of dynamism altogether. “ – the Boston Musical Intellegencer \nURLs:\nTickets: https://go.evvnt.com/3258591-0?pid=10320\nWebsite: https://go.evvnt.com/3258591-3?pid=10320\nWebsite: https://go.evvnt.com/3258591-4?pid=10320 \nDate and Time: Sat\, 28 Feb 2026 19:30 – Sat\, 28 Feb 2026 21:00 \nVenue details: First Church of Christ\, Scientist Victoria\, 1205 Pandora Avenue\, Victoria\, British Columbia\, V8V 3R3\, Canada \nCategory: Live Music | Concert \nPrices:\nGeneral Admission: CAD 35.00\,\nUnder 30: CAD 20.00\,\nYouth/Student: CAD 5.00 \nArtists: Emi Ferguson\, Rachell Ellen Wong
URL:https://creativelyunited.org/event/strawberry-fields-ruckus-usa/
LOCATION:First Church of Christ\, Scientist Victoria\, 1205 Pandora Avenue\, Victoria\, V8V 3R3
GEO:48.4268461;-123.3500655
X-APPLE-STRUCTURED-LOCATION;VALUE=URI;X-ADDRESS=First Church of Christ Scientist Victoria 1205 Pandora Avenue Victoria V8V 3R3;X-APPLE-RADIUS=500;X-TITLE=1205 Pandora Avenue:geo:-123.3500655,48.4268461
END:VEVENT
BEGIN:VEVENT
DTSTART;TZID=America/Vancouver:20260131T193000
DTEND;TZID=America/Vancouver:20260131T210000
DTSTAMP:20260424T011025
CREATED:20250911T163151Z
LAST-MODIFIED:20250911T163151Z
UID:10007920-1769887800-1769893200@creativelyunited.org
SUMMARY:Bach and Khayyam with CONSTANTINOPLE (CANADA)
DESCRIPTION:The ever-popular\, ground-breaking ensemble Constantinople examines two great musical geniuses\, presenting arrangements of some of the most beautiful spiritual songs and arias of JS Bach in dialogue with poems of Omar Khayyam sung in Persian. \nSeparated by time and space\, the two geniuses of Johann Sebastian Bach and Persian mathematician-poet Omar Khayyam were nonetheless among similar heights of greatness. Ensemble Constantinople and soprano Hana Blažiková bring these two visionaries together in dialogue\, intertwining arias by Bach with the contemplative and expressive poetry of Khayyam. \nInspired by the ancient city illuminating the East and West\, Constantinople was founded in 2001 in Montreal by its artistic director\, Kiya Tabassian. \nThe ensemble has 23 albums to its credit on labels Analekta\, Atma\, World Village\, Buda Musique\, Ma Case\, Dreyer Gaido and Glossa. Over the course of the decade\, Constantinople has created 60 works and travelled to more than 290 cities in 57 countries. \n“. . . thoughtful\, shimmering with a thousand colours\, sensual and passionate.” – Dr. Matthias Lang\, from Magazin.klassik.com \nURLs:\nTickets: https://go.evvnt.com/3240407-0?pid=10320\nWebsite: https://go.evvnt.com/3240407-2?pid=10320\nWebsite: https://go.evvnt.com/3240407-3?pid=10320 \nDate and Time: Saturday\, 31 January 2026 at 19:30 – 21:00 \nVenue details: First Church of Christ\, Scientist Victoria\, 1205 Pandora Avenue\, Victoria\, British Columbia\, V8V 3R3\, Canada \nCategory: Arts | Performing Arts | Music \nPrices:\nGeneral Admission: CAD 35.00\,\nUnder 30: CAD 20.00\,\nYouth/Student: CAD 5.00 \nArtists: abels Analekta\, Atma\, World Village\, Buda Musique\, Ma Case\, Dreyer Gaido \, Glossa\, Constantinople
URL:https://creativelyunited.org/event/bach-and-khayyam-with-constantinople-canada/
LOCATION:First Church of Christ\, Scientist Victoria\, 1205 Pandora Avenue\, Victoria\, V8V 3R3
GEO:48.4268461;-123.3500655
X-APPLE-STRUCTURED-LOCATION;VALUE=URI;X-ADDRESS=First Church of Christ Scientist Victoria 1205 Pandora Avenue Victoria V8V 3R3;X-APPLE-RADIUS=500;X-TITLE=1205 Pandora Avenue:geo:-123.3500655,48.4268461
END:VEVENT
END:VCALENDAR