BEGIN:VCALENDAR
VERSION:2.0
PRODID:-//Creatively United Community - ECPv6.15.18//NONSGML v1.0//EN
CALSCALE:GREGORIAN
METHOD:PUBLISH
X-ORIGINAL-URL:https://creativelyunited.org
X-WR-CALDESC:Events for Creatively United Community
REFRESH-INTERVAL;VALUE=DURATION:PT1H
X-Robots-Tag:noindex
X-PUBLISHED-TTL:PT1H
BEGIN:VTIMEZONE
TZID:America/Vancouver
BEGIN:DAYLIGHT
TZOFFSETFROM:-0800
TZOFFSETTO:-0700
TZNAME:PDT
DTSTART:20250309T100000
END:DAYLIGHT
BEGIN:STANDARD
TZOFFSETFROM:-0700
TZOFFSETTO:-0800
TZNAME:PST
DTSTART:20251102T090000
END:STANDARD
BEGIN:DAYLIGHT
TZOFFSETFROM:-0800
TZOFFSETTO:-0700
TZNAME:PDT
DTSTART:20260308T100000
END:DAYLIGHT
BEGIN:STANDARD
TZOFFSETFROM:-0700
TZOFFSETTO:-0800
TZNAME:PST
DTSTART:20261101T090000
END:STANDARD
BEGIN:DAYLIGHT
TZOFFSETFROM:-0800
TZOFFSETTO:-0700
TZNAME:PDT
DTSTART:20270314T100000
END:DAYLIGHT
BEGIN:STANDARD
TZOFFSETFROM:-0700
TZOFFSETTO:-0800
TZNAME:PST
DTSTART:20271107T090000
END:STANDARD
END:VTIMEZONE
BEGIN:VEVENT
DTSTART;TZID=America/Vancouver:20260524T130000
DTEND;TZID=America/Vancouver:20260524T150000
DTSTAMP:20260423T141809
CREATED:20260208T175437Z
LAST-MODIFIED:20260208T175437Z
UID:10009772-1779627600-1779634800@creativelyunited.org
SUMMARY:Creative Eco-Mindfulness Workshop
DESCRIPTION:Unite your love of art and nature during this series of creative mindfulness two-hour workshops! \nThrough expressive arts\, eco-mindfulness practices\, and supportive community\, we will take good care of eco-anxiety/grief and nurture hope in relationship with the earth. \nA little different each time\, the three workshops will feature guided deep relaxation\, gentle movement\, journaling\, collaging\, and singing. \nNo prior experience or training in any art forms is required. Following the workshop\, participants will have the option to spend an additional hour on a self-guided nature walk around the gardens. \nThis workshop is facilitated by Anna Bigland-Pritchard\, a local soprano\, songwriter\, voice teacher\, Expressive Arts Therapy student\, and lover of the earth. Anna is also 1/2 of opera+ ensemble\, Gay4Nature Collective along with Alex Chen\, and co-directs the Queer&Trans Choir Project with Em Postl.
URL:https://creativelyunited.org/event/creative-eco-mindfulness-workshop/2026-05-24/
LOCATION:Horticulture Centre of the Pacific\, 505 Quayle Road\, Victoria\, V9E 2J7
ATTACH;FMTTYPE=image/png:https://creativelyunited.org/wp-content/uploads/2026/02/Banner-Creative-Eco-Mindfulness-980-x-552-px.png
ORGANIZER;CN="Anna Bigland-Pritchard":MAILTO:anna@abpcreative.ca
GEO:48.5008606;-123.4136905
X-APPLE-STRUCTURED-LOCATION;VALUE=URI;X-ADDRESS=Horticulture Centre of the Pacific 505 Quayle Road Victoria V9E 2J7;X-APPLE-RADIUS=500;X-TITLE=505 Quayle Road:geo:-123.4136905,48.5008606
END:VEVENT
END:VCALENDAR