BEGIN:VCALENDAR
VERSION:2.0
PRODID:-//Creatively United Community - ECPv6.15.18//NONSGML v1.0//EN
CALSCALE:GREGORIAN
METHOD:PUBLISH
X-ORIGINAL-URL:https://creativelyunited.org
X-WR-CALDESC:Events for Creatively United Community
REFRESH-INTERVAL;VALUE=DURATION:PT1H
X-Robots-Tag:noindex
X-PUBLISHED-TTL:PT1H
BEGIN:VTIMEZONE
TZID:America/Vancouver
BEGIN:DAYLIGHT
TZOFFSETFROM:-0800
TZOFFSETTO:-0700
TZNAME:PDT
DTSTART:20250309T100000
END:DAYLIGHT
BEGIN:STANDARD
TZOFFSETFROM:-0700
TZOFFSETTO:-0800
TZNAME:PST
DTSTART:20251102T090000
END:STANDARD
BEGIN:DAYLIGHT
TZOFFSETFROM:-0800
TZOFFSETTO:-0700
TZNAME:PDT
DTSTART:20260308T100000
END:DAYLIGHT
BEGIN:STANDARD
TZOFFSETFROM:-0700
TZOFFSETTO:-0800
TZNAME:PST
DTSTART:20261101T090000
END:STANDARD
BEGIN:DAYLIGHT
TZOFFSETFROM:-0800
TZOFFSETTO:-0700
TZNAME:PDT
DTSTART:20270314T100000
END:DAYLIGHT
BEGIN:STANDARD
TZOFFSETFROM:-0700
TZOFFSETTO:-0800
TZNAME:PST
DTSTART:20271107T090000
END:STANDARD
END:VTIMEZONE
BEGIN:VEVENT
DTSTART;TZID=America/Vancouver:20260322T133000
DTEND;TZID=America/Vancouver:20260322T150000
DTSTAMP:20260424T035410
CREATED:20260309T181255Z
LAST-MODIFIED:20260309T181255Z
UID:10010024-1774186200-1774191600@creativelyunited.org
SUMMARY:Water Is Love Screening
DESCRIPTION:
URL:https://creativelyunited.org/event/water-is-love-screening/
LOCATION:James Bay United Church\, 511 Michigan Street\, Victoria\, BC\, V8V 1S1
ATTACH;FMTTYPE=image/jpeg:https://creativelyunited.org/wp-content/uploads/2026/03/Screenshot-2026-03-09-111206.jpg
GEO:48.416698;-123.372602
X-APPLE-STRUCTURED-LOCATION;VALUE=URI;X-ADDRESS=James Bay United Church 511 Michigan Street Victoria BC V8V 1S1;X-APPLE-RADIUS=500;X-TITLE=511 Michigan Street:geo:-123.372602,48.416698
END:VEVENT
BEGIN:VEVENT
DTSTART;TZID=America/Vancouver:20260131T140000
DTEND;TZID=America/Vancouver:20260131T160000
DTSTAMP:20260424T035410
CREATED:20251223T052308Z
LAST-MODIFIED:20251223T052308Z
UID:10009065-1769868000-1769875200@creativelyunited.org
SUMMARY:The Victoria Jazz All-Stars celebrate the New Year with the EARLY NYE Jazz Party!
DESCRIPTION:New Years Eve 2025 \nJoin us for a Special Afternoon Celebration for the whole community! \nDecember 31st\, 2pm-4pm \nThe Victoria Jazz All-Stars celebrate the New Year with a well-loved Victoria tradition – the EARLY NYE Jazz Party! \nSIX of the city’s TOP jazz musicians get together to SWING IN the New Year in style with a fun and casual – everyone welcome- New Year’s Eve celebration from 2-4 pm at James Bay United Church! \nMiguelito Valdes – trumpet/ congas\nRoy Syffe – saxophone\nRichard Moody – violin\nLouise Rose – piano/ vocals\nAdrian Veddady – bass\nKelby MacNayr – drums/ vocals \nAdmission by donation\n($20-$40 suggested but ALL are welcome regardless of funds) \nJames Bay United Church\,\n511 Michigan St\nVictoria\, BC \n*accessible ramp on the West side of the building \nCategory: Arts | Performing Arts | Music \nDate and Time: Wednesday December 31\, 2025 at 2:00 pm to 4:00 pm \nVenue details: James Bay United Church\, 511 Michigan Street\, Victoria\, British Columbia\, V8V 1S1\, Canada
URL:https://creativelyunited.org/event/the-victoria-jazz-all-stars-celebrate-the-new-year-with-the-early-nye-jazz-party/
LOCATION:James Bay United Church\, 511 Michigan Street\, Victoria\, BC\, V8V 1S1
GEO:48.416698;-123.372602
X-APPLE-STRUCTURED-LOCATION;VALUE=URI;X-ADDRESS=James Bay United Church 511 Michigan Street Victoria BC V8V 1S1;X-APPLE-RADIUS=500;X-TITLE=511 Michigan Street:geo:-123.372602,48.416698
END:VEVENT
END:VCALENDAR